BEGIN:VCALENDAR
VERSION:2.0
PRODID:-//2026 LA County Fair - ECPv6.15.17.1//NONSGML v1.0//EN
CALSCALE:GREGORIAN
METHOD:PUBLISH
X-WR-CALNAME:2026 LA County Fair
X-ORIGINAL-URL:https://www.lacountyfair.com
X-WR-CALDESC:Events for 2026 LA County Fair
REFRESH-INTERVAL;VALUE=DURATION:PT1H
X-Robots-Tag:noindex
X-PUBLISHED-TTL:PT1H
BEGIN:VTIMEZONE
TZID:America/Los_Angeles
BEGIN:DAYLIGHT
TZOFFSETFROM:-0800
TZOFFSETTO:-0700
TZNAME:PDT
DTSTART:20250309T100000
END:DAYLIGHT
BEGIN:STANDARD
TZOFFSETFROM:-0700
TZOFFSETTO:-0800
TZNAME:PST
DTSTART:20251102T090000
END:STANDARD
BEGIN:DAYLIGHT
TZOFFSETFROM:-0800
TZOFFSETTO:-0700
TZNAME:PDT
DTSTART:20260308T100000
END:DAYLIGHT
BEGIN:STANDARD
TZOFFSETFROM:-0700
TZOFFSETTO:-0800
TZNAME:PST
DTSTART:20261101T090000
END:STANDARD
BEGIN:DAYLIGHT
TZOFFSETFROM:-0800
TZOFFSETTO:-0700
TZNAME:PDT
DTSTART:20270314T100000
END:DAYLIGHT
BEGIN:STANDARD
TZOFFSETFROM:-0700
TZOFFSETTO:-0800
TZNAME:PST
DTSTART:20271107T090000
END:STANDARD
END:VTIMEZONE
BEGIN:VEVENT
DTSTART;TZID=America/Los_Angeles:20260524T130000
DTEND;TZID=America/Los_Angeles:20260524T140000
DTSTAMP:20260425T190548
CREATED:20260424T032947Z
LAST-MODIFIED:20260424T032947Z
UID:10004247-1779627600-1779631200@www.lacountyfair.com
SUMMARY:Bordeaux/Bordeaux Supérieur Wines!
DESCRIPTION:
URL:https://www.lacountyfair.com/event/bordeaux-bordeaux-superieur-wines/
LOCATION:The Tasting Room
CATEGORIES:Education,Food
END:VEVENT
BEGIN:VEVENT
DTSTART;TZID=America/Los_Angeles:20260524T150000
DTEND;TZID=America/Los_Angeles:20260524T160000
DTSTAMP:20260425T190548
CREATED:20260424T032948Z
LAST-MODIFIED:20260424T032948Z
UID:10004248-1779634800-1779638400@www.lacountyfair.com
SUMMARY:A Rainbow of Riesling—from Dry to Sweet!
DESCRIPTION:
URL:https://www.lacountyfair.com/event/a-rainbow-of-riesling-from-dry-to-sweet/
LOCATION:The Tasting Room
CATEGORIES:Education,Food
END:VEVENT
BEGIN:VEVENT
DTSTART;TZID=America/Los_Angeles:20260524T170000
DTEND;TZID=America/Los_Angeles:20260524T180000
DTSTAMP:20260425T190548
CREATED:20260424T032949Z
LAST-MODIFIED:20260424T032949Z
UID:10004249-1779642000-1779645600@www.lacountyfair.com
SUMMARY:Wine\, Cheese\, and Chocolate!
DESCRIPTION:
URL:https://www.lacountyfair.com/event/wine-cheese-and-chocolate/
LOCATION:The Tasting Room
CATEGORIES:Education,Food
END:VEVENT
BEGIN:VEVENT
DTSTART;TZID=America/Los_Angeles:20260525T110000
DTEND;TZID=America/Los_Angeles:20260525T220000
DTSTAMP:20260425T190548
CREATED:20260424T034743Z
LAST-MODIFIED:20260424T034743Z
UID:10004366-1779706800-1779746400@www.lacountyfair.com
SUMMARY:The Tasting Room - Wine\, Olive Oil\, Spirits & Dairy
DESCRIPTION:
URL:https://www.lacountyfair.com/event/the-tasting-room-wine-olive-oil-spirits-dairy-14/
LOCATION:The Tasting Room
CATEGORIES:Food
END:VEVENT
BEGIN:VEVENT
DTSTART;TZID=America/Los_Angeles:20260528T110000
DTEND;TZID=America/Los_Angeles:20260528T220000
DTSTAMP:20260425T190548
CREATED:20260424T043734Z
LAST-MODIFIED:20260424T043734Z
UID:10004473-1779966000-1780005600@www.lacountyfair.com
SUMMARY:The Tasting Room - Wine\, Olive Oil\, Spirits & Dairy
DESCRIPTION:
URL:https://www.lacountyfair.com/event/the-tasting-room-wine-olive-oil-spirits-dairy-15/
LOCATION:The Tasting Room
CATEGORIES:Food
END:VEVENT
BEGIN:VEVENT
DTSTART;TZID=America/Los_Angeles:20260528T190000
DTEND;TZID=America/Los_Angeles:20260528T200000
DTSTAMP:20260425T190548
CREATED:20260424T050020Z
LAST-MODIFIED:20260424T050020Z
UID:10004564-1779994800-1779998400@www.lacountyfair.com
SUMMARY:Best of Show\, Gold Rush Wines!
DESCRIPTION:
URL:https://www.lacountyfair.com/event/best-of-show-gold-rush-wines/
LOCATION:The Tasting Room
CATEGORIES:Education,Food
END:VEVENT
BEGIN:VEVENT
DTSTART;TZID=America/Los_Angeles:20260529T110000
DTEND;TZID=America/Los_Angeles:20260529T220000
DTSTAMP:20260425T190548
CREATED:20260424T104639Z
LAST-MODIFIED:20260424T104639Z
UID:10004580-1780052400-1780092000@www.lacountyfair.com
SUMMARY:The Tasting Room - Wine\, Olive Oil\, Spirits & Dairy
DESCRIPTION:
URL:https://www.lacountyfair.com/event/the-tasting-room-wine-olive-oil-spirits-dairy-16/
LOCATION:The Tasting Room
CATEGORIES:Food
END:VEVENT
BEGIN:VEVENT
DTSTART;TZID=America/Los_Angeles:20260529T190000
DTEND;TZID=America/Los_Angeles:20260529T200000
DTSTAMP:20260425T190548
CREATED:20260424T105114Z
LAST-MODIFIED:20260424T105114Z
UID:10004674-1780081200-1780084800@www.lacountyfair.com
SUMMARY:From Bubbles to Botanicals
DESCRIPTION:
URL:https://www.lacountyfair.com/event/from-bubbles-to-botanicals/
LOCATION:The Tasting Room
CATEGORIES:Education,Food
END:VEVENT
BEGIN:VEVENT
DTSTART;TZID=America/Los_Angeles:20260530T110000
DTEND;TZID=America/Los_Angeles:20260530T220000
DTSTAMP:20260425T190548
CREATED:20260424T105727Z
LAST-MODIFIED:20260424T105727Z
UID:10004690-1780138800-1780178400@www.lacountyfair.com
SUMMARY:The Tasting Room - Wine\, Olive Oil\, Spirits & Dairy
DESCRIPTION:
URL:https://www.lacountyfair.com/event/the-tasting-room-wine-olive-oil-spirits-dairy-17/
LOCATION:The Tasting Room
CATEGORIES:Food
END:VEVENT
BEGIN:VEVENT
DTSTART;TZID=America/Los_Angeles:20260530T130000
DTEND;TZID=America/Los_Angeles:20260530T140000
DTSTAMP:20260425T190548
CREATED:20260424T110316Z
LAST-MODIFIED:20260424T110316Z
UID:10004796-1780146000-1780149600@www.lacountyfair.com
SUMMARY:Pairing Cheese with the Spirit of the Season
DESCRIPTION:
URL:https://www.lacountyfair.com/event/pairing-cheese-with-the-spirit-of-the-season/
LOCATION:The Tasting Room
CATEGORIES:Education,Food
END:VEVENT
BEGIN:VEVENT
DTSTART;TZID=America/Los_Angeles:20260530T150000
DTEND;TZID=America/Los_Angeles:20260530T160000
DTSTAMP:20260425T190548
CREATED:20260424T110317Z
LAST-MODIFIED:20260424T110317Z
UID:10004797-1780153200-1780156800@www.lacountyfair.com
SUMMARY:Xoloitzcuintle - Tequila & Chips pairing
DESCRIPTION:
URL:https://www.lacountyfair.com/event/xoloitzcuintle-tequila-chips-pairing/
LOCATION:The Tasting Room
CATEGORIES:Education,Food
END:VEVENT
BEGIN:VEVENT
DTSTART;TZID=America/Los_Angeles:20260530T170000
DTEND;TZID=America/Los_Angeles:20260530T180000
DTSTAMP:20260425T190548
CREATED:20260424T110318Z
LAST-MODIFIED:20260424T110318Z
UID:10004798-1780160400-1780164000@www.lacountyfair.com
SUMMARY:Discover Award-Winning Mexican Wines
DESCRIPTION:
URL:https://www.lacountyfair.com/event/discover-award-winning-mexican-wines/
LOCATION:The Tasting Room
CATEGORIES:Education,Food
END:VEVENT
BEGIN:VEVENT
DTSTART;TZID=America/Los_Angeles:20260530T190000
DTEND;TZID=America/Los_Angeles:20260530T200000
DTSTAMP:20260425T190548
CREATED:20260424T110319Z
LAST-MODIFIED:20260424T110319Z
UID:10004799-1780167600-1780171200@www.lacountyfair.com
SUMMARY:Total Wine Golds
DESCRIPTION:
URL:https://www.lacountyfair.com/event/total-wine-golds/
LOCATION:The Tasting Room
CATEGORIES:Education,Food
END:VEVENT
BEGIN:VEVENT
DTSTART;TZID=America/Los_Angeles:20260531T110000
DTEND;TZID=America/Los_Angeles:20260531T220000
DTSTAMP:20260425T190548
CREATED:20260424T111027Z
LAST-MODIFIED:20260424T111027Z
UID:10004915-1780225200-1780264800@www.lacountyfair.com
SUMMARY:The Tasting Room - Wine\, Olive Oil\, Spirits & Dairy
DESCRIPTION:
URL:https://www.lacountyfair.com/event/the-tasting-room-wine-olive-oil-spirits-dairy-18/
LOCATION:The Tasting Room
CATEGORIES:Food
END:VEVENT
BEGIN:VEVENT
DTSTART;TZID=America/Los_Angeles:20260531T130000
DTEND;TZID=America/Los_Angeles:20260531T140000
DTSTAMP:20260425T190548
CREATED:20260424T111029Z
LAST-MODIFIED:20260424T111029Z
UID:10004916-1780232400-1780236000@www.lacountyfair.com
SUMMARY:Cream of the Crop: Understanding Dairy
DESCRIPTION:
URL:https://www.lacountyfair.com/event/cream-of-the-crop-understanding-dairy/
LOCATION:The Tasting Room
CATEGORIES:Education,Food
END:VEVENT
BEGIN:VEVENT
DTSTART;TZID=America/Los_Angeles:20260531T150000
DTEND;TZID=America/Los_Angeles:20260531T160000
DTSTAMP:20260425T190548
CREATED:20260424T111030Z
LAST-MODIFIED:20260424T111030Z
UID:10004917-1780239600-1780243200@www.lacountyfair.com
SUMMARY:Cork & Bottle Imports – Wines of Armenia
DESCRIPTION:
URL:https://www.lacountyfair.com/event/cork-bottle-imports-wines-of-armenia/
LOCATION:The Tasting Room
CATEGORIES:Education,Food
END:VEVENT
BEGIN:VEVENT
DTSTART;TZID=America/Los_Angeles:20260531T170000
DTEND;TZID=America/Los_Angeles:20260531T180000
DTSTAMP:20260425T190548
CREATED:20260424T111031Z
LAST-MODIFIED:20260424T111031Z
UID:10004918-1780246800-1780250400@www.lacountyfair.com
SUMMARY:Wine Cheese and Chocolate
DESCRIPTION:
URL:https://www.lacountyfair.com/event/wine-cheese-and-chocolate-2/
LOCATION:The Tasting Room
CATEGORIES:Education,Food
END:VEVENT
END:VCALENDAR