BEGIN:VCALENDAR
VERSION:2.0
PRODID:-//2026 LA County Fair - ECPv6.15.17.1//NONSGML v1.0//EN
CALSCALE:GREGORIAN
METHOD:PUBLISH
X-ORIGINAL-URL:https://www.lacountyfair.com
X-WR-CALDESC:Events for 2026 LA County Fair
REFRESH-INTERVAL;VALUE=DURATION:PT1H
X-Robots-Tag:noindex
X-PUBLISHED-TTL:PT1H
BEGIN:VTIMEZONE
TZID:America/Los_Angeles
BEGIN:DAYLIGHT
TZOFFSETFROM:-0800
TZOFFSETTO:-0700
TZNAME:PDT
DTSTART:20250309T100000
END:DAYLIGHT
BEGIN:STANDARD
TZOFFSETFROM:-0700
TZOFFSETTO:-0800
TZNAME:PST
DTSTART:20251102T090000
END:STANDARD
BEGIN:DAYLIGHT
TZOFFSETFROM:-0800
TZOFFSETTO:-0700
TZNAME:PDT
DTSTART:20260308T100000
END:DAYLIGHT
BEGIN:STANDARD
TZOFFSETFROM:-0700
TZOFFSETTO:-0800
TZNAME:PST
DTSTART:20261101T090000
END:STANDARD
BEGIN:DAYLIGHT
TZOFFSETFROM:-0800
TZOFFSETTO:-0700
TZNAME:PDT
DTSTART:20270314T100000
END:DAYLIGHT
BEGIN:STANDARD
TZOFFSETFROM:-0700
TZOFFSETTO:-0800
TZNAME:PST
DTSTART:20271107T090000
END:STANDARD
END:VTIMEZONE
BEGIN:VEVENT
DTSTART;TZID=America/Los_Angeles:20260510T170000
DTEND;TZID=America/Los_Angeles:20260510T180000
DTSTAMP:20260425T153644
CREATED:20260423T070253Z
LAST-MODIFIED:20260423T070253Z
UID:10003342-1778432400-1778436000@www.lacountyfair.com
SUMMARY:Lodi Rules...The History of Michael David Winery
DESCRIPTION:
URL:https://www.lacountyfair.com/event/lodi-rules-the-history-of-michael-david-winery/
LOCATION:The Tasting Room
CATEGORIES:Education,Food
END:VEVENT
BEGIN:VEVENT
DTSTART;TZID=America/Los_Angeles:20260514T110000
DTEND;TZID=America/Los_Angeles:20260514T220000
DTSTAMP:20260425T153644
CREATED:20260423T122205Z
LAST-MODIFIED:20260423T122205Z
UID:10003463-1778756400-1778796000@www.lacountyfair.com
SUMMARY:The Tasting Room - Wine\, Olive Oil\, Spirits & Dairy
DESCRIPTION:
URL:https://www.lacountyfair.com/event/the-tasting-room-wine-olive-oil-spirits-dairy-6/
LOCATION:The Tasting Room
CATEGORIES:Food
END:VEVENT
BEGIN:VEVENT
DTSTART;TZID=America/Los_Angeles:20260514T190000
DTEND;TZID=America/Los_Angeles:20260514T200000
DTSTAMP:20260425T153644
CREATED:20260423T122203Z
LAST-MODIFIED:20260423T122203Z
UID:10003461-1778785200-1778788800@www.lacountyfair.com
SUMMARY:Cabernet! "I am your father" All About Cabernet Franc
DESCRIPTION:
URL:https://www.lacountyfair.com/event/cabernet-i-am-your-father-all-about-cabernet-franc/
LOCATION:The Tasting Room
CATEGORIES:Education,Food
END:VEVENT
BEGIN:VEVENT
DTSTART;TZID=America/Los_Angeles:20260515T110000
DTEND;TZID=America/Los_Angeles:20260515T220000
DTSTAMP:20260425T153644
CREATED:20260423T150257Z
LAST-MODIFIED:20260423T150257Z
UID:10003570-1778842800-1778882400@www.lacountyfair.com
SUMMARY:The Tasting Room - Wine\, Olive Oil\, Spirits & Dairy
DESCRIPTION:
URL:https://www.lacountyfair.com/event/the-tasting-room-wine-olive-oil-spirits-dairy-7/
LOCATION:The Tasting Room
CATEGORIES:Food
END:VEVENT
BEGIN:VEVENT
DTSTART;TZID=America/Los_Angeles:20260515T190000
DTEND;TZID=America/Los_Angeles:20260515T200000
DTSTAMP:20260425T153644
CREATED:20260423T150245Z
LAST-MODIFIED:20260423T150245Z
UID:10003568-1778871600-1778875200@www.lacountyfair.com
SUMMARY:The Perfect Flight: Now Boarding CA Best of Class
DESCRIPTION:
URL:https://www.lacountyfair.com/event/the-perfect-flight-now-boarding-ca-best-of-class/
LOCATION:The Tasting Room
CATEGORIES:Education,Food
END:VEVENT
BEGIN:VEVENT
DTSTART;TZID=America/Los_Angeles:20260516T110000
DTEND;TZID=America/Los_Angeles:20260516T220000
DTSTAMP:20260425T153644
CREATED:20260424T005918Z
LAST-MODIFIED:20260424T005918Z
UID:10003682-1778929200-1778968800@www.lacountyfair.com
SUMMARY:The Tasting Room - Wine\, Olive Oil\, Spirits & Dairy
DESCRIPTION:
URL:https://www.lacountyfair.com/event/the-tasting-room-wine-olive-oil-spirits-dairy-8/
LOCATION:The Tasting Room
CATEGORIES:Food
END:VEVENT
BEGIN:VEVENT
DTSTART;TZID=America/Los_Angeles:20260516T130000
DTEND;TZID=America/Los_Angeles:20260516T140000
DTSTAMP:20260425T153644
CREATED:20260424T005627Z
LAST-MODIFIED:20260424T005627Z
UID:10003677-1778936400-1778940000@www.lacountyfair.com
SUMMARY:Music & Wine Pairing!
DESCRIPTION:
URL:https://www.lacountyfair.com/event/music-wine-pairing/
LOCATION:The Tasting Room
CATEGORIES:Education,Food
END:VEVENT
BEGIN:VEVENT
DTSTART;TZID=America/Los_Angeles:20260516T150000
DTEND;TZID=America/Los_Angeles:20260516T160000
DTSTAMP:20260425T153644
CREATED:20260424T005628Z
LAST-MODIFIED:20260424T005628Z
UID:10003678-1778943600-1778947200@www.lacountyfair.com
SUMMARY:The Vibrant Wines of Mexico\, South America & Spain
DESCRIPTION:
URL:https://www.lacountyfair.com/event/the-vibrant-wines-of-mexico-south-america-spain/
LOCATION:The Tasting Room
CATEGORIES:Education,Food
END:VEVENT
BEGIN:VEVENT
DTSTART;TZID=America/Los_Angeles:20260516T170000
DTEND;TZID=America/Los_Angeles:20260516T180000
DTSTAMP:20260425T153644
CREATED:20260424T005915Z
LAST-MODIFIED:20260424T005915Z
UID:10003679-1778950800-1778954400@www.lacountyfair.com
SUMMARY:Fun Labels & Unique Varietals
DESCRIPTION:
URL:https://www.lacountyfair.com/event/fun-labels-unique-varietals/
LOCATION:The Tasting Room
CATEGORIES:Education,Food
END:VEVENT
BEGIN:VEVENT
DTSTART;TZID=America/Los_Angeles:20260516T190000
DTEND;TZID=America/Los_Angeles:20260516T200000
DTSTAMP:20260425T153644
CREATED:20260424T005916Z
LAST-MODIFIED:20260424T005916Z
UID:10003680-1778958000-1778961600@www.lacountyfair.com
SUMMARY:The World Via Rosé-Colored Glasses
DESCRIPTION:
URL:https://www.lacountyfair.com/event/the-world-via-rose-colored-glasses/
LOCATION:The Tasting Room
CATEGORIES:Education,Food
END:VEVENT
BEGIN:VEVENT
DTSTART;TZID=America/Los_Angeles:20260517T110000
DTEND;TZID=America/Los_Angeles:20260517T220000
DTSTAMP:20260425T153644
CREATED:20260424T011842Z
LAST-MODIFIED:20260424T011842Z
UID:10003802-1779015600-1779055200@www.lacountyfair.com
SUMMARY:The Tasting Room - Wine\, Olive Oil\, Spirits & Dairy
DESCRIPTION:
URL:https://www.lacountyfair.com/event/the-tasting-room-wine-olive-oil-spirits-dairy-9/
LOCATION:The Tasting Room
CATEGORIES:Food
END:VEVENT
BEGIN:VEVENT
DTSTART;TZID=America/Los_Angeles:20260517T130000
DTEND;TZID=America/Los_Angeles:20260517T140000
DTSTAMP:20260425T153644
CREATED:20260424T011828Z
LAST-MODIFIED:20260424T011828Z
UID:10003798-1779022800-1779026400@www.lacountyfair.com
SUMMARY:The Olive & The Tree: Olive Oil
DESCRIPTION:
URL:https://www.lacountyfair.com/event/the-olive-the-tree-olive-oil/
LOCATION:The Tasting Room
CATEGORIES:Education,Food
END:VEVENT
BEGIN:VEVENT
DTSTART;TZID=America/Los_Angeles:20260517T150000
DTEND;TZID=America/Los_Angeles:20260517T160000
DTSTAMP:20260425T153644
CREATED:20260424T011829Z
LAST-MODIFIED:20260424T011829Z
UID:10003799-1779030000-1779033600@www.lacountyfair.com
SUMMARY:Evolve Distilling
DESCRIPTION:
URL:https://www.lacountyfair.com/event/evolve-distilling/
LOCATION:The Tasting Room
CATEGORIES:Education,Food
END:VEVENT
BEGIN:VEVENT
DTSTART;TZID=America/Los_Angeles:20260517T170000
DTEND;TZID=America/Los_Angeles:20260517T180000
DTSTAMP:20260425T153644
CREATED:20260424T011840Z
LAST-MODIFIED:20260424T011840Z
UID:10003800-1779037200-1779040800@www.lacountyfair.com
SUMMARY:Pop\, Pour\, Celebrate: Medal-Winning Bubbles
DESCRIPTION:
URL:https://www.lacountyfair.com/event/pop-pour-celebrate-medal-winning-bubbles/
LOCATION:The Tasting Room
CATEGORIES:Education,Food
END:VEVENT
BEGIN:VEVENT
DTSTART;TZID=America/Los_Angeles:20260521T110000
DTEND;TZID=America/Los_Angeles:20260521T220000
DTSTAMP:20260425T153644
CREATED:20260424T013426Z
LAST-MODIFIED:20260424T013426Z
UID:10003916-1779361200-1779400800@www.lacountyfair.com
SUMMARY:The Tasting Room - Wine\, Olive Oil\, Spirits & Dairy
DESCRIPTION:
URL:https://www.lacountyfair.com/event/the-tasting-room-wine-olive-oil-spirits-dairy-10/
LOCATION:The Tasting Room
CATEGORIES:Food
END:VEVENT
BEGIN:VEVENT
DTSTART;TZID=America/Los_Angeles:20260521T190000
DTEND;TZID=America/Los_Angeles:20260521T200000
DTSTAMP:20260425T153644
CREATED:20260424T013414Z
LAST-MODIFIED:20260424T013414Z
UID:10003914-1779390000-1779393600@www.lacountyfair.com
SUMMARY:The Best of the Best Spirits!
DESCRIPTION:
URL:https://www.lacountyfair.com/event/the-best-of-the-best-spirits/
LOCATION:The Tasting Room
CATEGORIES:Education,Food
END:VEVENT
BEGIN:VEVENT
DTSTART;TZID=America/Los_Angeles:20260522T110000
DTEND;TZID=America/Los_Angeles:20260522T220000
DTSTAMP:20260425T153644
CREATED:20260424T015030Z
LAST-MODIFIED:20260424T015030Z
UID:10004024-1779447600-1779487200@www.lacountyfair.com
SUMMARY:The Tasting Room - Wine\, Olive Oil\, Spirits & Dairy
DESCRIPTION:
URL:https://www.lacountyfair.com/event/the-tasting-room-wine-olive-oil-spirits-dairy-11/
LOCATION:The Tasting Room
CATEGORIES:Food
END:VEVENT
BEGIN:VEVENT
DTSTART;TZID=America/Los_Angeles:20260522T190000
DTEND;TZID=America/Los_Angeles:20260522T200000
DTSTAMP:20260425T153644
CREATED:20260424T015028Z
LAST-MODIFIED:20260424T015028Z
UID:10004022-1779476400-1779480000@www.lacountyfair.com
SUMMARY:One Winemaker vs. Varieties & Appellations
DESCRIPTION:
URL:https://www.lacountyfair.com/event/one-winemaker-vs-varieties-appellations/
LOCATION:The Tasting Room
CATEGORIES:Education,Food
END:VEVENT
BEGIN:VEVENT
DTSTART;TZID=America/Los_Angeles:20260523T110000
DTEND;TZID=America/Los_Angeles:20260523T220000
DTSTAMP:20260425T153644
CREATED:20260424T021510Z
LAST-MODIFIED:20260424T021510Z
UID:10004137-1779534000-1779573600@www.lacountyfair.com
SUMMARY:The Tasting Room - Wine\, Olive Oil\, Spirits & Dairy
DESCRIPTION:
URL:https://www.lacountyfair.com/event/the-tasting-room-wine-olive-oil-spirits-dairy-12/
LOCATION:The Tasting Room
CATEGORIES:Food
END:VEVENT
BEGIN:VEVENT
DTSTART;TZID=America/Los_Angeles:20260523T130000
DTEND;TZID=America/Los_Angeles:20260523T140000
DTSTAMP:20260425T153644
CREATED:20260424T021455Z
LAST-MODIFIED:20260424T021455Z
UID:10004132-1779541200-1779544800@www.lacountyfair.com
SUMMARY:Organic\, Natural & Sustainable
DESCRIPTION:
URL:https://www.lacountyfair.com/event/organic-natural-sustainable/
LOCATION:The Tasting Room
CATEGORIES:Education,Food
END:VEVENT
BEGIN:VEVENT
DTSTART;TZID=America/Los_Angeles:20260523T150000
DTEND;TZID=America/Los_Angeles:20260523T160000
DTSTAMP:20260425T153644
CREATED:20260424T021456Z
LAST-MODIFIED:20260424T021456Z
UID:10004133-1779548400-1779552000@www.lacountyfair.com
SUMMARY:Gold Medal Wines from Around the Country!
DESCRIPTION:
URL:https://www.lacountyfair.com/event/gold-medal-wines-from-around-the-country/
LOCATION:The Tasting Room
CATEGORIES:Education,Food
END:VEVENT
BEGIN:VEVENT
DTSTART;TZID=America/Los_Angeles:20260523T170000
DTEND;TZID=America/Los_Angeles:20260523T180000
DTSTAMP:20260425T153644
CREATED:20260424T021457Z
LAST-MODIFIED:20260424T021457Z
UID:10004134-1779555600-1779559200@www.lacountyfair.com
SUMMARY:Vines Without Borders: International Winemakers Making California Their Canvas
DESCRIPTION:
URL:https://www.lacountyfair.com/event/vines-without-borders-international-winemakers-making-california-their-canvas/
LOCATION:The Tasting Room
CATEGORIES:Education,Food
END:VEVENT
BEGIN:VEVENT
DTSTART;TZID=America/Los_Angeles:20260523T190000
DTEND;TZID=America/Los_Angeles:20260523T200000
DTSTAMP:20260425T153644
CREATED:20260424T021508Z
LAST-MODIFIED:20260424T021508Z
UID:10004135-1779562800-1779566400@www.lacountyfair.com
SUMMARY:Xoloitzcuintle – Tasting High Proof Tequilas
DESCRIPTION:
URL:https://www.lacountyfair.com/event/xoloitzcuintle-tasting-high-proof-tequilas/
LOCATION:The Tasting Room
CATEGORIES:Education,Food
END:VEVENT
BEGIN:VEVENT
DTSTART;TZID=America/Los_Angeles:20260524T110000
DTEND;TZID=America/Los_Angeles:20260524T220000
DTSTAMP:20260425T153644
CREATED:20260424T033146Z
LAST-MODIFIED:20260424T033146Z
UID:10004251-1779620400-1779660000@www.lacountyfair.com
SUMMARY:The Tasting Room - Wine\, Olive Oil\, Spirits & Dairy
DESCRIPTION:
URL:https://www.lacountyfair.com/event/the-tasting-room-wine-olive-oil-spirits-dairy-13/
LOCATION:The Tasting Room
CATEGORIES:Food
END:VEVENT
BEGIN:VEVENT
DTSTART;TZID=America/Los_Angeles:20260524T130000
DTEND;TZID=America/Los_Angeles:20260524T140000
DTSTAMP:20260425T153644
CREATED:20260424T032947Z
LAST-MODIFIED:20260424T032947Z
UID:10004247-1779627600-1779631200@www.lacountyfair.com
SUMMARY:Bordeaux/Bordeaux Supérieur Wines!
DESCRIPTION:
URL:https://www.lacountyfair.com/event/bordeaux-bordeaux-superieur-wines/
LOCATION:The Tasting Room
CATEGORIES:Education,Food
END:VEVENT
BEGIN:VEVENT
DTSTART;TZID=America/Los_Angeles:20260524T150000
DTEND;TZID=America/Los_Angeles:20260524T160000
DTSTAMP:20260425T153644
CREATED:20260424T032948Z
LAST-MODIFIED:20260424T032948Z
UID:10004248-1779634800-1779638400@www.lacountyfair.com
SUMMARY:A Rainbow of Riesling—from Dry to Sweet!
DESCRIPTION:
URL:https://www.lacountyfair.com/event/a-rainbow-of-riesling-from-dry-to-sweet/
LOCATION:The Tasting Room
CATEGORIES:Education,Food
END:VEVENT
BEGIN:VEVENT
DTSTART;TZID=America/Los_Angeles:20260524T170000
DTEND;TZID=America/Los_Angeles:20260524T180000
DTSTAMP:20260425T153644
CREATED:20260424T032949Z
LAST-MODIFIED:20260424T032949Z
UID:10004249-1779642000-1779645600@www.lacountyfair.com
SUMMARY:Wine\, Cheese\, and Chocolate!
DESCRIPTION:
URL:https://www.lacountyfair.com/event/wine-cheese-and-chocolate/
LOCATION:The Tasting Room
CATEGORIES:Education,Food
END:VEVENT
BEGIN:VEVENT
DTSTART;TZID=America/Los_Angeles:20260525T110000
DTEND;TZID=America/Los_Angeles:20260525T220000
DTSTAMP:20260425T153644
CREATED:20260424T034743Z
LAST-MODIFIED:20260424T034743Z
UID:10004366-1779706800-1779746400@www.lacountyfair.com
SUMMARY:The Tasting Room - Wine\, Olive Oil\, Spirits & Dairy
DESCRIPTION:
URL:https://www.lacountyfair.com/event/the-tasting-room-wine-olive-oil-spirits-dairy-14/
LOCATION:The Tasting Room
CATEGORIES:Food
END:VEVENT
BEGIN:VEVENT
DTSTART;TZID=America/Los_Angeles:20260528T110000
DTEND;TZID=America/Los_Angeles:20260528T220000
DTSTAMP:20260425T153644
CREATED:20260424T043734Z
LAST-MODIFIED:20260424T043734Z
UID:10004473-1779966000-1780005600@www.lacountyfair.com
SUMMARY:The Tasting Room - Wine\, Olive Oil\, Spirits & Dairy
DESCRIPTION:
URL:https://www.lacountyfair.com/event/the-tasting-room-wine-olive-oil-spirits-dairy-15/
LOCATION:The Tasting Room
CATEGORIES:Food
END:VEVENT
BEGIN:VEVENT
DTSTART;TZID=America/Los_Angeles:20260528T190000
DTEND;TZID=America/Los_Angeles:20260528T200000
DTSTAMP:20260425T153644
CREATED:20260424T050020Z
LAST-MODIFIED:20260424T050020Z
UID:10004564-1779994800-1779998400@www.lacountyfair.com
SUMMARY:Best of Show\, Gold Rush Wines!
DESCRIPTION:
URL:https://www.lacountyfair.com/event/best-of-show-gold-rush-wines/
LOCATION:The Tasting Room
CATEGORIES:Education,Food
END:VEVENT
END:VCALENDAR