BEGIN:VCALENDAR
VERSION:2.0
PRODID:-//2026 LA County Fair - ECPv6.15.17.1//NONSGML v1.0//EN
CALSCALE:GREGORIAN
METHOD:PUBLISH
X-WR-CALNAME:2026 LA County Fair
X-ORIGINAL-URL:https://www.lacountyfair.com
X-WR-CALDESC:Events for 2026 LA County Fair
REFRESH-INTERVAL;VALUE=DURATION:PT1H
X-Robots-Tag:noindex
X-PUBLISHED-TTL:PT1H
BEGIN:VTIMEZONE
TZID:America/Los_Angeles
BEGIN:DAYLIGHT
TZOFFSETFROM:-0800
TZOFFSETTO:-0700
TZNAME:PDT
DTSTART:20250309T100000
END:DAYLIGHT
BEGIN:STANDARD
TZOFFSETFROM:-0700
TZOFFSETTO:-0800
TZNAME:PST
DTSTART:20251102T090000
END:STANDARD
BEGIN:DAYLIGHT
TZOFFSETFROM:-0800
TZOFFSETTO:-0700
TZNAME:PDT
DTSTART:20260308T100000
END:DAYLIGHT
BEGIN:STANDARD
TZOFFSETFROM:-0700
TZOFFSETTO:-0800
TZNAME:PST
DTSTART:20261101T090000
END:STANDARD
BEGIN:DAYLIGHT
TZOFFSETFROM:-0800
TZOFFSETTO:-0700
TZNAME:PDT
DTSTART:20270314T100000
END:DAYLIGHT
BEGIN:STANDARD
TZOFFSETFROM:-0700
TZOFFSETTO:-0800
TZNAME:PST
DTSTART:20271107T090000
END:STANDARD
END:VTIMEZONE
BEGIN:VEVENT
DTSTART;TZID=America/Los_Angeles:20260528T090000
DTEND;TZID=America/Los_Angeles:20260528T160000
DTSTAMP:20260424T154551
CREATED:20260424T045918Z
LAST-MODIFIED:20260424T045918Z
UID:10004542-1779958800-1779984000@www.lacountyfair.com
SUMMARY:Outdoor Learning Lab - Educational Booths at The Farm
DESCRIPTION:
URL:https://www.lacountyfair.com/event/outdoor-learning-lab-educational-booths-at-the-farm-25/
LOCATION:The Outdoor Learning Lab – The Farm
CATEGORIES:Demonstration,Education
END:VEVENT
BEGIN:VEVENT
DTSTART;TZID=America/Los_Angeles:20260528T090000
DTEND;TZID=America/Los_Angeles:20260528T160000
DTSTAMP:20260424T154551
CREATED:20260424T045919Z
LAST-MODIFIED:20260424T045919Z
UID:10004543-1779958800-1779984000@www.lacountyfair.com
SUMMARY:Outdoor Learning Lab - WeCompost2 Worm Farmer Demonstrations
DESCRIPTION:
URL:https://www.lacountyfair.com/event/outdoor-learning-lab-wecompost2-worm-farmer-demonstrations/
LOCATION:The Outdoor Learning Lab – The Farm
CATEGORIES:Demonstration,Education
END:VEVENT
BEGIN:VEVENT
DTSTART;TZID=America/Los_Angeles:20260529T110000
DTEND;TZID=America/Los_Angeles:20260529T160000
DTSTAMP:20260424T154551
CREATED:20260424T105012Z
LAST-MODIFIED:20260424T105012Z
UID:10004652-1780052400-1780070400@www.lacountyfair.com
SUMMARY:Outdoor Learning Lab - Educational Booths at The Farm
DESCRIPTION:
URL:https://www.lacountyfair.com/event/outdoor-learning-lab-educational-booths-at-the-farm-26/
LOCATION:The Outdoor Learning Lab – The Farm
CATEGORIES:Demonstration,Education
END:VEVENT
BEGIN:VEVENT
DTSTART;TZID=America/Los_Angeles:20260529T110000
DTEND;TZID=America/Los_Angeles:20260529T160000
DTSTAMP:20260424T154551
CREATED:20260424T105013Z
LAST-MODIFIED:20260424T105013Z
UID:10004653-1780052400-1780070400@www.lacountyfair.com
SUMMARY:Outdoor Learning Lab - WeCompost2 Worm Farming Demonstrations
DESCRIPTION:
URL:https://www.lacountyfair.com/event/outdoor-learning-lab-wecompost2-worm-farming-demonstrations-11/
LOCATION:The Outdoor Learning Lab – The Farm
CATEGORIES:Demonstration,Education
END:VEVENT
BEGIN:VEVENT
DTSTART;TZID=America/Los_Angeles:20260529T130000
DTEND;TZID=America/Los_Angeles:20260529T133000
DTSTAMP:20260424T154551
CREATED:20260424T104633Z
LAST-MODIFIED:20260424T104633Z
UID:10004576-1780059600-1780061400@www.lacountyfair.com
SUMMARY:Climate Action Presentation
DESCRIPTION:
URL:https://www.lacountyfair.com/event/climate-action-presentation-29/
LOCATION:The Outdoor Learning Lab – The Farm
CATEGORIES:Demonstration,Education
END:VEVENT
BEGIN:VEVENT
DTSTART;TZID=America/Los_Angeles:20260530T110000
DTEND;TZID=America/Los_Angeles:20260530T160000
DTSTAMP:20260424T154551
CREATED:20260424T110113Z
LAST-MODIFIED:20260424T110113Z
UID:10004766-1780138800-1780156800@www.lacountyfair.com
SUMMARY:Outdoor Learning Lab - Educational Booths at The Farm
DESCRIPTION:
URL:https://www.lacountyfair.com/event/outdoor-learning-lab-educational-booths-at-the-farm-27/
LOCATION:The Outdoor Learning Lab – The Farm
CATEGORIES:Demonstration,Education
END:VEVENT
BEGIN:VEVENT
DTSTART;TZID=America/Los_Angeles:20260530T110000
DTEND;TZID=America/Los_Angeles:20260530T160000
DTSTAMP:20260424T154551
CREATED:20260424T110114Z
LAST-MODIFIED:20260424T110114Z
UID:10004767-1780138800-1780156800@www.lacountyfair.com
SUMMARY:Outdoor Learning Lab - WeCompost2 Worm Farming Demonstrations
DESCRIPTION:
URL:https://www.lacountyfair.com/event/outdoor-learning-lab-wecompost2-worm-farming-demonstrations-12/
LOCATION:The Outdoor Learning Lab – The Farm
CATEGORIES:Demonstration,Education
END:VEVENT
BEGIN:VEVENT
DTSTART;TZID=America/Los_Angeles:20260531T110000
DTEND;TZID=America/Los_Angeles:20260531T160000
DTSTAMP:20260424T154551
CREATED:20260424T110840Z
LAST-MODIFIED:20260424T110840Z
UID:10004879-1780225200-1780243200@www.lacountyfair.com
SUMMARY:Outdoor Learning Lab - Educational Booths at The Farm
DESCRIPTION:
URL:https://www.lacountyfair.com/event/outdoor-learning-lab-educational-booths-at-the-farm-28/
LOCATION:The Outdoor Learning Lab – The Farm
CATEGORIES:Demonstration,Education
END:VEVENT
BEGIN:VEVENT
DTSTART;TZID=America/Los_Angeles:20260531T110000
DTEND;TZID=America/Los_Angeles:20260531T160000
DTSTAMP:20260424T154551
CREATED:20260424T110842Z
LAST-MODIFIED:20260424T110842Z
UID:10004880-1780225200-1780243200@www.lacountyfair.com
SUMMARY:Outdoor Learning Lab - WeCompost2 Worm Farming Demonstrations
DESCRIPTION:
URL:https://www.lacountyfair.com/event/outdoor-learning-lab-wecompost2-worm-farming-demonstrations-13/
LOCATION:The Outdoor Learning Lab – The Farm
CATEGORIES:Demonstration,Education
END:VEVENT
END:VCALENDAR