BEGIN:VCALENDAR
VERSION:2.0
PRODID:-//2026 LA County Fair - ECPv6.15.17.1//NONSGML v1.0//EN
CALSCALE:GREGORIAN
METHOD:PUBLISH
X-ORIGINAL-URL:https://www.lacountyfair.com
X-WR-CALDESC:Events for 2026 LA County Fair
REFRESH-INTERVAL;VALUE=DURATION:PT1H
X-Robots-Tag:noindex
X-PUBLISHED-TTL:PT1H
BEGIN:VTIMEZONE
TZID:America/Los_Angeles
BEGIN:DAYLIGHT
TZOFFSETFROM:-0800
TZOFFSETTO:-0700
TZNAME:PDT
DTSTART:20250309T100000
END:DAYLIGHT
BEGIN:STANDARD
TZOFFSETFROM:-0700
TZOFFSETTO:-0800
TZNAME:PST
DTSTART:20251102T090000
END:STANDARD
BEGIN:DAYLIGHT
TZOFFSETFROM:-0800
TZOFFSETTO:-0700
TZNAME:PDT
DTSTART:20260308T100000
END:DAYLIGHT
BEGIN:STANDARD
TZOFFSETFROM:-0700
TZOFFSETTO:-0800
TZNAME:PST
DTSTART:20261101T090000
END:STANDARD
BEGIN:DAYLIGHT
TZOFFSETFROM:-0800
TZOFFSETTO:-0700
TZNAME:PDT
DTSTART:20270314T100000
END:DAYLIGHT
BEGIN:STANDARD
TZOFFSETFROM:-0700
TZOFFSETTO:-0800
TZNAME:PST
DTSTART:20271107T090000
END:STANDARD
END:VTIMEZONE
BEGIN:VEVENT
DTSTART;TZID=America/Los_Angeles:20260507T120000
DTEND;TZID=America/Los_Angeles:20260507T123000
DTSTAMP:20260423T063710
CREATED:20260423T051420Z
LAST-MODIFIED:20260423T051420Z
UID:10003011-1778155200-1778157000@www.lacountyfair.com
SUMMARY:Barnyard Racing Pig Races
DESCRIPTION:
URL:https://www.lacountyfair.com/event/barnyard-racing-pig-races-85/
LOCATION:The Fields
CATEGORIES:Animal,Variety
END:VEVENT
BEGIN:VEVENT
DTSTART;TZID=America/Los_Angeles:20260507T140000
DTEND;TZID=America/Los_Angeles:20260507T143000
DTSTAMP:20260423T063710
CREATED:20260423T051421Z
LAST-MODIFIED:20260423T051421Z
UID:10003012-1778162400-1778164200@www.lacountyfair.com
SUMMARY:Barnyard Racing Pig Races
DESCRIPTION:
URL:https://www.lacountyfair.com/event/barnyard-racing-pig-races-86/
LOCATION:The Fields
CATEGORIES:Animal,Variety
END:VEVENT
BEGIN:VEVENT
DTSTART;TZID=America/Los_Angeles:20260507T160000
DTEND;TZID=America/Los_Angeles:20260507T163000
DTSTAMP:20260423T063710
CREATED:20260423T051422Z
LAST-MODIFIED:20260423T051422Z
UID:10003013-1778169600-1778171400@www.lacountyfair.com
SUMMARY:Barnyard Racing Pig Races
DESCRIPTION:
URL:https://www.lacountyfair.com/event/barnyard-racing-pig-races-87/
LOCATION:The Fields
CATEGORIES:Animal,Variety
END:VEVENT
BEGIN:VEVENT
DTSTART;TZID=America/Los_Angeles:20260507T180000
DTEND;TZID=America/Los_Angeles:20260507T183000
DTSTAMP:20260423T063710
CREATED:20260423T051423Z
LAST-MODIFIED:20260423T051423Z
UID:10003014-1778176800-1778178600@www.lacountyfair.com
SUMMARY:Barnyard Racing Pig Races
DESCRIPTION:
URL:https://www.lacountyfair.com/event/barnyard-racing-pig-races-88/
LOCATION:The Fields
CATEGORIES:Animal,Variety
END:VEVENT
BEGIN:VEVENT
DTSTART;TZID=America/Los_Angeles:20260507T200000
DTEND;TZID=America/Los_Angeles:20260507T203000
DTSTAMP:20260423T063710
CREATED:20260423T051424Z
LAST-MODIFIED:20260423T051424Z
UID:10003015-1778184000-1778185800@www.lacountyfair.com
SUMMARY:Barnyard Racing Pig Races
DESCRIPTION:
URL:https://www.lacountyfair.com/event/barnyard-racing-pig-races-89/
LOCATION:The Fields
CATEGORIES:Animal,Variety
END:VEVENT
BEGIN:VEVENT
DTSTART;TZID=America/Los_Angeles:20260507T220000
DTEND;TZID=America/Los_Angeles:20260507T223000
DTSTAMP:20260423T063710
CREATED:20260423T051434Z
LAST-MODIFIED:20260423T051434Z
UID:10003016-1778191200-1778193000@www.lacountyfair.com
SUMMARY:Barnyard Racing Pig Races
DESCRIPTION:
URL:https://www.lacountyfair.com/event/barnyard-racing-pig-races-90/
LOCATION:The Fields
CATEGORIES:Animal,Variety
END:VEVENT
BEGIN:VEVENT
DTSTART;TZID=America/Los_Angeles:20260508T120000
DTEND;TZID=America/Los_Angeles:20260508T123000
DTSTAMP:20260423T063710
CREATED:20260423T053321Z
LAST-MODIFIED:20260423T053321Z
UID:10003121-1778241600-1778243400@www.lacountyfair.com
SUMMARY:Barnyard Racing Pig Races
DESCRIPTION:
URL:https://www.lacountyfair.com/event/barnyard-racing-pig-races-91/
LOCATION:The Fields
CATEGORIES:Animal,Variety
END:VEVENT
BEGIN:VEVENT
DTSTART;TZID=America/Los_Angeles:20260508T140000
DTEND;TZID=America/Los_Angeles:20260508T143000
DTSTAMP:20260423T063710
CREATED:20260423T053322Z
LAST-MODIFIED:20260423T053322Z
UID:10003122-1778248800-1778250600@www.lacountyfair.com
SUMMARY:Barnyard Racing Pig Races
DESCRIPTION:
URL:https://www.lacountyfair.com/event/barnyard-racing-pig-races-92/
LOCATION:The Fields
CATEGORIES:Animal,Variety
END:VEVENT
BEGIN:VEVENT
DTSTART;TZID=America/Los_Angeles:20260508T160000
DTEND;TZID=America/Los_Angeles:20260508T163000
DTSTAMP:20260423T063710
CREATED:20260423T053323Z
LAST-MODIFIED:20260423T053323Z
UID:10003123-1778256000-1778257800@www.lacountyfair.com
SUMMARY:Barnyard Racing Pig Races
DESCRIPTION:
URL:https://www.lacountyfair.com/event/barnyard-racing-pig-races-93/
LOCATION:The Fields
CATEGORIES:Animal,Variety
END:VEVENT
BEGIN:VEVENT
DTSTART;TZID=America/Los_Angeles:20260508T180000
DTEND;TZID=America/Los_Angeles:20260508T183000
DTSTAMP:20260423T063710
CREATED:20260423T053324Z
LAST-MODIFIED:20260423T053324Z
UID:10003124-1778263200-1778265000@www.lacountyfair.com
SUMMARY:Barnyard Racing Pig Races
DESCRIPTION:
URL:https://www.lacountyfair.com/event/barnyard-racing-pig-races-94/
LOCATION:The Fields
CATEGORIES:Animal,Variety
END:VEVENT
BEGIN:VEVENT
DTSTART;TZID=America/Los_Angeles:20260508T200000
DTEND;TZID=America/Los_Angeles:20260508T203000
DTSTAMP:20260423T063710
CREATED:20260423T053325Z
LAST-MODIFIED:20260423T053325Z
UID:10003125-1778270400-1778272200@www.lacountyfair.com
SUMMARY:Barnyard Racing Pig Races
DESCRIPTION:
URL:https://www.lacountyfair.com/event/barnyard-racing-pig-races-95/
LOCATION:The Fields
CATEGORIES:Animal,Variety
END:VEVENT
BEGIN:VEVENT
DTSTART;TZID=America/Los_Angeles:20260508T220000
DTEND;TZID=America/Los_Angeles:20260508T223000
DTSTAMP:20260423T063710
CREATED:20260423T053336Z
LAST-MODIFIED:20260423T053336Z
UID:10003126-1778277600-1778279400@www.lacountyfair.com
SUMMARY:Barnyard Racing Pig Races
DESCRIPTION:
URL:https://www.lacountyfair.com/event/barnyard-racing-pig-races-96/
LOCATION:The Fields
CATEGORIES:Animal,Variety
END:VEVENT
BEGIN:VEVENT
DTSTART;TZID=America/Los_Angeles:20260509T120000
DTEND;TZID=America/Los_Angeles:20260509T123000
DTSTAMP:20260423T063710
CREATED:20260423T055524Z
LAST-MODIFIED:20260423T055524Z
UID:10003244-1778328000-1778329800@www.lacountyfair.com
SUMMARY:Barnyard Racing Pig Races
DESCRIPTION:
URL:https://www.lacountyfair.com/event/barnyard-racing-pig-races-97/
LOCATION:The Fields
CATEGORIES:Animal,Variety
END:VEVENT
BEGIN:VEVENT
DTSTART;TZID=America/Los_Angeles:20260509T140000
DTEND;TZID=America/Los_Angeles:20260509T143000
DTSTAMP:20260423T063710
CREATED:20260423T055525Z
LAST-MODIFIED:20260423T055525Z
UID:10003245-1778335200-1778337000@www.lacountyfair.com
SUMMARY:Barnyard Racing Pig Races
DESCRIPTION:
URL:https://www.lacountyfair.com/event/barnyard-racing-pig-races-98/
LOCATION:The Fields
CATEGORIES:Animal,Variety
END:VEVENT
BEGIN:VEVENT
DTSTART;TZID=America/Los_Angeles:20260509T160000
DTEND;TZID=America/Los_Angeles:20260509T163000
DTSTAMP:20260423T063710
CREATED:20260423T055721Z
LAST-MODIFIED:20260423T055721Z
UID:10003246-1778342400-1778344200@www.lacountyfair.com
SUMMARY:Barnyard Racing Pig Races
DESCRIPTION:
URL:https://www.lacountyfair.com/event/barnyard-racing-pig-races-99/
LOCATION:The Fields
CATEGORIES:Animal,Variety
END:VEVENT
BEGIN:VEVENT
DTSTART;TZID=America/Los_Angeles:20260509T180000
DTEND;TZID=America/Los_Angeles:20260509T183000
DTSTAMP:20260423T063710
CREATED:20260423T055722Z
LAST-MODIFIED:20260423T055722Z
UID:10003247-1778349600-1778351400@www.lacountyfair.com
SUMMARY:Barnyard Racing Pig Races
DESCRIPTION:
URL:https://www.lacountyfair.com/event/barnyard-racing-pig-races-100/
LOCATION:The Fields
CATEGORIES:Animal,Variety
END:VEVENT
BEGIN:VEVENT
DTSTART;TZID=America/Los_Angeles:20260509T220000
DTEND;TZID=America/Los_Angeles:20260509T220000
DTSTAMP:20260423T063710
CREATED:20260423T055723Z
LAST-MODIFIED:20260423T055723Z
UID:10003248-1778364000-1778364000@www.lacountyfair.com
SUMMARY:Barnyard Racing Pig Races
DESCRIPTION:
URL:https://www.lacountyfair.com/event/barnyard-racing-pig-races-101/
LOCATION:The Fields
CATEGORIES:Animal,Variety
END:VEVENT
BEGIN:VEVENT
DTSTART;TZID=America/Los_Angeles:20260510T110000
DTEND;TZID=America/Los_Angeles:20260510T160000
DTSTAMP:20260423T063710
CREATED:20260423T122146Z
LAST-MODIFIED:20260423T122146Z
UID:10003454-1778410800-1778428800@www.lacountyfair.com
SUMMARY:The Getty
DESCRIPTION:
URL:https://www.lacountyfair.com/event/the-getty-2/
LOCATION:The Fields
CATEGORIES:Education,Variety
END:VEVENT
BEGIN:VEVENT
DTSTART;TZID=America/Los_Angeles:20260510T120000
DTEND;TZID=America/Los_Angeles:20260510T123000
DTSTAMP:20260423T063710
CREATED:20260423T071452Z
LAST-MODIFIED:20260423T071452Z
UID:10003372-1778414400-1778416200@www.lacountyfair.com
SUMMARY:Barnyard Racing Pig Races
DESCRIPTION:
URL:https://www.lacountyfair.com/event/barnyard-racing-pig-races-102/
LOCATION:The Fields
CATEGORIES:Animal,Variety
END:VEVENT
BEGIN:VEVENT
DTSTART;TZID=America/Los_Angeles:20260510T140000
DTEND;TZID=America/Los_Angeles:20260510T143000
DTSTAMP:20260423T063710
CREATED:20260423T071454Z
LAST-MODIFIED:20260423T071454Z
UID:10003373-1778421600-1778423400@www.lacountyfair.com
SUMMARY:Barnyard Racing Pig Races
DESCRIPTION:
URL:https://www.lacountyfair.com/event/barnyard-racing-pig-races-103/
LOCATION:The Fields
CATEGORIES:Animal,Variety
END:VEVENT
BEGIN:VEVENT
DTSTART;TZID=America/Los_Angeles:20260510T160000
DTEND;TZID=America/Los_Angeles:20260510T163000
DTSTAMP:20260423T063710
CREATED:20260423T071455Z
LAST-MODIFIED:20260423T071455Z
UID:10003374-1778428800-1778430600@www.lacountyfair.com
SUMMARY:Barnyard Racing Pig Races
DESCRIPTION:
URL:https://www.lacountyfair.com/event/barnyard-racing-pig-races-104/
LOCATION:The Fields
CATEGORIES:Animal,Variety
END:VEVENT
BEGIN:VEVENT
DTSTART;TZID=America/Los_Angeles:20260510T180000
DTEND;TZID=America/Los_Angeles:20260510T183000
DTSTAMP:20260423T063710
CREATED:20260423T071650Z
LAST-MODIFIED:20260423T071650Z
UID:10003375-1778436000-1778437800@www.lacountyfair.com
SUMMARY:Barnyard Racing Pig Races
DESCRIPTION:
URL:https://www.lacountyfair.com/event/barnyard-racing-pig-races-105/
LOCATION:The Fields
CATEGORIES:Animal,Variety
END:VEVENT
BEGIN:VEVENT
DTSTART;TZID=America/Los_Angeles:20260514T120000
DTEND;TZID=America/Los_Angeles:20260514T123000
DTSTAMP:20260423T063710
CREATED:20260423T131526Z
LAST-MODIFIED:20260423T131526Z
UID:10003490-1778760000-1778761800@www.lacountyfair.com
SUMMARY:Barnyard Racing Pig Races
DESCRIPTION:
URL:https://www.lacountyfair.com/event/barnyard-racing-pig-races-106/
LOCATION:The Fields
CATEGORIES:Animal,Variety
END:VEVENT
BEGIN:VEVENT
DTSTART;TZID=America/Los_Angeles:20260514T140000
DTEND;TZID=America/Los_Angeles:20260514T143000
DTSTAMP:20260423T063710
CREATED:20260423T131527Z
LAST-MODIFIED:20260423T131527Z
UID:10003491-1778767200-1778769000@www.lacountyfair.com
SUMMARY:Barnyard Racing Pig Races
DESCRIPTION:
URL:https://www.lacountyfair.com/event/barnyard-racing-pig-races-107/
LOCATION:The Fields
CATEGORIES:Animal,Variety
END:VEVENT
BEGIN:VEVENT
DTSTART;TZID=America/Los_Angeles:20260514T160000
DTEND;TZID=America/Los_Angeles:20260514T163000
DTSTAMP:20260423T063710
CREATED:20260423T131528Z
LAST-MODIFIED:20260423T131528Z
UID:10003492-1778774400-1778776200@www.lacountyfair.com
SUMMARY:Barnyard Racing Pig Races
DESCRIPTION:
URL:https://www.lacountyfair.com/event/barnyard-racing-pig-races-108/
LOCATION:The Fields
CATEGORIES:Animal,Variety
END:VEVENT
BEGIN:VEVENT
DTSTART;TZID=America/Los_Angeles:20260514T180000
DTEND;TZID=America/Los_Angeles:20260514T183000
DTSTAMP:20260423T063710
CREATED:20260423T131529Z
LAST-MODIFIED:20260423T131529Z
UID:10003493-1778781600-1778783400@www.lacountyfair.com
SUMMARY:Barnyard Racing Pig Races
DESCRIPTION:
URL:https://www.lacountyfair.com/event/barnyard-racing-pig-races-109/
LOCATION:The Fields
CATEGORIES:Animal,Variety
END:VEVENT
BEGIN:VEVENT
DTSTART;TZID=America/Los_Angeles:20260514T200000
DTEND;TZID=America/Los_Angeles:20260514T203000
DTSTAMP:20260423T063710
CREATED:20260423T131540Z
LAST-MODIFIED:20260423T131540Z
UID:10003494-1778788800-1778790600@www.lacountyfair.com
SUMMARY:Barnyard Racing Pig Races
DESCRIPTION:
URL:https://www.lacountyfair.com/event/barnyard-racing-pig-races-110/
LOCATION:The Fields
CATEGORIES:Animal,Variety
END:VEVENT
BEGIN:VEVENT
DTSTART;TZID=America/Los_Angeles:20260514T220000
DTEND;TZID=America/Los_Angeles:20260514T223000
DTSTAMP:20260423T063710
CREATED:20260423T131541Z
LAST-MODIFIED:20260423T131541Z
UID:10003495-1778796000-1778797800@www.lacountyfair.com
SUMMARY:Barnyard Racing Pig Races
DESCRIPTION:
URL:https://www.lacountyfair.com/event/barnyard-racing-pig-races-111/
LOCATION:The Fields
CATEGORIES:Animal,Variety
END:VEVENT
END:VCALENDAR