BEGIN:VCALENDAR
VERSION:2.0
PRODID:-//2026 LA County Fair - ECPv6.15.17.1//NONSGML v1.0//EN
CALSCALE:GREGORIAN
METHOD:PUBLISH
X-WR-CALNAME:2026 LA County Fair
X-ORIGINAL-URL:https://www.lacountyfair.com
X-WR-CALDESC:Events for 2026 LA County Fair
REFRESH-INTERVAL;VALUE=DURATION:PT1H
X-Robots-Tag:noindex
X-PUBLISHED-TTL:PT1H
BEGIN:VTIMEZONE
TZID:America/Los_Angeles
BEGIN:DAYLIGHT
TZOFFSETFROM:-0800
TZOFFSETTO:-0700
TZNAME:PDT
DTSTART:20250309T100000
END:DAYLIGHT
BEGIN:STANDARD
TZOFFSETFROM:-0700
TZOFFSETTO:-0800
TZNAME:PST
DTSTART:20251102T090000
END:STANDARD
BEGIN:DAYLIGHT
TZOFFSETFROM:-0800
TZOFFSETTO:-0700
TZNAME:PDT
DTSTART:20260308T100000
END:DAYLIGHT
BEGIN:STANDARD
TZOFFSETFROM:-0700
TZOFFSETTO:-0800
TZNAME:PST
DTSTART:20261101T090000
END:STANDARD
BEGIN:DAYLIGHT
TZOFFSETFROM:-0800
TZOFFSETTO:-0700
TZNAME:PDT
DTSTART:20270314T100000
END:DAYLIGHT
BEGIN:STANDARD
TZOFFSETFROM:-0700
TZOFFSETTO:-0800
TZNAME:PST
DTSTART:20271107T090000
END:STANDARD
END:VTIMEZONE
BEGIN:VEVENT
DTSTART;TZID=America/Los_Angeles:20260507T110000
DTEND;TZID=America/Los_Angeles:20260507T220000
DTSTAMP:20260423T081344
CREATED:20260423T051257Z
LAST-MODIFIED:20260423T051257Z
UID:10002981-1778151600-1778191200@www.lacountyfair.com
SUMMARY:The Gardens
DESCRIPTION:
URL:https://www.lacountyfair.com/event/the-gardens-17/
LOCATION:The Farm & Gardens
CATEGORIES:Attraction,Demonstration,Food,Music
END:VEVENT
BEGIN:VEVENT
DTSTART;TZID=America/Los_Angeles:20260507T130000
DTEND;TZID=America/Los_Angeles:20260507T133000
DTSTAMP:20260423T081344
CREATED:20260423T051306Z
LAST-MODIFIED:20260423T051306Z
UID:10002988-1778158800-1778160600@www.lacountyfair.com
SUMMARY:Magic Bean Ag Magic Show
DESCRIPTION:
URL:https://www.lacountyfair.com/event/magic-bean-ag-magic-show-62/
LOCATION:The Farm & Gardens
CATEGORIES:Education,Show
END:VEVENT
BEGIN:VEVENT
DTSTART;TZID=America/Los_Angeles:20260507T150000
DTEND;TZID=America/Los_Angeles:20260507T153000
DTSTAMP:20260423T081344
CREATED:20260423T051307Z
LAST-MODIFIED:20260423T051307Z
UID:10002989-1778166000-1778167800@www.lacountyfair.com
SUMMARY:Magic Bean Ag Magic Show
DESCRIPTION:
URL:https://www.lacountyfair.com/event/magic-bean-ag-magic-show-63/
LOCATION:The Farm & Gardens
CATEGORIES:Education,Show
END:VEVENT
BEGIN:VEVENT
DTSTART;TZID=America/Los_Angeles:20260507T170000
DTEND;TZID=America/Los_Angeles:20260507T173000
DTSTAMP:20260423T081344
CREATED:20260423T051308Z
LAST-MODIFIED:20260423T051308Z
UID:10002990-1778173200-1778175000@www.lacountyfair.com
SUMMARY:Magic Bean Ag Magic Show
DESCRIPTION:
URL:https://www.lacountyfair.com/event/magic-bean-ag-magic-show-64/
LOCATION:The Farm & Gardens
CATEGORIES:Education,Show
END:VEVENT
BEGIN:VEVENT
DTSTART;TZID=America/Los_Angeles:20260507T190000
DTEND;TZID=America/Los_Angeles:20260507T193000
DTSTAMP:20260423T081344
CREATED:20260423T051319Z
LAST-MODIFIED:20260423T051319Z
UID:10002991-1778180400-1778182200@www.lacountyfair.com
SUMMARY:Magic Bean Ag Magic Show
DESCRIPTION:
URL:https://www.lacountyfair.com/event/magic-bean-ag-magic-show-65/
LOCATION:The Farm & Gardens
CATEGORIES:Education,Show
END:VEVENT
BEGIN:VEVENT
DTSTART;TZID=America/Los_Angeles:20260508T110000
DTEND;TZID=America/Los_Angeles:20260508T220000
DTSTAMP:20260423T081344
CREATED:20260423T053151Z
LAST-MODIFIED:20260423T053151Z
UID:10003091-1778238000-1778277600@www.lacountyfair.com
SUMMARY:The Gardens
DESCRIPTION:
URL:https://www.lacountyfair.com/event/the-gardens-18/
LOCATION:The Farm & Gardens
CATEGORIES:Attraction,Demonstration,Food,Music
END:VEVENT
BEGIN:VEVENT
DTSTART;TZID=America/Los_Angeles:20260508T130000
DTEND;TZID=America/Los_Angeles:20260508T133000
DTSTAMP:20260423T081344
CREATED:20260423T053208Z
LAST-MODIFIED:20260423T053208Z
UID:10003098-1778245200-1778247000@www.lacountyfair.com
SUMMARY:Magic Bean Ag Magic Show
DESCRIPTION:
URL:https://www.lacountyfair.com/event/magic-bean-ag-magic-show-66/
LOCATION:The Farm & Gardens
CATEGORIES:Education,Show
END:VEVENT
BEGIN:VEVENT
DTSTART;TZID=America/Los_Angeles:20260508T150000
DTEND;TZID=America/Los_Angeles:20260508T153000
DTSTAMP:20260423T081344
CREATED:20260423T053209Z
LAST-MODIFIED:20260423T053209Z
UID:10003099-1778252400-1778254200@www.lacountyfair.com
SUMMARY:Magic Bean Ag Magic Show
DESCRIPTION:
URL:https://www.lacountyfair.com/event/magic-bean-ag-magic-show-67/
LOCATION:The Farm & Gardens
CATEGORIES:Education,Show
END:VEVENT
BEGIN:VEVENT
DTSTART;TZID=America/Los_Angeles:20260508T170000
DTEND;TZID=America/Los_Angeles:20260508T173000
DTSTAMP:20260423T081344
CREATED:20260423T053210Z
LAST-MODIFIED:20260423T053210Z
UID:10003100-1778259600-1778261400@www.lacountyfair.com
SUMMARY:Magic Bean Ag Magic Show
DESCRIPTION:
URL:https://www.lacountyfair.com/event/magic-bean-ag-magic-show-68/
LOCATION:The Farm & Gardens
CATEGORIES:Education,Show
END:VEVENT
BEGIN:VEVENT
DTSTART;TZID=America/Los_Angeles:20260508T190000
DTEND;TZID=America/Los_Angeles:20260508T193000
DTSTAMP:20260423T081344
CREATED:20260423T053221Z
LAST-MODIFIED:20260423T053221Z
UID:10003101-1778266800-1778268600@www.lacountyfair.com
SUMMARY:Magic Bean Ag Magic Show
DESCRIPTION:
URL:https://www.lacountyfair.com/event/magic-bean-ag-magic-show-69/
LOCATION:The Farm & Gardens
CATEGORIES:Education,Show
END:VEVENT
BEGIN:VEVENT
DTSTART;TZID=America/Los_Angeles:20260509T110000
DTEND;TZID=America/Los_Angeles:20260509T220000
DTSTAMP:20260423T081344
CREATED:20260423T055338Z
LAST-MODIFIED:20260423T055338Z
UID:10003207-1778324400-1778364000@www.lacountyfair.com
SUMMARY:The Gardens
DESCRIPTION:
URL:https://www.lacountyfair.com/event/the-gardens-19/
LOCATION:The Farm & Gardens
CATEGORIES:Attraction,Demonstration,Food,Music
END:VEVENT
BEGIN:VEVENT
DTSTART;TZID=America/Los_Angeles:20260509T130000
DTEND;TZID=America/Los_Angeles:20260509T133000
DTSTAMP:20260423T081344
CREATED:20260423T055407Z
LAST-MODIFIED:20260423T055407Z
UID:10003217-1778331600-1778333400@www.lacountyfair.com
SUMMARY:Magic Bean Ag Magic Show
DESCRIPTION:
URL:https://www.lacountyfair.com/event/magic-bean-ag-magic-show-70/
LOCATION:The Farm & Gardens
CATEGORIES:Education,Show
END:VEVENT
BEGIN:VEVENT
DTSTART;TZID=America/Los_Angeles:20260509T150000
DTEND;TZID=America/Los_Angeles:20260509T153000
DTSTAMP:20260423T081344
CREATED:20260423T055408Z
LAST-MODIFIED:20260423T055408Z
UID:10003218-1778338800-1778340600@www.lacountyfair.com
SUMMARY:Magic Bean Ag Magic Show
DESCRIPTION:
URL:https://www.lacountyfair.com/event/magic-bean-ag-magic-show-71/
LOCATION:The Farm & Gardens
CATEGORIES:Education,Show
END:VEVENT
BEGIN:VEVENT
DTSTART;TZID=America/Los_Angeles:20260509T170000
DTEND;TZID=America/Los_Angeles:20260509T173000
DTSTAMP:20260423T081344
CREATED:20260423T055409Z
LAST-MODIFIED:20260423T055409Z
UID:10003219-1778346000-1778347800@www.lacountyfair.com
SUMMARY:Magic Bean Ag Magic Show
DESCRIPTION:
URL:https://www.lacountyfair.com/event/magic-bean-ag-magic-show-72/
LOCATION:The Farm & Gardens
CATEGORIES:Education,Show
END:VEVENT
BEGIN:VEVENT
DTSTART;TZID=America/Los_Angeles:20260509T190000
DTEND;TZID=America/Los_Angeles:20260509T193000
DTSTAMP:20260423T081344
CREATED:20260423T055410Z
LAST-MODIFIED:20260423T055410Z
UID:10003220-1778353200-1778355000@www.lacountyfair.com
SUMMARY:Magic Bean Ag Magic Show
DESCRIPTION:
URL:https://www.lacountyfair.com/event/magic-bean-ag-magic-show-73/
LOCATION:The Farm & Gardens
CATEGORIES:Education,Show
END:VEVENT
BEGIN:VEVENT
DTSTART;TZID=America/Los_Angeles:20260510T110000
DTEND;TZID=America/Los_Angeles:20260510T220000
DTSTAMP:20260423T081344
CREATED:20260423T070054Z
LAST-MODIFIED:20260423T070054Z
UID:10003338-1778410800-1778450400@www.lacountyfair.com
SUMMARY:The Gardens
DESCRIPTION:
URL:https://www.lacountyfair.com/event/the-gardens-20/
LOCATION:The Farm & Gardens
CATEGORIES:Attraction,Demonstration,Food,Music
END:VEVENT
BEGIN:VEVENT
DTSTART;TZID=America/Los_Angeles:20260510T130000
DTEND;TZID=America/Los_Angeles:20260510T133000
DTSTAMP:20260423T081344
CREATED:20260423T070453Z
LAST-MODIFIED:20260423T070453Z
UID:10003347-1778418000-1778419800@www.lacountyfair.com
SUMMARY:Magic Bean Ag Magic Show
DESCRIPTION:
URL:https://www.lacountyfair.com/event/magic-bean-ag-magic-show-74/
LOCATION:The Farm & Gardens
CATEGORIES:Education,Show
END:VEVENT
BEGIN:VEVENT
DTSTART;TZID=America/Los_Angeles:20260510T150000
DTEND;TZID=America/Los_Angeles:20260510T153000
DTSTAMP:20260423T081344
CREATED:20260423T070454Z
LAST-MODIFIED:20260423T070454Z
UID:10003348-1778425200-1778427000@www.lacountyfair.com
SUMMARY:Magic Bean Ag Magic Show
DESCRIPTION:
URL:https://www.lacountyfair.com/event/magic-bean-ag-magic-show-75/
LOCATION:The Farm & Gardens
CATEGORIES:Education,Show
END:VEVENT
BEGIN:VEVENT
DTSTART;TZID=America/Los_Angeles:20260510T170000
DTEND;TZID=America/Los_Angeles:20260510T173000
DTSTAMP:20260423T081344
CREATED:20260423T070455Z
LAST-MODIFIED:20260423T070455Z
UID:10003349-1778432400-1778434200@www.lacountyfair.com
SUMMARY:Magic Bean Ag Magic Show
DESCRIPTION:
URL:https://www.lacountyfair.com/event/magic-bean-ag-magic-show-76/
LOCATION:The Farm & Gardens
CATEGORIES:Education,Show
END:VEVENT
BEGIN:VEVENT
DTSTART;TZID=America/Los_Angeles:20260510T190000
DTEND;TZID=America/Los_Angeles:20260510T193000
DTSTAMP:20260423T081344
CREATED:20260423T070650Z
LAST-MODIFIED:20260423T070650Z
UID:10003350-1778439600-1778441400@www.lacountyfair.com
SUMMARY:Magic Bean Ag Magic Show
DESCRIPTION:
URL:https://www.lacountyfair.com/event/magic-bean-ag-magic-show-77/
LOCATION:The Farm & Gardens
CATEGORIES:Education,Show
END:VEVENT
BEGIN:VEVENT
DTSTART;TZID=America/Los_Angeles:20260514T110000
DTEND;TZID=America/Los_Angeles:20260514T220000
DTSTAMP:20260423T081344
CREATED:20260423T122201Z
LAST-MODIFIED:20260423T122201Z
UID:10003459-1778756400-1778796000@www.lacountyfair.com
SUMMARY:The Gardens
DESCRIPTION:
URL:https://www.lacountyfair.com/event/the-gardens-21/
LOCATION:The Farm & Gardens
CATEGORIES:Attraction,Demonstration,Food,Music
END:VEVENT
BEGIN:VEVENT
DTSTART;TZID=America/Los_Angeles:20260514T130000
DTEND;TZID=America/Los_Angeles:20260514T133000
DTSTAMP:20260423T081344
CREATED:20260423T122217Z
LAST-MODIFIED:20260423T122217Z
UID:10003465-1778763600-1778765400@www.lacountyfair.com
SUMMARY:Magic Bean Ag Magic Show
DESCRIPTION:
URL:https://www.lacountyfair.com/event/magic-bean-ag-magic-show-78/
LOCATION:The Farm & Gardens
CATEGORIES:Education,Show
END:VEVENT
BEGIN:VEVENT
DTSTART;TZID=America/Los_Angeles:20260514T150000
DTEND;TZID=America/Los_Angeles:20260514T153000
DTSTAMP:20260423T081344
CREATED:20260423T122218Z
LAST-MODIFIED:20260423T122218Z
UID:10003466-1778770800-1778772600@www.lacountyfair.com
SUMMARY:Magic Bean Ag Magic Show
DESCRIPTION:
URL:https://www.lacountyfair.com/event/magic-bean-ag-magic-show-79/
LOCATION:The Farm & Gardens
CATEGORIES:Education,Show
END:VEVENT
BEGIN:VEVENT
DTSTART;TZID=America/Los_Angeles:20260514T170000
DTEND;TZID=America/Los_Angeles:20260514T173000
DTSTAMP:20260423T081344
CREATED:20260423T122219Z
LAST-MODIFIED:20260423T122219Z
UID:10003467-1778778000-1778779800@www.lacountyfair.com
SUMMARY:Magic Bean Ag Magic Show
DESCRIPTION:
URL:https://www.lacountyfair.com/event/magic-bean-ag-magic-show-80/
LOCATION:The Farm & Gardens
CATEGORIES:Education,Show
END:VEVENT
BEGIN:VEVENT
DTSTART;TZID=America/Los_Angeles:20260514T190000
DTEND;TZID=America/Los_Angeles:20260514T193000
DTSTAMP:20260423T081344
CREATED:20260423T122220Z
LAST-MODIFIED:20260423T122220Z
UID:10003468-1778785200-1778787000@www.lacountyfair.com
SUMMARY:Magic Bean Ag Magic Show
DESCRIPTION:
URL:https://www.lacountyfair.com/event/magic-bean-ag-magic-show-81/
LOCATION:The Farm & Gardens
CATEGORIES:Education,Show
END:VEVENT
BEGIN:VEVENT
DTSTART;TZID=America/Los_Angeles:20260515T110000
DTEND;TZID=America/Los_Angeles:20260515T220000
DTSTAMP:20260423T081344
CREATED:20260423T150242Z
LAST-MODIFIED:20260423T150242Z
UID:10003566-1778842800-1778882400@www.lacountyfair.com
SUMMARY:The Gardens
DESCRIPTION:
URL:https://www.lacountyfair.com/event/the-gardens-22/
LOCATION:The Farm & Gardens
CATEGORIES:Attraction,Demonstration,Food,Music
END:VEVENT
BEGIN:VEVENT
DTSTART;TZID=America/Los_Angeles:20260515T130000
DTEND;TZID=America/Los_Angeles:20260515T133000
DTSTAMP:20260423T081344
CREATED:20260423T150300Z
LAST-MODIFIED:20260423T150300Z
UID:10003573-1778850000-1778851800@www.lacountyfair.com
SUMMARY:Magic Bean Ag Magic Show
DESCRIPTION:
URL:https://www.lacountyfair.com/event/magic-bean-ag-magic-show-82/
LOCATION:The Farm & Gardens
CATEGORIES:Education,Show
END:VEVENT
BEGIN:VEVENT
DTSTART;TZID=America/Los_Angeles:20260515T150000
DTEND;TZID=America/Los_Angeles:20260515T153000
DTSTAMP:20260423T081344
CREATED:20260423T150310Z
LAST-MODIFIED:20260423T150310Z
UID:10003574-1778857200-1778859000@www.lacountyfair.com
SUMMARY:Magic Bean Ag Magic Show
DESCRIPTION:
URL:https://www.lacountyfair.com/event/magic-bean-ag-magic-show-83/
LOCATION:The Farm & Gardens
CATEGORIES:Education,Show
END:VEVENT
BEGIN:VEVENT
DTSTART;TZID=America/Los_Angeles:20260515T170000
DTEND;TZID=America/Los_Angeles:20260515T173000
DTSTAMP:20260423T081344
CREATED:20260423T150312Z
LAST-MODIFIED:20260423T150312Z
UID:10003575-1778864400-1778866200@www.lacountyfair.com
SUMMARY:Magic Bean Ag Magic Show
DESCRIPTION:
URL:https://www.lacountyfair.com/event/magic-bean-ag-magic-show-84/
LOCATION:The Farm & Gardens
CATEGORIES:Education,Show
END:VEVENT
BEGIN:VEVENT
DTSTART;TZID=America/Los_Angeles:20260515T190000
DTEND;TZID=America/Los_Angeles:20260515T193000
DTSTAMP:20260423T081344
CREATED:20260423T150313Z
LAST-MODIFIED:20260423T150313Z
UID:10003576-1778871600-1778873400@www.lacountyfair.com
SUMMARY:Magic Bean Ag Magic Show
DESCRIPTION:
URL:https://www.lacountyfair.com/event/magic-bean-ag-magic-show-85/
LOCATION:The Farm & Gardens
CATEGORIES:Education,Show
END:VEVENT
END:VCALENDAR