BEGIN:VCALENDAR
VERSION:2.0
PRODID:-//2026 LA County Fair - ECPv6.15.17.1//NONSGML v1.0//EN
CALSCALE:GREGORIAN
METHOD:PUBLISH
X-ORIGINAL-URL:https://www.lacountyfair.com
X-WR-CALDESC:Events for 2026 LA County Fair
REFRESH-INTERVAL;VALUE=DURATION:PT1H
X-Robots-Tag:noindex
X-PUBLISHED-TTL:PT1H
BEGIN:VTIMEZONE
TZID:America/Los_Angeles
BEGIN:DAYLIGHT
TZOFFSETFROM:-0800
TZOFFSETTO:-0700
TZNAME:PDT
DTSTART:20250309T100000
END:DAYLIGHT
BEGIN:STANDARD
TZOFFSETFROM:-0700
TZOFFSETTO:-0800
TZNAME:PST
DTSTART:20251102T090000
END:STANDARD
BEGIN:DAYLIGHT
TZOFFSETFROM:-0800
TZOFFSETTO:-0700
TZNAME:PDT
DTSTART:20260308T100000
END:DAYLIGHT
BEGIN:STANDARD
TZOFFSETFROM:-0700
TZOFFSETTO:-0800
TZNAME:PST
DTSTART:20261101T090000
END:STANDARD
BEGIN:DAYLIGHT
TZOFFSETFROM:-0800
TZOFFSETTO:-0700
TZNAME:PDT
DTSTART:20270314T100000
END:DAYLIGHT
BEGIN:STANDARD
TZOFFSETFROM:-0700
TZOFFSETTO:-0800
TZNAME:PST
DTSTART:20271107T090000
END:STANDARD
END:VTIMEZONE
BEGIN:VEVENT
DTSTART;VALUE=DATE:20260507
DTEND;VALUE=DATE:20260508
DTSTAMP:20260423T090014
CREATED:20260423T051259Z
LAST-MODIFIED:20260423T051259Z
UID:10002983-1778112000-1778198399@www.lacountyfair.com
SUMMARY:RCS Rides & Games
DESCRIPTION:
URL:https://www.lacountyfair.com/event/rcs-rides-games-17/
LOCATION:RCS Rides & Games
CATEGORIES:Attraction
END:VEVENT
BEGIN:VEVENT
DTSTART;VALUE=DATE:20260508
DTEND;VALUE=DATE:20260509
DTSTAMP:20260423T090014
CREATED:20260423T053154Z
LAST-MODIFIED:20260423T053154Z
UID:10003094-1778198400-1778284799@www.lacountyfair.com
SUMMARY:RCS Rides & Games
DESCRIPTION:
URL:https://www.lacountyfair.com/event/rcs-rides-games-18/
LOCATION:RCS Rides & Games
CATEGORIES:Attraction
END:VEVENT
BEGIN:VEVENT
DTSTART;VALUE=DATE:20260509
DTEND;VALUE=DATE:20260510
DTSTAMP:20260423T090014
CREATED:20260423T055354Z
LAST-MODIFIED:20260423T055354Z
UID:10003213-1778284800-1778371199@www.lacountyfair.com
SUMMARY:RCS Rides & Games
DESCRIPTION:
URL:https://www.lacountyfair.com/event/rcs-rides-games-19/
LOCATION:RCS Rides & Games
CATEGORIES:Attraction
END:VEVENT
BEGIN:VEVENT
DTSTART;VALUE=DATE:20260510
DTEND;VALUE=DATE:20260511
DTSTAMP:20260423T090014
CREATED:20260423T070254Z
LAST-MODIFIED:20260423T070254Z
UID:10003343-1778371200-1778457599@www.lacountyfair.com
SUMMARY:RCS Rides & Games
DESCRIPTION:
URL:https://www.lacountyfair.com/event/rcs-rides-games-20/
LOCATION:RCS Rides & Games
CATEGORIES:Attraction
END:VEVENT
BEGIN:VEVENT
DTSTART;VALUE=DATE:20260514
DTEND;VALUE=DATE:20260515
DTSTAMP:20260423T090014
CREATED:20260423T122204Z
LAST-MODIFIED:20260423T122204Z
UID:10003462-1778716800-1778803199@www.lacountyfair.com
SUMMARY:RCS Rides & Games
DESCRIPTION:
URL:https://www.lacountyfair.com/event/rcs-rides-games-21/
LOCATION:RCS Rides & Games
CATEGORIES:Attraction
END:VEVENT
BEGIN:VEVENT
DTSTART;VALUE=DATE:20260515
DTEND;VALUE=DATE:20260516
DTSTAMP:20260423T090014
CREATED:20260423T150255Z
LAST-MODIFIED:20260423T150255Z
UID:10003569-1778803200-1778889599@www.lacountyfair.com
SUMMARY:RCS Rides & Games
DESCRIPTION:
URL:https://www.lacountyfair.com/event/rcs-rides-games-22/
LOCATION:RCS Rides & Games
CATEGORIES:Attraction
END:VEVENT
END:VCALENDAR