BEGIN:VCALENDAR
VERSION:2.0
PRODID:-//2026 LA County Fair - ECPv6.15.17.1//NONSGML v1.0//EN
CALSCALE:GREGORIAN
METHOD:PUBLISH
X-ORIGINAL-URL:https://www.lacountyfair.com
X-WR-CALDESC:Events for 2026 LA County Fair
REFRESH-INTERVAL;VALUE=DURATION:PT1H
X-Robots-Tag:noindex
X-PUBLISHED-TTL:PT1H
BEGIN:VTIMEZONE
TZID:America/Los_Angeles
BEGIN:DAYLIGHT
TZOFFSETFROM:-0800
TZOFFSETTO:-0700
TZNAME:PDT
DTSTART:20250309T100000
END:DAYLIGHT
BEGIN:STANDARD
TZOFFSETFROM:-0700
TZOFFSETTO:-0800
TZNAME:PST
DTSTART:20251102T090000
END:STANDARD
BEGIN:DAYLIGHT
TZOFFSETFROM:-0800
TZOFFSETTO:-0700
TZNAME:PDT
DTSTART:20260308T100000
END:DAYLIGHT
BEGIN:STANDARD
TZOFFSETFROM:-0700
TZOFFSETTO:-0800
TZNAME:PST
DTSTART:20261101T090000
END:STANDARD
BEGIN:DAYLIGHT
TZOFFSETFROM:-0800
TZOFFSETTO:-0700
TZNAME:PDT
DTSTART:20270314T100000
END:DAYLIGHT
BEGIN:STANDARD
TZOFFSETFROM:-0700
TZOFFSETTO:-0800
TZNAME:PST
DTSTART:20271107T090000
END:STANDARD
END:VTIMEZONE
BEGIN:VEVENT
DTSTART;TZID=America/Los_Angeles:20260503T110000
DTEND;TZID=America/Los_Angeles:20260503T210000
DTSTAMP:20260421T133949
CREATED:20250428T203458Z
LAST-MODIFIED:20260306T184808Z
UID:10001489-1777806000-1777842000@www.lacountyfair.com
SUMMARY:RailGiants Historic Trains
DESCRIPTION:
URL:https://www.lacountyfair.com/event/railgiants-historic-trains-2/
LOCATION:RailGiants Historic Trains
CATEGORIES:Attraction,Education
END:VEVENT
END:VCALENDAR