BEGIN:VCALENDAR
VERSION:2.0
PRODID:-//2026 LA County Fair - ECPv6.15.17.1//NONSGML v1.0//EN
CALSCALE:GREGORIAN
METHOD:PUBLISH
X-ORIGINAL-URL:https://www.lacountyfair.com
X-WR-CALDESC:Events for 2026 LA County Fair
REFRESH-INTERVAL;VALUE=DURATION:PT1H
X-Robots-Tag:noindex
X-PUBLISHED-TTL:PT1H
BEGIN:VTIMEZONE
TZID:America/Los_Angeles
BEGIN:DAYLIGHT
TZOFFSETFROM:-0800
TZOFFSETTO:-0700
TZNAME:PDT
DTSTART:20250309T100000
END:DAYLIGHT
BEGIN:STANDARD
TZOFFSETFROM:-0700
TZOFFSETTO:-0800
TZNAME:PST
DTSTART:20251102T090000
END:STANDARD
BEGIN:DAYLIGHT
TZOFFSETFROM:-0800
TZOFFSETTO:-0700
TZNAME:PDT
DTSTART:20260308T100000
END:DAYLIGHT
BEGIN:STANDARD
TZOFFSETFROM:-0700
TZOFFSETTO:-0800
TZNAME:PST
DTSTART:20261101T090000
END:STANDARD
BEGIN:DAYLIGHT
TZOFFSETFROM:-0800
TZOFFSETTO:-0700
TZNAME:PDT
DTSTART:20270314T100000
END:DAYLIGHT
BEGIN:STANDARD
TZOFFSETFROM:-0700
TZOFFSETTO:-0800
TZNAME:PST
DTSTART:20271107T090000
END:STANDARD
END:VTIMEZONE
BEGIN:VEVENT
DTSTART;TZID=America/Los_Angeles:20260509T153000
DTEND;TZID=America/Los_Angeles:20260509T160000
DTSTAMP:20260423T120358
CREATED:20260423T065854Z
LAST-MODIFIED:20260423T065854Z
UID:10003333-1778340600-1778342400@www.lacountyfair.com
SUMMARY:Playful Contests
DESCRIPTION:
URL:https://www.lacountyfair.com/event/playful-contests-5/
LOCATION:Play Your Way Stage
CATEGORIES:Show,Variety
END:VEVENT
BEGIN:VEVENT
DTSTART;TZID=America/Los_Angeles:20260509T163000
DTEND;TZID=America/Los_Angeles:20260509T170000
DTSTAMP:20260423T120358
CREATED:20260423T065850Z
LAST-MODIFIED:20260423T065850Z
UID:10003330-1778344200-1778346000@www.lacountyfair.com
SUMMARY:Bob Baker Marionette Theater
DESCRIPTION:
URL:https://www.lacountyfair.com/event/bob-baker-marionette-theater-9/
LOCATION:Play Your Way Stage
CATEGORIES:Music,Show,Variety
END:VEVENT
BEGIN:VEVENT
DTSTART;TZID=America/Los_Angeles:20260509T173000
DTEND;TZID=America/Los_Angeles:20260509T180000
DTSTAMP:20260423T120358
CREATED:20260423T065855Z
LAST-MODIFIED:20260423T065855Z
UID:10003334-1778347800-1778349600@www.lacountyfair.com
SUMMARY:Playful Contests
DESCRIPTION:
URL:https://www.lacountyfair.com/event/playful-contests-6/
LOCATION:Play Your Way Stage
CATEGORIES:Show,Variety
END:VEVENT
BEGIN:VEVENT
DTSTART;TZID=America/Los_Angeles:20260509T183000
DTEND;TZID=America/Los_Angeles:20260509T183000
DTSTAMP:20260423T120358
CREATED:20260423T065851Z
LAST-MODIFIED:20260423T065851Z
UID:10003331-1778351400-1778351400@www.lacountyfair.com
SUMMARY:Bob Baker Marionette Theater
DESCRIPTION:
URL:https://www.lacountyfair.com/event/bob-baker-marionette-theater-10/
LOCATION:Play Your Way Stage
CATEGORIES:Music,Show,Variety
END:VEVENT
BEGIN:VEVENT
DTSTART;TZID=America/Los_Angeles:20260510T123000
DTEND;TZID=America/Los_Angeles:20260510T130000
DTSTAMP:20260423T120358
CREATED:20260423T122132Z
LAST-MODIFIED:20260423T122132Z
UID:10003450-1778416200-1778418000@www.lacountyfair.com
SUMMARY:Bob Baker Marionette Theater
DESCRIPTION:
URL:https://www.lacountyfair.com/event/bob-baker-marionette-theater-11/
LOCATION:Play Your Way Stage
CATEGORIES:Music,Show,Variety
END:VEVENT
BEGIN:VEVENT
DTSTART;TZID=America/Los_Angeles:20260510T143000
DTEND;TZID=America/Los_Angeles:20260510T150000
DTSTAMP:20260423T120358
CREATED:20260423T122133Z
LAST-MODIFIED:20260423T122133Z
UID:10003451-1778423400-1778425200@www.lacountyfair.com
SUMMARY:Bob Baker Marionette Theater
DESCRIPTION:
URL:https://www.lacountyfair.com/event/bob-baker-marionette-theater-12/
LOCATION:Play Your Way Stage
CATEGORIES:Music,Show,Variety
END:VEVENT
BEGIN:VEVENT
DTSTART;TZID=America/Los_Angeles:20260510T153000
DTEND;TZID=America/Los_Angeles:20260510T160000
DTSTAMP:20260423T120358
CREATED:20260423T122147Z
LAST-MODIFIED:20260423T122147Z
UID:10003455-1778427000-1778428800@www.lacountyfair.com
SUMMARY:Playful Contests
DESCRIPTION:
URL:https://www.lacountyfair.com/event/playful-contests-7/
LOCATION:Play Your Way Stage
CATEGORIES:Show,Variety
END:VEVENT
BEGIN:VEVENT
DTSTART;TZID=America/Los_Angeles:20260510T163000
DTEND;TZID=America/Los_Angeles:20260510T170000
DTSTAMP:20260423T120358
CREATED:20260423T122134Z
LAST-MODIFIED:20260423T122134Z
UID:10003452-1778430600-1778432400@www.lacountyfair.com
SUMMARY:Bob Baker Marionette Theater
DESCRIPTION:
URL:https://www.lacountyfair.com/event/bob-baker-marionette-theater-13/
LOCATION:Play Your Way Stage
CATEGORIES:Music,Show,Variety
END:VEVENT
BEGIN:VEVENT
DTSTART;TZID=America/Los_Angeles:20260510T173000
DTEND;TZID=America/Los_Angeles:20260510T180000
DTSTAMP:20260423T120358
CREATED:20260423T122148Z
LAST-MODIFIED:20260423T122148Z
UID:10003456-1778434200-1778436000@www.lacountyfair.com
SUMMARY:Playful Contests
DESCRIPTION:
URL:https://www.lacountyfair.com/event/playful-contests-8/
LOCATION:Play Your Way Stage
CATEGORIES:Show,Variety
END:VEVENT
BEGIN:VEVENT
DTSTART;TZID=America/Los_Angeles:20260510T183000
DTEND;TZID=America/Los_Angeles:20260510T183000
DTSTAMP:20260423T120358
CREATED:20260423T122135Z
LAST-MODIFIED:20260423T122135Z
UID:10003453-1778437800-1778437800@www.lacountyfair.com
SUMMARY:Bob Baker Marionette Theater
DESCRIPTION:
URL:https://www.lacountyfair.com/event/bob-baker-marionette-theater-14/
LOCATION:Play Your Way Stage
CATEGORIES:Music,Show,Variety
END:VEVENT
BEGIN:VEVENT
DTSTART;TZID=America/Los_Angeles:20260514T113000
DTEND;TZID=America/Los_Angeles:20260514T120000
DTSTAMP:20260423T120358
CREATED:20260423T150226Z
LAST-MODIFIED:20260423T150226Z
UID:10003560-1778758200-1778760000@www.lacountyfair.com
SUMMARY:Bob Baker Marionette Theater
DESCRIPTION:
URL:https://www.lacountyfair.com/event/bob-baker-marionette-theater-15/
LOCATION:Play Your Way Stage
CATEGORIES:Music,Show,Variety
END:VEVENT
BEGIN:VEVENT
DTSTART;TZID=America/Los_Angeles:20260514T133000
DTEND;TZID=America/Los_Angeles:20260514T140000
DTSTAMP:20260423T120358
CREATED:20260423T150227Z
LAST-MODIFIED:20260423T150227Z
UID:10003561-1778765400-1778767200@www.lacountyfair.com
SUMMARY:Bob Baker Marionette Theater
DESCRIPTION:
URL:https://www.lacountyfair.com/event/bob-baker-marionette-theater-16/
LOCATION:Play Your Way Stage
CATEGORIES:Music,Show,Variety
END:VEVENT
BEGIN:VEVENT
DTSTART;TZID=America/Los_Angeles:20260514T150000
DTEND;TZID=America/Los_Angeles:20260514T153000
DTSTAMP:20260423T120358
CREATED:20260423T150230Z
LAST-MODIFIED:20260423T150230Z
UID:10003563-1778770800-1778772600@www.lacountyfair.com
SUMMARY:Playful Contests
DESCRIPTION:
URL:https://www.lacountyfair.com/event/playful-contests-9/
LOCATION:Play Your Way Stage
CATEGORIES:Show,Variety
END:VEVENT
BEGIN:VEVENT
DTSTART;TZID=America/Los_Angeles:20260514T163000
DTEND;TZID=America/Los_Angeles:20260514T170000
DTSTAMP:20260423T120358
CREATED:20260423T150228Z
LAST-MODIFIED:20260423T150228Z
UID:10003562-1778776200-1778778000@www.lacountyfair.com
SUMMARY:Bob Baker Marionette Theater
DESCRIPTION:
URL:https://www.lacountyfair.com/event/bob-baker-marionette-theater-17/
LOCATION:Play Your Way Stage
CATEGORIES:Music,Show,Variety
END:VEVENT
BEGIN:VEVENT
DTSTART;TZID=America/Los_Angeles:20260514T180000
DTEND;TZID=America/Los_Angeles:20260514T183000
DTSTAMP:20260423T120358
CREATED:20260423T150240Z
LAST-MODIFIED:20260423T150240Z
UID:10003564-1778781600-1778783400@www.lacountyfair.com
SUMMARY:Playful Contests
DESCRIPTION:
URL:https://www.lacountyfair.com/event/playful-contests-10/
LOCATION:Play Your Way Stage
CATEGORIES:Show,Variety
END:VEVENT
END:VCALENDAR