BEGIN:VCALENDAR
VERSION:2.0
PRODID:-//2026 LA County Fair - ECPv6.15.17.1//NONSGML v1.0//EN
CALSCALE:GREGORIAN
METHOD:PUBLISH
X-WR-CALNAME:2026 LA County Fair
X-ORIGINAL-URL:https://www.lacountyfair.com
X-WR-CALDESC:Events for 2026 LA County Fair
REFRESH-INTERVAL;VALUE=DURATION:PT1H
X-Robots-Tag:noindex
X-PUBLISHED-TTL:PT1H
BEGIN:VTIMEZONE
TZID:America/Los_Angeles
BEGIN:DAYLIGHT
TZOFFSETFROM:-0800
TZOFFSETTO:-0700
TZNAME:PDT
DTSTART:20250309T100000
END:DAYLIGHT
BEGIN:STANDARD
TZOFFSETFROM:-0700
TZOFFSETTO:-0800
TZNAME:PST
DTSTART:20251102T090000
END:STANDARD
BEGIN:DAYLIGHT
TZOFFSETFROM:-0800
TZOFFSETTO:-0700
TZNAME:PDT
DTSTART:20260308T100000
END:DAYLIGHT
BEGIN:STANDARD
TZOFFSETFROM:-0700
TZOFFSETTO:-0800
TZNAME:PST
DTSTART:20261101T090000
END:STANDARD
BEGIN:DAYLIGHT
TZOFFSETFROM:-0800
TZOFFSETTO:-0700
TZNAME:PDT
DTSTART:20270314T100000
END:DAYLIGHT
BEGIN:STANDARD
TZOFFSETFROM:-0700
TZOFFSETTO:-0800
TZNAME:PST
DTSTART:20271107T090000
END:STANDARD
END:VTIMEZONE
BEGIN:VEVENT
DTSTART;TZID=America/Los_Angeles:20260509T160000
DTEND;TZID=America/Los_Angeles:20260509T163000
DTSTAMP:20260423T101503
CREATED:20260423T065455Z
LAST-MODIFIED:20260423T065455Z
UID:10003324-1778342400-1778344200@www.lacountyfair.com
SUMMARY:Cutest Dog Show on Earth
DESCRIPTION:
URL:https://www.lacountyfair.com/event/cutest-dog-show-on-earth-10/
LOCATION:Lagoon
CATEGORIES:Animal,Show,Variety
END:VEVENT
BEGIN:VEVENT
DTSTART;TZID=America/Los_Angeles:20260509T180000
DTEND;TZID=America/Los_Angeles:20260509T183000
DTSTAMP:20260423T101503
CREATED:20260423T065651Z
LAST-MODIFIED:20260423T065651Z
UID:10003325-1778349600-1778351400@www.lacountyfair.com
SUMMARY:Cutest Dog Show on Earth
DESCRIPTION:
URL:https://www.lacountyfair.com/event/cutest-dog-show-on-earth-11/
LOCATION:Lagoon
CATEGORIES:Animal,Show,Variety
END:VEVENT
BEGIN:VEVENT
DTSTART;TZID=America/Los_Angeles:20260509T200000
DTEND;TZID=America/Los_Angeles:20260509T203000
DTSTAMP:20260423T101503
CREATED:20260423T065652Z
LAST-MODIFIED:20260423T065652Z
UID:10003326-1778356800-1778358600@www.lacountyfair.com
SUMMARY:Cutest Dog Show on Earth
DESCRIPTION:
URL:https://www.lacountyfair.com/event/cutest-dog-show-on-earth-12/
LOCATION:Lagoon
CATEGORIES:Animal,Show,Variety
END:VEVENT
BEGIN:VEVENT
DTSTART;TZID=America/Los_Angeles:20260510T110000
DTEND;TZID=America/Los_Angeles:20260510T230000
DTSTAMP:20260423T101503
CREATED:20260423T122131Z
LAST-MODIFIED:20260423T122131Z
UID:10003449-1778410800-1778454000@www.lacountyfair.com
SUMMARY:Pirate's Lagoon
DESCRIPTION:
URL:https://www.lacountyfair.com/event/pirates-lagoon-4/
LOCATION:Lagoon
CATEGORIES:Attraction
END:VEVENT
BEGIN:VEVENT
DTSTART;TZID=America/Los_Angeles:20260510T140000
DTEND;TZID=America/Los_Angeles:20260510T143000
DTSTAMP:20260423T101503
CREATED:20260423T122117Z
LAST-MODIFIED:20260423T122117Z
UID:10003445-1778421600-1778423400@www.lacountyfair.com
SUMMARY:Cutest Dog Show on Earth
DESCRIPTION:
URL:https://www.lacountyfair.com/event/cutest-dog-show-on-earth-13/
LOCATION:Lagoon
CATEGORIES:Animal,Show,Variety
END:VEVENT
BEGIN:VEVENT
DTSTART;TZID=America/Los_Angeles:20260510T160000
DTEND;TZID=America/Los_Angeles:20260510T163000
DTSTAMP:20260423T101503
CREATED:20260423T122118Z
LAST-MODIFIED:20260423T122118Z
UID:10003446-1778428800-1778430600@www.lacountyfair.com
SUMMARY:Cutest Dog Show on Earth
DESCRIPTION:
URL:https://www.lacountyfair.com/event/cutest-dog-show-on-earth-14/
LOCATION:Lagoon
CATEGORIES:Animal,Show,Variety
END:VEVENT
BEGIN:VEVENT
DTSTART;TZID=America/Los_Angeles:20260510T180000
DTEND;TZID=America/Los_Angeles:20260510T183000
DTSTAMP:20260423T101503
CREATED:20260423T122119Z
LAST-MODIFIED:20260423T122119Z
UID:10003447-1778436000-1778437800@www.lacountyfair.com
SUMMARY:Cutest Dog Show on Earth
DESCRIPTION:
URL:https://www.lacountyfair.com/event/cutest-dog-show-on-earth-15/
LOCATION:Lagoon
CATEGORIES:Animal,Show,Variety
END:VEVENT
BEGIN:VEVENT
DTSTART;TZID=America/Los_Angeles:20260510T200000
DTEND;TZID=America/Los_Angeles:20260510T203000
DTSTAMP:20260423T101503
CREATED:20260423T122120Z
LAST-MODIFIED:20260423T122120Z
UID:10003448-1778443200-1778445000@www.lacountyfair.com
SUMMARY:Cutest Dog Show on Earth
DESCRIPTION:
URL:https://www.lacountyfair.com/event/cutest-dog-show-on-earth-16/
LOCATION:Lagoon
CATEGORIES:Animal,Show,Variety
END:VEVENT
BEGIN:VEVENT
DTSTART;TZID=America/Los_Angeles:20260514T110000
DTEND;TZID=America/Los_Angeles:20260514T230000
DTSTAMP:20260423T101503
CREATED:20260423T150225Z
LAST-MODIFIED:20260423T150225Z
UID:10003559-1778756400-1778799600@www.lacountyfair.com
SUMMARY:Pirate's Lagoon
DESCRIPTION:
URL:https://www.lacountyfair.com/event/pirates-lagoon-5/
LOCATION:Lagoon
CATEGORIES:Attraction
END:VEVENT
BEGIN:VEVENT
DTSTART;TZID=America/Los_Angeles:20260514T140000
DTEND;TZID=America/Los_Angeles:20260514T143000
DTSTAMP:20260423T101503
CREATED:20260423T150211Z
LAST-MODIFIED:20260423T150211Z
UID:10003555-1778767200-1778769000@www.lacountyfair.com
SUMMARY:Cutest Dog Show on Earth
DESCRIPTION:
URL:https://www.lacountyfair.com/event/cutest-dog-show-on-earth-17/
LOCATION:Lagoon
CATEGORIES:Animal,Show,Variety
END:VEVENT
BEGIN:VEVENT
DTSTART;TZID=America/Los_Angeles:20260514T160000
DTEND;TZID=America/Los_Angeles:20260514T163000
DTSTAMP:20260423T101503
CREATED:20260423T150212Z
LAST-MODIFIED:20260423T150212Z
UID:10003556-1778774400-1778776200@www.lacountyfair.com
SUMMARY:Cutest Dog Show on Earth
DESCRIPTION:
URL:https://www.lacountyfair.com/event/cutest-dog-show-on-earth-18/
LOCATION:Lagoon
CATEGORIES:Animal,Show,Variety
END:VEVENT
BEGIN:VEVENT
DTSTART;TZID=America/Los_Angeles:20260514T180000
DTEND;TZID=America/Los_Angeles:20260514T183000
DTSTAMP:20260423T101503
CREATED:20260423T150214Z
LAST-MODIFIED:20260423T150214Z
UID:10003557-1778781600-1778783400@www.lacountyfair.com
SUMMARY:Cutest Dog Show on Earth
DESCRIPTION:
URL:https://www.lacountyfair.com/event/cutest-dog-show-on-earth-19/
LOCATION:Lagoon
CATEGORIES:Animal,Show,Variety
END:VEVENT
BEGIN:VEVENT
DTSTART;TZID=America/Los_Angeles:20260514T200000
DTEND;TZID=America/Los_Angeles:20260514T203000
DTSTAMP:20260423T101503
CREATED:20260423T150215Z
LAST-MODIFIED:20260423T150215Z
UID:10003558-1778788800-1778790600@www.lacountyfair.com
SUMMARY:Cutest Dog Show on Earth
DESCRIPTION:
URL:https://www.lacountyfair.com/event/cutest-dog-show-on-earth-20/
LOCATION:Lagoon
CATEGORIES:Animal,Show,Variety
END:VEVENT
END:VCALENDAR