BEGIN:VCALENDAR
VERSION:2.0
PRODID:-//2026 LA County Fair - ECPv6.15.17.1//NONSGML v1.0//EN
CALSCALE:GREGORIAN
METHOD:PUBLISH
X-ORIGINAL-URL:https://www.lacountyfair.com
X-WR-CALDESC:Events for 2026 LA County Fair
REFRESH-INTERVAL;VALUE=DURATION:PT1H
X-Robots-Tag:noindex
X-PUBLISHED-TTL:PT1H
BEGIN:VTIMEZONE
TZID:America/Los_Angeles
BEGIN:DAYLIGHT
TZOFFSETFROM:-0800
TZOFFSETTO:-0700
TZNAME:PDT
DTSTART:20250309T100000
END:DAYLIGHT
BEGIN:STANDARD
TZOFFSETFROM:-0700
TZOFFSETTO:-0800
TZNAME:PST
DTSTART:20251102T090000
END:STANDARD
BEGIN:DAYLIGHT
TZOFFSETFROM:-0800
TZOFFSETTO:-0700
TZNAME:PDT
DTSTART:20260308T100000
END:DAYLIGHT
BEGIN:STANDARD
TZOFFSETFROM:-0700
TZOFFSETTO:-0800
TZNAME:PST
DTSTART:20261101T090000
END:STANDARD
BEGIN:DAYLIGHT
TZOFFSETFROM:-0800
TZOFFSETTO:-0700
TZNAME:PDT
DTSTART:20270314T100000
END:DAYLIGHT
BEGIN:STANDARD
TZOFFSETFROM:-0700
TZOFFSETTO:-0800
TZNAME:PST
DTSTART:20271107T090000
END:STANDARD
END:VTIMEZONE
BEGIN:VEVENT
DTSTART;TZID=America/Los_Angeles:20260510T110000
DTEND;TZID=America/Los_Angeles:20260510T160000
DTSTAMP:20260423T095728
CREATED:20260423T121905Z
LAST-MODIFIED:20260423T121905Z
UID:10003404-1778410800-1778428800@www.lacountyfair.com
SUMMARY:DJ Sayso
DESCRIPTION:
URL:https://www.lacountyfair.com/event/dj-sayso-3/
LOCATION:Expo Hall 9
CATEGORIES:Attraction,Music
END:VEVENT
BEGIN:VEVENT
DTSTART;TZID=America/Los_Angeles:20260510T110000
DTEND;TZID=America/Los_Angeles:20260510T220000
DTSTAMP:20260423T095728
CREATED:20260423T122034Z
LAST-MODIFIED:20260423T122034Z
UID:10003432-1778410800-1778450400@www.lacountyfair.com
SUMMARY:Skate-R-Cade - Roller Skating and Arcade Experience
DESCRIPTION:
URL:https://www.lacountyfair.com/event/skate-r-cade-roller-skating-and-arcade-experience-20/
LOCATION:Expo Hall 9
CATEGORIES:Attraction,Food,Music
END:VEVENT
BEGIN:VEVENT
DTSTART;TZID=America/Los_Angeles:20260510T110000
DTEND;TZID=America/Los_Angeles:20260510T220000
DTSTAMP:20260423T095728
CREATED:20260423T122105Z
LAST-MODIFIED:20260423T122105Z
UID:10003443-1778410800-1778450400@www.lacountyfair.com
SUMMARY:Retro Row: A Nostalgic Experience
DESCRIPTION:
URL:https://www.lacountyfair.com/event/retro-row-a-nostalgic-experience-4/
LOCATION:Expo Hall 9
CATEGORIES:Attraction,Variety
END:VEVENT
BEGIN:VEVENT
DTSTART;TZID=America/Los_Angeles:20260510T160000
DTEND;TZID=America/Los_Angeles:20260510T210000
DTSTAMP:20260423T095728
CREATED:20260423T121904Z
LAST-MODIFIED:20260423T121904Z
UID:10003403-1778428800-1778446800@www.lacountyfair.com
SUMMARY:DJ DVS
DESCRIPTION:
URL:https://www.lacountyfair.com/event/dj-dvs-2/
LOCATION:Expo Hall 9
CATEGORIES:Attraction,Music
END:VEVENT
BEGIN:VEVENT
DTSTART;TZID=America/Los_Angeles:20260514T110000
DTEND;TZID=America/Los_Angeles:20260514T160000
DTSTAMP:20260423T095728
CREATED:20260423T131841Z
LAST-MODIFIED:20260423T150026Z
UID:10003520-1778756400-1778774400@www.lacountyfair.com
SUMMARY:DJ DVS
DESCRIPTION:
URL:https://www.lacountyfair.com/event/dj-dvs-3/
LOCATION:Expo Hall 9
CATEGORIES:Attraction,Music
END:VEVENT
BEGIN:VEVENT
DTSTART;TZID=America/Los_Angeles:20260514T110000
DTEND;TZID=America/Los_Angeles:20260514T220000
DTSTAMP:20260423T095728
CREATED:20260423T150140Z
LAST-MODIFIED:20260423T150140Z
UID:10003544-1778756400-1778796000@www.lacountyfair.com
SUMMARY:Skate-R-Cade - Roller Skating and Arcade Experience
DESCRIPTION:
URL:https://www.lacountyfair.com/event/skate-r-cade-roller-skating-and-arcade-experience-21/
LOCATION:Expo Hall 9
CATEGORIES:Attraction,Food,Music
END:VEVENT
BEGIN:VEVENT
DTSTART;TZID=America/Los_Angeles:20260514T110000
DTEND;TZID=America/Los_Angeles:20260514T220000
DTSTAMP:20260423T095728
CREATED:20260423T150200Z
LAST-MODIFIED:20260423T150200Z
UID:10003553-1778756400-1778796000@www.lacountyfair.com
SUMMARY:Retro Row: A Nostalgic Experience
DESCRIPTION:
URL:https://www.lacountyfair.com/event/retro-row-a-nostalgic-experience-5/
LOCATION:Expo Hall 9
CATEGORIES:Attraction,Variety
END:VEVENT
BEGIN:VEVENT
DTSTART;TZID=America/Los_Angeles:20260514T160000
DTEND;TZID=America/Los_Angeles:20260514T210000
DTSTAMP:20260423T095728
CREATED:20260423T131842Z
LAST-MODIFIED:20260423T150027Z
UID:10003521-1778774400-1778792400@www.lacountyfair.com
SUMMARY:DJ Ray
DESCRIPTION:
URL:https://www.lacountyfair.com/event/dj-ray-2/
LOCATION:Expo Hall 9
CATEGORIES:Attraction,Music
END:VEVENT
END:VCALENDAR