BEGIN:VCALENDAR
VERSION:2.0
PRODID:-//2026 LA County Fair - ECPv6.15.17.1//NONSGML v1.0//EN
CALSCALE:GREGORIAN
METHOD:PUBLISH
X-ORIGINAL-URL:https://www.lacountyfair.com
X-WR-CALDESC:Events for 2026 LA County Fair
REFRESH-INTERVAL;VALUE=DURATION:PT1H
X-Robots-Tag:noindex
X-PUBLISHED-TTL:PT1H
BEGIN:VTIMEZONE
TZID:America/Los_Angeles
BEGIN:DAYLIGHT
TZOFFSETFROM:-0800
TZOFFSETTO:-0700
TZNAME:PDT
DTSTART:20250309T100000
END:DAYLIGHT
BEGIN:STANDARD
TZOFFSETFROM:-0700
TZOFFSETTO:-0800
TZNAME:PST
DTSTART:20251102T090000
END:STANDARD
BEGIN:DAYLIGHT
TZOFFSETFROM:-0800
TZOFFSETTO:-0700
TZNAME:PDT
DTSTART:20260308T100000
END:DAYLIGHT
BEGIN:STANDARD
TZOFFSETFROM:-0700
TZOFFSETTO:-0800
TZNAME:PST
DTSTART:20261101T090000
END:STANDARD
BEGIN:DAYLIGHT
TZOFFSETFROM:-0800
TZOFFSETTO:-0700
TZNAME:PDT
DTSTART:20270314T100000
END:DAYLIGHT
BEGIN:STANDARD
TZOFFSETFROM:-0700
TZOFFSETTO:-0800
TZNAME:PST
DTSTART:20271107T090000
END:STANDARD
END:VTIMEZONE
BEGIN:VEVENT
DTSTART;VALUE=DATE:20260507
DTEND;VALUE=DATE:20260508
DTSTAMP:20260423T080711
CREATED:20260423T051708Z
LAST-MODIFIED:20260423T051708Z
UID:10003069-1778112000-1778198399@www.lacountyfair.com
SUMMARY:Skate-R-Cade - Roller Skating and Arcade Experience
DESCRIPTION:
URL:https://www.lacountyfair.com/event/skate-r-cade-roller-skating-and-arcade-experience-17/
LOCATION:Expo Hall 9
CATEGORIES:Attraction,Food,Music
END:VEVENT
BEGIN:VEVENT
DTSTART;TZID=America/Los_Angeles:20260507T110000
DTEND;TZID=America/Los_Angeles:20260507T160000
DTSTAMP:20260423T080711
CREATED:20260423T051552Z
LAST-MODIFIED:20260423T051552Z
UID:10003043-1778151600-1778169600@www.lacountyfair.com
SUMMARY:DJ Sayso
DESCRIPTION:
URL:https://www.lacountyfair.com/event/dj-sayso/
LOCATION:Expo Hall 9
CATEGORIES:Attraction,Music
END:VEVENT
BEGIN:VEVENT
DTSTART;TZID=America/Los_Angeles:20260507T110000
DTEND;TZID=America/Los_Angeles:20260507T220000
DTSTAMP:20260423T080711
CREATED:20260423T051737Z
LAST-MODIFIED:20260423T051737Z
UID:10003079-1778151600-1778191200@www.lacountyfair.com
SUMMARY:Retro Row: A Nostalgic Experience
DESCRIPTION:
URL:https://www.lacountyfair.com/event/retro-row-a-nostalgic-experience/
LOCATION:Expo Hall 9
CATEGORIES:Attraction,Variety
END:VEVENT
BEGIN:VEVENT
DTSTART;TZID=America/Los_Angeles:20260507T160000
DTEND;TZID=America/Los_Angeles:20260507T210000
DTSTAMP:20260423T080711
CREATED:20260423T051551Z
LAST-MODIFIED:20260423T051551Z
UID:10003042-1778169600-1778187600@www.lacountyfair.com
SUMMARY:DJ Ray
DESCRIPTION:
URL:https://www.lacountyfair.com/event/dj-ray/
LOCATION:Expo Hall 9
CATEGORIES:Attraction,Music
END:VEVENT
BEGIN:VEVENT
DTSTART;VALUE=DATE:20260508
DTEND;VALUE=DATE:20260509
DTSTAMP:20260423T080711
CREATED:20260423T055232Z
LAST-MODIFIED:20260423T055232Z
UID:10003183-1778198400-1778284799@www.lacountyfair.com
SUMMARY:Skate-R-Cade - Roller Skating and Arcade Experience
DESCRIPTION:
URL:https://www.lacountyfair.com/event/skate-r-cade-roller-skating-and-arcade-experience-18/
LOCATION:Expo Hall 9
CATEGORIES:Attraction,Food,Music
END:VEVENT
BEGIN:VEVENT
DTSTART;TZID=America/Los_Angeles:20260508T110000
DTEND;TZID=America/Los_Angeles:20260508T160000
DTSTAMP:20260423T080711
CREATED:20260423T053454Z
LAST-MODIFIED:20260423T053454Z
UID:10003153-1778238000-1778256000@www.lacountyfair.com
SUMMARY:DJ DVS
DESCRIPTION:
URL:https://www.lacountyfair.com/event/dj-dvs/
LOCATION:Expo Hall 9
CATEGORIES:Attraction,Music
END:VEVENT
BEGIN:VEVENT
DTSTART;TZID=America/Los_Angeles:20260508T110000
DTEND;TZID=America/Los_Angeles:20260508T220000
DTSTAMP:20260423T080711
CREATED:20260423T055253Z
LAST-MODIFIED:20260423T055253Z
UID:10003193-1778238000-1778277600@www.lacountyfair.com
SUMMARY:Retro Row: A Nostalgic Experience
DESCRIPTION:
URL:https://www.lacountyfair.com/event/retro-row-a-nostalgic-experience-2/
LOCATION:Expo Hall 9
CATEGORIES:Attraction,Variety
END:VEVENT
BEGIN:VEVENT
DTSTART;TZID=America/Los_Angeles:20260508T160000
DTEND;TZID=America/Los_Angeles:20260508T210000
DTSTAMP:20260423T080711
CREATED:20260423T053455Z
LAST-MODIFIED:20260423T053455Z
UID:10003154-1778256000-1778274000@www.lacountyfair.com
SUMMARY:DJ Escalade
DESCRIPTION:
URL:https://www.lacountyfair.com/event/dj-escalade/
LOCATION:Expo Hall 9
CATEGORIES:Attraction,Music
END:VEVENT
BEGIN:VEVENT
DTSTART;TZID=America/Los_Angeles:20260509T110000
DTEND;TZID=America/Los_Angeles:20260509T160000
DTSTAMP:20260423T080711
CREATED:20260423T064154Z
LAST-MODIFIED:20260423T064154Z
UID:10003277-1778324400-1778342400@www.lacountyfair.com
SUMMARY:DJ Sayso
DESCRIPTION:
URL:https://www.lacountyfair.com/event/dj-sayso-2/
LOCATION:Expo Hall 9
CATEGORIES:Attraction,Music
END:VEVENT
BEGIN:VEVENT
DTSTART;TZID=America/Los_Angeles:20260509T110000
DTEND;TZID=America/Los_Angeles:20260509T220000
DTSTAMP:20260423T080711
CREATED:20260423T065051Z
LAST-MODIFIED:20260423T065051Z
UID:10003311-1778324400-1778364000@www.lacountyfair.com
SUMMARY:Skate-R-Cade - Roller Skating and Arcade Experience
DESCRIPTION:
URL:https://www.lacountyfair.com/event/skate-r-cade-roller-skating-and-arcade-experience-19/
LOCATION:Expo Hall 9
CATEGORIES:Attraction,Food,Music
END:VEVENT
BEGIN:VEVENT
DTSTART;TZID=America/Los_Angeles:20260509T110000
DTEND;TZID=America/Los_Angeles:20260509T220000
DTSTAMP:20260423T080711
CREATED:20260423T065453Z
LAST-MODIFIED:20260423T065453Z
UID:10003322-1778324400-1778364000@www.lacountyfair.com
SUMMARY:Retro Row: A Nostalgic Experience
DESCRIPTION:
URL:https://www.lacountyfair.com/event/retro-row-a-nostalgic-experience-3/
LOCATION:Expo Hall 9
CATEGORIES:Attraction,Variety
END:VEVENT
BEGIN:VEVENT
DTSTART;TZID=America/Los_Angeles:20260509T160000
DTEND;TZID=America/Los_Angeles:20260509T210000
DTSTAMP:20260423T080711
CREATED:20260423T064155Z
LAST-MODIFIED:20260423T064155Z
UID:10003278-1778342400-1778360400@www.lacountyfair.com
SUMMARY:DJ Vixen
DESCRIPTION:
URL:https://www.lacountyfair.com/event/dj-vixen/
LOCATION:Expo Hall 9
CATEGORIES:Attraction,Music
END:VEVENT
BEGIN:VEVENT
DTSTART;TZID=America/Los_Angeles:20260510T110000
DTEND;TZID=America/Los_Angeles:20260510T160000
DTSTAMP:20260423T080711
CREATED:20260423T121905Z
LAST-MODIFIED:20260423T121905Z
UID:10003404-1778410800-1778428800@www.lacountyfair.com
SUMMARY:DJ Sayso
DESCRIPTION:
URL:https://www.lacountyfair.com/event/dj-sayso-3/
LOCATION:Expo Hall 9
CATEGORIES:Attraction,Music
END:VEVENT
BEGIN:VEVENT
DTSTART;TZID=America/Los_Angeles:20260510T110000
DTEND;TZID=America/Los_Angeles:20260510T220000
DTSTAMP:20260423T080711
CREATED:20260423T122034Z
LAST-MODIFIED:20260423T122034Z
UID:10003432-1778410800-1778450400@www.lacountyfair.com
SUMMARY:Skate-R-Cade - Roller Skating and Arcade Experience
DESCRIPTION:
URL:https://www.lacountyfair.com/event/skate-r-cade-roller-skating-and-arcade-experience-20/
LOCATION:Expo Hall 9
CATEGORIES:Attraction,Food,Music
END:VEVENT
BEGIN:VEVENT
DTSTART;TZID=America/Los_Angeles:20260510T110000
DTEND;TZID=America/Los_Angeles:20260510T220000
DTSTAMP:20260423T080711
CREATED:20260423T122105Z
LAST-MODIFIED:20260423T122105Z
UID:10003443-1778410800-1778450400@www.lacountyfair.com
SUMMARY:Retro Row: A Nostalgic Experience
DESCRIPTION:
URL:https://www.lacountyfair.com/event/retro-row-a-nostalgic-experience-4/
LOCATION:Expo Hall 9
CATEGORIES:Attraction,Variety
END:VEVENT
BEGIN:VEVENT
DTSTART;TZID=America/Los_Angeles:20260510T160000
DTEND;TZID=America/Los_Angeles:20260510T210000
DTSTAMP:20260423T080711
CREATED:20260423T121904Z
LAST-MODIFIED:20260423T121904Z
UID:10003403-1778428800-1778446800@www.lacountyfair.com
SUMMARY:DJ DVS
DESCRIPTION:
URL:https://www.lacountyfair.com/event/dj-dvs-2/
LOCATION:Expo Hall 9
CATEGORIES:Attraction,Music
END:VEVENT
BEGIN:VEVENT
DTSTART;TZID=America/Los_Angeles:20260514T110000
DTEND;TZID=America/Los_Angeles:20260514T160000
DTSTAMP:20260423T080711
CREATED:20260423T131841Z
LAST-MODIFIED:20260423T150026Z
UID:10003520-1778756400-1778774400@www.lacountyfair.com
SUMMARY:DJ DVS
DESCRIPTION:
URL:https://www.lacountyfair.com/event/dj-dvs-3/
LOCATION:Expo Hall 9
CATEGORIES:Attraction,Music
END:VEVENT
BEGIN:VEVENT
DTSTART;TZID=America/Los_Angeles:20260514T110000
DTEND;TZID=America/Los_Angeles:20260514T220000
DTSTAMP:20260423T080711
CREATED:20260423T150140Z
LAST-MODIFIED:20260423T150140Z
UID:10003544-1778756400-1778796000@www.lacountyfair.com
SUMMARY:Skate-R-Cade - Roller Skating and Arcade Experience
DESCRIPTION:
URL:https://www.lacountyfair.com/event/skate-r-cade-roller-skating-and-arcade-experience-21/
LOCATION:Expo Hall 9
CATEGORIES:Attraction,Food,Music
END:VEVENT
BEGIN:VEVENT
DTSTART;TZID=America/Los_Angeles:20260514T110000
DTEND;TZID=America/Los_Angeles:20260514T220000
DTSTAMP:20260423T080711
CREATED:20260423T150200Z
LAST-MODIFIED:20260423T150200Z
UID:10003553-1778756400-1778796000@www.lacountyfair.com
SUMMARY:Retro Row: A Nostalgic Experience
DESCRIPTION:
URL:https://www.lacountyfair.com/event/retro-row-a-nostalgic-experience-5/
LOCATION:Expo Hall 9
CATEGORIES:Attraction,Variety
END:VEVENT
BEGIN:VEVENT
DTSTART;TZID=America/Los_Angeles:20260514T160000
DTEND;TZID=America/Los_Angeles:20260514T210000
DTSTAMP:20260423T080711
CREATED:20260423T131842Z
LAST-MODIFIED:20260423T150027Z
UID:10003521-1778774400-1778792400@www.lacountyfair.com
SUMMARY:DJ Ray
DESCRIPTION:
URL:https://www.lacountyfair.com/event/dj-ray-2/
LOCATION:Expo Hall 9
CATEGORIES:Attraction,Music
END:VEVENT
END:VCALENDAR