BEGIN:VCALENDAR
VERSION:2.0
PRODID:-//2026 LA County Fair - ECPv6.15.17.1//NONSGML v1.0//EN
CALSCALE:GREGORIAN
METHOD:PUBLISH
X-WR-CALNAME:2026 LA County Fair
X-ORIGINAL-URL:https://www.lacountyfair.com
X-WR-CALDESC:Events for 2026 LA County Fair
REFRESH-INTERVAL;VALUE=DURATION:PT1H
X-Robots-Tag:noindex
X-PUBLISHED-TTL:PT1H
BEGIN:VTIMEZONE
TZID:America/Los_Angeles
BEGIN:DAYLIGHT
TZOFFSETFROM:-0800
TZOFFSETTO:-0700
TZNAME:PDT
DTSTART:20250309T100000
END:DAYLIGHT
BEGIN:STANDARD
TZOFFSETFROM:-0700
TZOFFSETTO:-0800
TZNAME:PST
DTSTART:20251102T090000
END:STANDARD
BEGIN:DAYLIGHT
TZOFFSETFROM:-0800
TZOFFSETTO:-0700
TZNAME:PDT
DTSTART:20260308T100000
END:DAYLIGHT
BEGIN:STANDARD
TZOFFSETFROM:-0700
TZOFFSETTO:-0800
TZNAME:PST
DTSTART:20261101T090000
END:STANDARD
BEGIN:DAYLIGHT
TZOFFSETFROM:-0800
TZOFFSETTO:-0700
TZNAME:PDT
DTSTART:20270314T100000
END:DAYLIGHT
BEGIN:STANDARD
TZOFFSETFROM:-0700
TZOFFSETTO:-0800
TZNAME:PST
DTSTART:20271107T090000
END:STANDARD
END:VTIMEZONE
BEGIN:VEVENT
DTSTART;TZID=America/Los_Angeles:20260509T110000
DTEND;TZID=America/Los_Angeles:20260509T210000
DTSTAMP:20260423T065558
CREATED:20260423T055507Z
LAST-MODIFIED:20260423T055507Z
UID:10003237-1778324400-1778360400@www.lacountyfair.com
SUMMARY:48th DAA Schools' Ag & Nutrition Fair
DESCRIPTION:
URL:https://www.lacountyfair.com/event/48th-daa-schools-ag-nutrition-fair-19/
LOCATION:Expo Hall 10
CATEGORIES:Attraction,Show,Variety
END:VEVENT
BEGIN:VEVENT
DTSTART;TZID=America/Los_Angeles:20260509T130000
DTEND;TZID=America/Los_Angeles:20260509T133000
DTSTAMP:20260423T065558
CREATED:20260423T055422Z
LAST-MODIFIED:20260423T055422Z
UID:10003222-1778331600-1778333400@www.lacountyfair.com
SUMMARY:Family STEAM Gameshow
DESCRIPTION:
URL:https://www.lacountyfair.com/event/family-steam-gameshow-7/
LOCATION:Expo Hall 10
CATEGORIES:Education,Variety
END:VEVENT
BEGIN:VEVENT
DTSTART;TZID=America/Los_Angeles:20260509T133000
DTEND;TZID=America/Los_Angeles:20260509T140000
DTSTAMP:20260423T065558
CREATED:20260423T055436Z
LAST-MODIFIED:20260423T055436Z
UID:10003226-1778333400-1778335200@www.lacountyfair.com
SUMMARY:Robot vs. Robot Arena Challenge
DESCRIPTION:
URL:https://www.lacountyfair.com/event/robot-vs-robot-arena-challenge-36/
LOCATION:Expo Hall 10
CATEGORIES:Education,Variety
END:VEVENT
BEGIN:VEVENT
DTSTART;TZID=America/Los_Angeles:20260509T153000
DTEND;TZID=America/Los_Angeles:20260509T160000
DTSTAMP:20260423T065558
CREATED:20260423T055437Z
LAST-MODIFIED:20260423T055437Z
UID:10003227-1778340600-1778342400@www.lacountyfair.com
SUMMARY:Robot vs. Robot Arena Challenge
DESCRIPTION:
URL:https://www.lacountyfair.com/event/robot-vs-robot-arena-challenge-37/
LOCATION:Expo Hall 10
CATEGORIES:Education,Variety
END:VEVENT
BEGIN:VEVENT
DTSTART;TZID=America/Los_Angeles:20260509T170000
DTEND;TZID=America/Los_Angeles:20260509T173000
DTSTAMP:20260423T065558
CREATED:20260423T055424Z
LAST-MODIFIED:20260423T055424Z
UID:10003223-1778346000-1778347800@www.lacountyfair.com
SUMMARY:Family STEAM Gameshow
DESCRIPTION:
URL:https://www.lacountyfair.com/event/family-steam-gameshow-8/
LOCATION:Expo Hall 10
CATEGORIES:Education,Variety
END:VEVENT
BEGIN:VEVENT
DTSTART;TZID=America/Los_Angeles:20260509T190000
DTEND;TZID=America/Los_Angeles:20260509T193000
DTSTAMP:20260423T065558
CREATED:20260423T055425Z
LAST-MODIFIED:20260423T055425Z
UID:10003224-1778353200-1778355000@www.lacountyfair.com
SUMMARY:Family STEAM Gameshow
DESCRIPTION:
URL:https://www.lacountyfair.com/event/family-steam-gameshow-9/
LOCATION:Expo Hall 10
CATEGORIES:Education,Variety
END:VEVENT
BEGIN:VEVENT
DTSTART;TZID=America/Los_Angeles:20260510T110000
DTEND;TZID=America/Los_Angeles:20260510T210000
DTSTAMP:20260423T065558
CREATED:20260423T071252Z
LAST-MODIFIED:20260423T071252Z
UID:10003366-1778410800-1778446800@www.lacountyfair.com
SUMMARY:48th DAA Schools' Ag & Nutrition Fair
DESCRIPTION:
URL:https://www.lacountyfair.com/event/48th-daa-schools-ag-nutrition-fair-20/
LOCATION:Expo Hall 10
CATEGORIES:Attraction,Show,Variety
END:VEVENT
BEGIN:VEVENT
DTSTART;TZID=America/Los_Angeles:20260510T130000
DTEND;TZID=America/Los_Angeles:20260510T133000
DTSTAMP:20260423T065558
CREATED:20260423T070653Z
LAST-MODIFIED:20260423T070653Z
UID:10003352-1778418000-1778419800@www.lacountyfair.com
SUMMARY:Family STEAM Gameshow
DESCRIPTION:
URL:https://www.lacountyfair.com/event/family-steam-gameshow-10/
LOCATION:Expo Hall 10
CATEGORIES:Education,Variety
END:VEVENT
BEGIN:VEVENT
DTSTART;TZID=America/Los_Angeles:20260510T133000
DTEND;TZID=America/Los_Angeles:20260510T140000
DTSTAMP:20260423T065558
CREATED:20260423T070852Z
LAST-MODIFIED:20260423T070852Z
UID:10003356-1778419800-1778421600@www.lacountyfair.com
SUMMARY:Robot vs. Robot Arena Challenge
DESCRIPTION:
URL:https://www.lacountyfair.com/event/robot-vs-robot-arena-challenge-38/
LOCATION:Expo Hall 10
CATEGORIES:Education,Variety
END:VEVENT
BEGIN:VEVENT
DTSTART;TZID=America/Los_Angeles:20260510T153000
DTEND;TZID=America/Los_Angeles:20260510T160000
DTSTAMP:20260423T065558
CREATED:20260423T070853Z
LAST-MODIFIED:20260423T070853Z
UID:10003357-1778427000-1778428800@www.lacountyfair.com
SUMMARY:Robot vs. Robot Arena Challenge
DESCRIPTION:
URL:https://www.lacountyfair.com/event/robot-vs-robot-arena-challenge-39/
LOCATION:Expo Hall 10
CATEGORIES:Education,Variety
END:VEVENT
BEGIN:VEVENT
DTSTART;TZID=America/Los_Angeles:20260510T170000
DTEND;TZID=America/Los_Angeles:20260510T173000
DTSTAMP:20260423T065558
CREATED:20260423T070654Z
LAST-MODIFIED:20260423T070654Z
UID:10003353-1778432400-1778434200@www.lacountyfair.com
SUMMARY:Family STEAM Gameshow
DESCRIPTION:
URL:https://www.lacountyfair.com/event/family-steam-gameshow-11/
LOCATION:Expo Hall 10
CATEGORIES:Education,Variety
END:VEVENT
BEGIN:VEVENT
DTSTART;TZID=America/Los_Angeles:20260510T190000
DTEND;TZID=America/Los_Angeles:20260510T193000
DTSTAMP:20260423T065558
CREATED:20260423T070655Z
LAST-MODIFIED:20260423T070655Z
UID:10003354-1778439600-1778441400@www.lacountyfair.com
SUMMARY:Family STEAM Gameshow
DESCRIPTION:
URL:https://www.lacountyfair.com/event/family-steam-gameshow-12/
LOCATION:Expo Hall 10
CATEGORIES:Education,Variety
END:VEVENT
BEGIN:VEVENT
DTSTART;TZID=America/Los_Angeles:20260514T110000
DTEND;TZID=America/Los_Angeles:20260514T210000
DTSTAMP:20260423T065558
CREATED:20260423T131509Z
LAST-MODIFIED:20260423T131509Z
UID:10003484-1778756400-1778792400@www.lacountyfair.com
SUMMARY:48th DAA Schools' Ag & Nutrition Fair
DESCRIPTION:
URL:https://www.lacountyfair.com/event/48th-daa-schools-ag-nutrition-fair-21/
LOCATION:Expo Hall 10
CATEGORIES:Attraction,Show,Variety
END:VEVENT
BEGIN:VEVENT
DTSTART;TZID=America/Los_Angeles:20260514T130000
DTEND;TZID=America/Los_Angeles:20260514T133000
DTSTAMP:20260423T065558
CREATED:20260423T122232Z
LAST-MODIFIED:20260423T122232Z
UID:10003470-1778763600-1778765400@www.lacountyfair.com
SUMMARY:Family STEAM Gameshow
DESCRIPTION:
URL:https://www.lacountyfair.com/event/family-steam-gameshow-13/
LOCATION:Expo Hall 10
CATEGORIES:Education,Variety
END:VEVENT
BEGIN:VEVENT
DTSTART;TZID=America/Los_Angeles:20260514T133000
DTEND;TZID=America/Los_Angeles:20260514T140000
DTSTAMP:20260423T065558
CREATED:20260423T122246Z
LAST-MODIFIED:20260423T122246Z
UID:10003474-1778765400-1778767200@www.lacountyfair.com
SUMMARY:Robot vs. Robot Arena Challenge
DESCRIPTION:
URL:https://www.lacountyfair.com/event/robot-vs-robot-arena-challenge-40/
LOCATION:Expo Hall 10
CATEGORIES:Education,Variety
END:VEVENT
BEGIN:VEVENT
DTSTART;TZID=America/Los_Angeles:20260514T153000
DTEND;TZID=America/Los_Angeles:20260514T160000
DTSTAMP:20260423T065558
CREATED:20260423T122247Z
LAST-MODIFIED:20260423T122247Z
UID:10003475-1778772600-1778774400@www.lacountyfair.com
SUMMARY:Robot vs. Robot Arena Challenge
DESCRIPTION:
URL:https://www.lacountyfair.com/event/robot-vs-robot-arena-challenge-41/
LOCATION:Expo Hall 10
CATEGORIES:Education,Variety
END:VEVENT
BEGIN:VEVENT
DTSTART;TZID=America/Los_Angeles:20260514T170000
DTEND;TZID=America/Los_Angeles:20260514T173000
DTSTAMP:20260423T065558
CREATED:20260423T122233Z
LAST-MODIFIED:20260423T122233Z
UID:10003471-1778778000-1778779800@www.lacountyfair.com
SUMMARY:Family STEAM Gameshow
DESCRIPTION:
URL:https://www.lacountyfair.com/event/family-steam-gameshow-14/
LOCATION:Expo Hall 10
CATEGORIES:Education,Variety
END:VEVENT
BEGIN:VEVENT
DTSTART;TZID=America/Los_Angeles:20260514T190000
DTEND;TZID=America/Los_Angeles:20260514T193000
DTSTAMP:20260423T065558
CREATED:20260423T122234Z
LAST-MODIFIED:20260423T122234Z
UID:10003472-1778785200-1778787000@www.lacountyfair.com
SUMMARY:Family STEAM Gameshow
DESCRIPTION:
URL:https://www.lacountyfair.com/event/family-steam-gameshow-15/
LOCATION:Expo Hall 10
CATEGORIES:Education,Variety
END:VEVENT
END:VCALENDAR