BEGIN:VCALENDAR
VERSION:2.0
PRODID:-//2026 LA County Fair - ECPv6.15.17.1//NONSGML v1.0//EN
CALSCALE:GREGORIAN
METHOD:PUBLISH
X-ORIGINAL-URL:https://www.lacountyfair.com
X-WR-CALDESC:Events for 2026 LA County Fair
REFRESH-INTERVAL;VALUE=DURATION:PT1H
X-Robots-Tag:noindex
X-PUBLISHED-TTL:PT1H
BEGIN:VTIMEZONE
TZID:America/Los_Angeles
BEGIN:DAYLIGHT
TZOFFSETFROM:-0800
TZOFFSETTO:-0700
TZNAME:PDT
DTSTART:20250309T100000
END:DAYLIGHT
BEGIN:STANDARD
TZOFFSETFROM:-0700
TZOFFSETTO:-0800
TZNAME:PST
DTSTART:20251102T090000
END:STANDARD
BEGIN:DAYLIGHT
TZOFFSETFROM:-0800
TZOFFSETTO:-0700
TZNAME:PDT
DTSTART:20260308T100000
END:DAYLIGHT
BEGIN:STANDARD
TZOFFSETFROM:-0700
TZOFFSETTO:-0800
TZNAME:PST
DTSTART:20261101T090000
END:STANDARD
BEGIN:DAYLIGHT
TZOFFSETFROM:-0800
TZOFFSETTO:-0700
TZNAME:PDT
DTSTART:20270314T100000
END:DAYLIGHT
BEGIN:STANDARD
TZOFFSETFROM:-0700
TZOFFSETTO:-0800
TZNAME:PST
DTSTART:20271107T090000
END:STANDARD
END:VTIMEZONE
BEGIN:VEVENT
DTSTART;TZID=America/Los_Angeles:20260507T110000
DTEND;TZID=America/Los_Angeles:20260507T170000
DTSTAMP:20260423T132111
CREATED:20260423T051738Z
LAST-MODIFIED:20260423T051738Z
UID:10003080-1778151600-1778173200@www.lacountyfair.com
SUMMARY:Community Corner
DESCRIPTION:
URL:https://www.lacountyfair.com/event/community-corner-10/
LOCATION:Birch Street
CATEGORIES:Education,Variety
END:VEVENT
BEGIN:VEVENT
DTSTART;TZID=America/Los_Angeles:20260508T110000
DTEND;TZID=America/Los_Angeles:20260508T170000
DTSTAMP:20260423T132111
CREATED:20260423T053439Z
LAST-MODIFIED:20260423T053439Z
UID:10003149-1778238000-1778259600@www.lacountyfair.com
SUMMARY:Community Corner
DESCRIPTION:
URL:https://www.lacountyfair.com/event/community-corner-11/
LOCATION:Birch Street
CATEGORIES:Education,Variety
END:VEVENT
BEGIN:VEVENT
DTSTART;TZID=America/Los_Angeles:20260509T110000
DTEND;TZID=America/Los_Angeles:20260509T170000
DTSTAMP:20260423T132111
CREATED:20260423T064147Z
LAST-MODIFIED:20260423T064147Z
UID:10003273-1778324400-1778346000@www.lacountyfair.com
SUMMARY:Community Corner
DESCRIPTION:
URL:https://www.lacountyfair.com/event/community-corner-12/
LOCATION:Birch Street
CATEGORIES:Education,Variety
END:VEVENT
BEGIN:VEVENT
DTSTART;TZID=America/Los_Angeles:20260510T110000
DTEND;TZID=America/Los_Angeles:20260510T170000
DTSTAMP:20260423T132111
CREATED:20260423T122116Z
LAST-MODIFIED:20260423T122116Z
UID:10003444-1778410800-1778432400@www.lacountyfair.com
SUMMARY:Community Corner
DESCRIPTION:
URL:https://www.lacountyfair.com/event/community-corner-13/
LOCATION:Birch Street
CATEGORIES:Education,Variety
END:VEVENT
BEGIN:VEVENT
DTSTART;TZID=America/Los_Angeles:20260514T110000
DTEND;TZID=America/Los_Angeles:20260514T170000
DTSTAMP:20260423T132111
CREATED:20260423T150210Z
LAST-MODIFIED:20260423T150210Z
UID:10003554-1778756400-1778778000@www.lacountyfair.com
SUMMARY:Community Corner
DESCRIPTION:
URL:https://www.lacountyfair.com/event/community-corner-14/
LOCATION:Birch Street
CATEGORIES:Education,Variety
END:VEVENT
END:VCALENDAR