BEGIN:VCALENDAR
VERSION:2.0
PRODID:-//2026 LA County Fair - ECPv6.15.17.1//NONSGML v1.0//EN
CALSCALE:GREGORIAN
METHOD:PUBLISH
X-ORIGINAL-URL:https://www.lacountyfair.com
X-WR-CALDESC:Events for 2026 LA County Fair
REFRESH-INTERVAL;VALUE=DURATION:PT1H
X-Robots-Tag:noindex
X-PUBLISHED-TTL:PT1H
BEGIN:VTIMEZONE
TZID:America/Los_Angeles
BEGIN:DAYLIGHT
TZOFFSETFROM:-0800
TZOFFSETTO:-0700
TZNAME:PDT
DTSTART:20250309T100000
END:DAYLIGHT
BEGIN:STANDARD
TZOFFSETFROM:-0700
TZOFFSETTO:-0800
TZNAME:PST
DTSTART:20251102T090000
END:STANDARD
BEGIN:DAYLIGHT
TZOFFSETFROM:-0800
TZOFFSETTO:-0700
TZNAME:PDT
DTSTART:20260308T100000
END:DAYLIGHT
BEGIN:STANDARD
TZOFFSETFROM:-0700
TZOFFSETTO:-0800
TZNAME:PST
DTSTART:20261101T090000
END:STANDARD
BEGIN:DAYLIGHT
TZOFFSETFROM:-0800
TZOFFSETTO:-0700
TZNAME:PDT
DTSTART:20270314T100000
END:DAYLIGHT
BEGIN:STANDARD
TZOFFSETFROM:-0700
TZOFFSETTO:-0800
TZNAME:PST
DTSTART:20271107T090000
END:STANDARD
END:VTIMEZONE
BEGIN:VEVENT
DTSTART;TZID=America/Los_Angeles:20260507T110000
DTEND;TZID=America/Los_Angeles:20260507T220000
DTSTAMP:20260423T122945
CREATED:20260423T051405Z
LAST-MODIFIED:20260423T051405Z
UID:10003007-1778151600-1778191200@www.lacountyfair.com
SUMMARY:A Farm in the City
DESCRIPTION:
URL:https://www.lacountyfair.com/event/a-farm-in-the-city-17/
LOCATION:Huntley College of Agriculture Cal Poly Pomona
CATEGORIES:Demonstration,Exhibit
END:VEVENT
BEGIN:VEVENT
DTSTART;TZID=America/Los_Angeles:20260508T110000
DTEND;TZID=America/Los_Angeles:20260508T220000
DTSTAMP:20260423T122945
CREATED:20260423T053307Z
LAST-MODIFIED:20260423T053307Z
UID:10003117-1778238000-1778277600@www.lacountyfair.com
SUMMARY:A Farm in the City
DESCRIPTION:
URL:https://www.lacountyfair.com/event/a-farm-in-the-city-18/
LOCATION:Huntley College of Agriculture Cal Poly Pomona
CATEGORIES:Demonstration,Exhibit
END:VEVENT
BEGIN:VEVENT
DTSTART;TZID=America/Los_Angeles:20260509T110000
DTEND;TZID=America/Los_Angeles:20260509T220000
DTSTAMP:20260423T122945
CREATED:20260423T055508Z
LAST-MODIFIED:20260423T055508Z
UID:10003238-1778324400-1778364000@www.lacountyfair.com
SUMMARY:A Farm in the City
DESCRIPTION:
URL:https://www.lacountyfair.com/event/a-farm-in-the-city-19/
LOCATION:Huntley College of Agriculture Cal Poly Pomona
CATEGORIES:Demonstration,Exhibit
END:VEVENT
BEGIN:VEVENT
DTSTART;TZID=America/Los_Angeles:20260510T110000
DTEND;TZID=America/Los_Angeles:20260510T220000
DTSTAMP:20260423T122945
CREATED:20260423T071253Z
LAST-MODIFIED:20260423T071253Z
UID:10003367-1778410800-1778450400@www.lacountyfair.com
SUMMARY:A Farm in the City
DESCRIPTION:
URL:https://www.lacountyfair.com/event/a-farm-in-the-city-20/
LOCATION:Huntley College of Agriculture Cal Poly Pomona
CATEGORIES:Demonstration,Exhibit
END:VEVENT
BEGIN:VEVENT
DTSTART;TZID=America/Los_Angeles:20260514T110000
DTEND;TZID=America/Los_Angeles:20260514T220000
DTSTAMP:20260423T122945
CREATED:20260423T131511Z
LAST-MODIFIED:20260423T145841Z
UID:10003485-1778756400-1778796000@www.lacountyfair.com
SUMMARY:A Farm in the City
DESCRIPTION:
URL:https://www.lacountyfair.com/event/a-farm-in-the-city-21/
LOCATION:Huntley College of Agriculture Cal Poly Pomona
CATEGORIES:Demonstration,Exhibit
END:VEVENT
END:VCALENDAR