BEGIN:VCALENDAR
VERSION:2.0
PRODID:-//2026 LA County Fair - ECPv6.15.17.1//NONSGML v1.0//EN
CALSCALE:GREGORIAN
METHOD:PUBLISH
X-WR-CALNAME:2026 LA County Fair
X-ORIGINAL-URL:https://www.lacountyfair.com
X-WR-CALDESC:Events for 2026 LA County Fair
REFRESH-INTERVAL;VALUE=DURATION:PT1H
X-Robots-Tag:noindex
X-PUBLISHED-TTL:PT1H
BEGIN:VTIMEZONE
TZID:America/Los_Angeles
BEGIN:DAYLIGHT
TZOFFSETFROM:-0800
TZOFFSETTO:-0700
TZNAME:PDT
DTSTART:20250309T100000
END:DAYLIGHT
BEGIN:STANDARD
TZOFFSETFROM:-0700
TZOFFSETTO:-0800
TZNAME:PST
DTSTART:20251102T090000
END:STANDARD
BEGIN:DAYLIGHT
TZOFFSETFROM:-0800
TZOFFSETTO:-0700
TZNAME:PDT
DTSTART:20260308T100000
END:DAYLIGHT
BEGIN:STANDARD
TZOFFSETFROM:-0700
TZOFFSETTO:-0800
TZNAME:PST
DTSTART:20261101T090000
END:STANDARD
BEGIN:DAYLIGHT
TZOFFSETFROM:-0800
TZOFFSETTO:-0700
TZNAME:PDT
DTSTART:20270314T100000
END:DAYLIGHT
BEGIN:STANDARD
TZOFFSETFROM:-0700
TZOFFSETTO:-0800
TZNAME:PST
DTSTART:20271107T090000
END:STANDARD
END:VTIMEZONE
BEGIN:VEVENT
DTSTART;TZID=America/Los_Angeles:20260508T110000
DTEND;TZID=America/Los_Angeles:20260508T160000
DTSTAMP:20260423T190136
CREATED:20260423T053553Z
LAST-MODIFIED:20260423T053553Z
UID:10003173-1778238000-1778256000@www.lacountyfair.com
SUMMARY:Outdoor Learning Lab - Educational Partner Booths at The Farm
DESCRIPTION:
URL:https://www.lacountyfair.com/event/outdoor-learning-lab-educational-partner-booths-at-the-farm/
LOCATION:The Outdoor Learning Lab – The Farm
CATEGORIES:Demonstrations,Education
END:VEVENT
BEGIN:VEVENT
DTSTART;TZID=America/Los_Angeles:20260508T120000
DTEND;TZID=America/Los_Angeles:20260508T200000
DTSTAMP:20260423T190136
CREATED:20260423T053536Z
LAST-MODIFIED:20260423T053536Z
UID:10003166-1778241600-1778270400@www.lacountyfair.com
SUMMARY:Master Gardeners' Information Booth
DESCRIPTION:
URL:https://www.lacountyfair.com/event/master-gardeners-information-booth-18/
LOCATION:Master Gardeners’ Stage
CATEGORIES:Demonstrations,Education
END:VEVENT
BEGIN:VEVENT
DTSTART;TZID=America/Los_Angeles:20260508T130000
DTEND;TZID=America/Los_Angeles:20260508T190000
DTSTAMP:20260423T190136
CREATED:20260423T053525Z
LAST-MODIFIED:20260423T053525Z
UID:10003165-1778245200-1778266800@www.lacountyfair.com
SUMMARY:Master Gardeners' Garden Talks - on the hour throughout the day
DESCRIPTION:
URL:https://www.lacountyfair.com/event/master-gardeners-garden-talks-on-the-hour-throughout-the-day-2/
LOCATION:Master Gardeners’ Stage
CATEGORIES:Demonstrations,Education
END:VEVENT
BEGIN:VEVENT
DTSTART;TZID=America/Los_Angeles:20260509T130000
DTEND;TZID=America/Los_Angeles:20260509T190000
DTSTAMP:20260423T190136
CREATED:20260423T064255Z
LAST-MODIFIED:20260423T064255Z
UID:10003294-1778331600-1778353200@www.lacountyfair.com
SUMMARY:Master Gardeners' Garden Talks - on the hour throughout the day
DESCRIPTION:
URL:https://www.lacountyfair.com/event/master-gardeners-garden-talks-on-the-hour-throughout-the-day-3/
LOCATION:Master Gardeners’ Stage
CATEGORIES:Demonstrations,Education
END:VEVENT
BEGIN:VEVENT
DTSTART;TZID=America/Los_Angeles:20260509T150000
DTEND;TZID=America/Los_Angeles:20260509T160000
DTSTAMP:20260423T190136
CREATED:20260423T064252Z
LAST-MODIFIED:20260423T064252Z
UID:10003292-1778338800-1778342400@www.lacountyfair.com
SUMMARY:Master Gardeners' Garden Talk: Growing Plumerias in Southern California--Mike Gordon
DESCRIPTION:
URL:https://www.lacountyfair.com/event/master-gardeners-garden-talk-growing-plumerias-in-southern-california-mike-gordon/
LOCATION:Master Gardeners’ Stage
CATEGORIES:Demonstrations,Education
END:VEVENT
END:VCALENDAR