BEGIN:VCALENDAR
VERSION:2.0
PRODID:-//2026 LA County Fair - ECPv6.15.17.1//NONSGML v1.0//EN
CALSCALE:GREGORIAN
METHOD:PUBLISH
X-ORIGINAL-URL:https://www.lacountyfair.com
X-WR-CALDESC:Events for 2026 LA County Fair
REFRESH-INTERVAL;VALUE=DURATION:PT1H
X-Robots-Tag:noindex
X-PUBLISHED-TTL:PT1H
BEGIN:VTIMEZONE
TZID:America/Los_Angeles
BEGIN:DAYLIGHT
TZOFFSETFROM:-0800
TZOFFSETTO:-0700
TZNAME:PDT
DTSTART:20250309T100000
END:DAYLIGHT
BEGIN:STANDARD
TZOFFSETFROM:-0700
TZOFFSETTO:-0800
TZNAME:PST
DTSTART:20251102T090000
END:STANDARD
BEGIN:DAYLIGHT
TZOFFSETFROM:-0800
TZOFFSETTO:-0700
TZNAME:PDT
DTSTART:20260308T100000
END:DAYLIGHT
BEGIN:STANDARD
TZOFFSETFROM:-0700
TZOFFSETTO:-0800
TZNAME:PST
DTSTART:20261101T090000
END:STANDARD
BEGIN:DAYLIGHT
TZOFFSETFROM:-0800
TZOFFSETTO:-0700
TZNAME:PDT
DTSTART:20270314T100000
END:DAYLIGHT
BEGIN:STANDARD
TZOFFSETFROM:-0700
TZOFFSETTO:-0800
TZNAME:PST
DTSTART:20271107T090000
END:STANDARD
END:VTIMEZONE
BEGIN:VEVENT
DTSTART;TZID=America/Los_Angeles:20260508T160000
DTEND;TZID=America/Los_Angeles:20260508T163000
DTSTAMP:20260423T151625
CREATED:20260423T053340Z
LAST-MODIFIED:20260423T053340Z
UID:10003130-1778256000-1778257800@www.lacountyfair.com
SUMMARY:Blacksmith Show
DESCRIPTION:
URL:https://www.lacountyfair.com/event/blacksmith-show-85/
LOCATION:Heritage Square
CATEGORIES:Demonstration,Variety
END:VEVENT
BEGIN:VEVENT
DTSTART;TZID=America/Los_Angeles:20260508T160000
DTEND;TZID=America/Los_Angeles:20260508T170000
DTSTAMP:20260423T151625
CREATED:20260423T053407Z
LAST-MODIFIED:20260423T053407Z
UID:10003137-1778256000-1778259600@www.lacountyfair.com
SUMMARY:Bread\, Butter & Candle Making Demonstrations
DESCRIPTION:
URL:https://www.lacountyfair.com/event/bread-butter-candle-making-demonstrations-59/
LOCATION:Cattle Barn
CATEGORIES:Demonstration,Educational
END:VEVENT
BEGIN:VEVENT
DTSTART;TZID=America/Los_Angeles:20260508T160000
DTEND;TZID=America/Los_Angeles:20260508T170000
DTSTAMP:20260423T151625
CREATED:20260423T053522Z
LAST-MODIFIED:20260423T053522Z
UID:10003162-1778256000-1778259600@www.lacountyfair.com
SUMMARY:Master Gardeners' Garden Talk: Growing Tasty Tomatoes at Home--Elizabeth Camp
DESCRIPTION:
URL:https://www.lacountyfair.com/event/master-gardeners-garden-talk-growing-tasty-tomatoes-at-home-elizabeth-camp/
LOCATION:Master Gardeners’ Stage
CATEGORIES:Demonstration,Education
END:VEVENT
BEGIN:VEVENT
DTSTART;TZID=America/Los_Angeles:20260508T173000
DTEND;TZID=America/Los_Angeles:20260508T173000
DTSTAMP:20260423T151625
CREATED:20260423T053421Z
LAST-MODIFIED:20260423T053421Z
UID:10003141-1778261400-1778261400@www.lacountyfair.com
SUMMARY:Chef Leslie - Raspberry Cheesecake Macarons
DESCRIPTION:
URL:https://www.lacountyfair.com/event/chef-leslie-raspberry-cheesecake-macarons/
LOCATION:Expo Hall 5 Home Arts & Culinary
CATEGORIES:Demonstration
END:VEVENT
BEGIN:VEVENT
DTSTART;TZID=America/Los_Angeles:20260508T173000
DTEND;TZID=America/Los_Angeles:20260508T180000
DTSTAMP:20260423T151625
CREATED:20260423T053252Z
LAST-MODIFIED:20260423T053252Z
UID:10003112-1778261400-1778263200@www.lacountyfair.com
SUMMARY:Cow Milking Demonstrations
DESCRIPTION:
URL:https://www.lacountyfair.com/event/cow-milking-demonstrations-7/
LOCATION:Dairy Parlor
CATEGORIES:Animal,Demonstration
END:VEVENT
BEGIN:VEVENT
DTSTART;TZID=America/Los_Angeles:20260508T173000
DTEND;TZID=America/Los_Angeles:20260508T180000
DTSTAMP:20260423T151625
CREATED:20260423T053509Z
LAST-MODIFIED:20260423T053509Z
UID:10003159-1778261400-1778263200@www.lacountyfair.com
SUMMARY:Glass Blowing Demonstration
DESCRIPTION:
URL:https://www.lacountyfair.com/event/glass-blowing-demonstration-65/
LOCATION:Heritage Square
CATEGORIES:Demonstration,Variety
END:VEVENT
BEGIN:VEVENT
DTSTART;TZID=America/Los_Angeles:20260508T180000
DTEND;TZID=America/Los_Angeles:20260508T183000
DTSTAMP:20260423T151625
CREATED:20260423T053351Z
LAST-MODIFIED:20260423T053351Z
UID:10003131-1778263200-1778265000@www.lacountyfair.com
SUMMARY:Blacksmith Show
DESCRIPTION:
URL:https://www.lacountyfair.com/event/blacksmith-show-86/
LOCATION:Heritage Square
CATEGORIES:Demonstration,Variety
END:VEVENT
BEGIN:VEVENT
DTSTART;TZID=America/Los_Angeles:20260508T190000
DTEND;TZID=America/Los_Angeles:20260508T193000
DTSTAMP:20260423T151625
CREATED:20260423T053253Z
LAST-MODIFIED:20260423T053253Z
UID:10003113-1778266800-1778268600@www.lacountyfair.com
SUMMARY:Cow Milking Demonstrations
DESCRIPTION:
URL:https://www.lacountyfair.com/event/cow-milking-demonstrations-8/
LOCATION:Dairy Parlor
CATEGORIES:Animal,Demonstration
END:VEVENT
BEGIN:VEVENT
DTSTART;TZID=America/Los_Angeles:20260508T190000
DTEND;TZID=America/Los_Angeles:20260508T200000
DTSTAMP:20260423T151625
CREATED:20260423T053408Z
LAST-MODIFIED:20260423T053408Z
UID:10003138-1778266800-1778270400@www.lacountyfair.com
SUMMARY:Bread\, Butter & Candle Making Demonstrations
DESCRIPTION:
URL:https://www.lacountyfair.com/event/bread-butter-candle-making-demonstrations-60/
LOCATION:Cattle Barn
CATEGORIES:Demonstration,Educational
END:VEVENT
BEGIN:VEVENT
DTSTART;TZID=America/Los_Angeles:20260508T200000
DTEND;TZID=America/Los_Angeles:20260508T203000
DTSTAMP:20260423T151625
CREATED:20260423T053352Z
LAST-MODIFIED:20260423T053352Z
UID:10003132-1778270400-1778272200@www.lacountyfair.com
SUMMARY:Blacksmith Show
DESCRIPTION:
URL:https://www.lacountyfair.com/event/blacksmith-show-87/
LOCATION:Heritage Square
CATEGORIES:Demonstration,Variety
END:VEVENT
BEGIN:VEVENT
DTSTART;VALUE=DATE:20260509
DTEND;VALUE=DATE:20260510
DTSTAMP:20260423T151625
CREATED:20260423T064855Z
LAST-MODIFIED:20260423T064855Z
UID:10003309-1778284800-1778371199@www.lacountyfair.com
SUMMARY:Sewing\, Quilting\, Knitting\, Crocheting\, Weaving\, Needlepoint\, Glass\, China Painting\, Scrapbooking
DESCRIPTION:
URL:https://www.lacountyfair.com/event/sewing-quilting-knitting-crocheting-weaving-needlepoint-glass-china-painting-scrapbooking-3/
LOCATION:Expo Hall 5 Home Arts & Culinary
CATEGORIES:Demonstration
END:VEVENT
BEGIN:VEVENT
DTSTART;TZID=America/Los_Angeles:20260509T110000
DTEND;TZID=America/Los_Angeles:20260509T110000
DTSTAMP:20260423T151625
CREATED:20260423T055456Z
LAST-MODIFIED:20260423T055456Z
UID:10003235-1778324400-1778324400@www.lacountyfair.com
SUMMARY:Heritage Square Crafters & Hands-On Activities
DESCRIPTION:
URL:https://www.lacountyfair.com/event/heritage-square-crafters-hands-on-activities-19/
LOCATION:Heritage Square
CATEGORIES:Attraction,Demonstration,Education,Food
END:VEVENT
BEGIN:VEVENT
DTSTART;TZID=America/Los_Angeles:20260509T110000
DTEND;TZID=America/Los_Angeles:20260509T160000
DTSTAMP:20260423T151625
CREATED:20260423T064651Z
LAST-MODIFIED:20260423T064651Z
UID:10003301-1778324400-1778342400@www.lacountyfair.com
SUMMARY:Outdoor Learning Lab - Educational Booths at The Farm
DESCRIPTION:
URL:https://www.lacountyfair.com/event/outdoor-learning-lab-educational-booths-at-the-farm-15/
LOCATION:The Outdoor Learning Lab – The Farm
CATEGORIES:Demonstration,Education
END:VEVENT
BEGIN:VEVENT
DTSTART;TZID=America/Los_Angeles:20260509T110000
DTEND;TZID=America/Los_Angeles:20260509T160000
DTSTAMP:20260423T151625
CREATED:20260423T065451Z
LAST-MODIFIED:20260423T065451Z
UID:10003321-1778324400-1778342400@www.lacountyfair.com
SUMMARY:WeCompost2 - Worm Farming Demonstrations
DESCRIPTION:
URL:https://www.lacountyfair.com/event/wecompost2-worm-farming-demonstrations-13/
LOCATION:The Outdoor Learning Lab – The Farm
CATEGORIES:Demonstration,Education
END:VEVENT
BEGIN:VEVENT
DTSTART;TZID=America/Los_Angeles:20260509T110000
DTEND;TZID=America/Los_Angeles:20260509T210000
DTSTAMP:20260423T151625
CREATED:20260423T064854Z
LAST-MODIFIED:20260423T064854Z
UID:10003308-1778324400-1778360400@www.lacountyfair.com
SUMMARY:ReDiscover Center
DESCRIPTION:
URL:https://www.lacountyfair.com/event/rediscover-center-3/
LOCATION:Millard Sheets Art Center
CATEGORIES:Demonstration,Variety
END:VEVENT
BEGIN:VEVENT
DTSTART;TZID=America/Los_Angeles:20260509T110000
DTEND;TZID=America/Los_Angeles:20260509T220000
DTSTAMP:20260423T151625
CREATED:20260423T055338Z
LAST-MODIFIED:20260423T055338Z
UID:10003207-1778324400-1778364000@www.lacountyfair.com
SUMMARY:The Gardens
DESCRIPTION:
URL:https://www.lacountyfair.com/event/the-gardens-19/
LOCATION:The Farm & Gardens
CATEGORIES:Attraction,Demonstration,Food,Music
END:VEVENT
BEGIN:VEVENT
DTSTART;TZID=America/Los_Angeles:20260509T110000
DTEND;TZID=America/Los_Angeles:20260509T220000
DTSTAMP:20260423T151625
CREATED:20260423T055508Z
LAST-MODIFIED:20260423T055508Z
UID:10003238-1778324400-1778364000@www.lacountyfair.com
SUMMARY:A Farm in the City
DESCRIPTION:
URL:https://www.lacountyfair.com/event/a-farm-in-the-city-19/
LOCATION:Huntley College of Agriculture Cal Poly Pomona
CATEGORIES:Demonstration,Exhibit
END:VEVENT
BEGIN:VEVENT
DTSTART;TZID=America/Los_Angeles:20260509T110000
DTEND;TZID=America/Los_Angeles:20260509T220000
DTSTAMP:20260423T151625
CREATED:20260423T055724Z
LAST-MODIFIED:20260423T055724Z
UID:10003249-1778324400-1778364000@www.lacountyfair.com
SUMMARY:Big Free Little Libraries
DESCRIPTION:
URL:https://www.lacountyfair.com/event/big-free-little-libraries-2/
LOCATION:Expo Hall 6
CATEGORIES:Demonstration,Educational,Variety
END:VEVENT
BEGIN:VEVENT
DTSTART;TZID=America/Los_Angeles:20260509T113000
DTEND;TZID=America/Los_Angeles:20260509T113000
DTSTAMP:20260423T151625
CREATED:20260423T064251Z
LAST-MODIFIED:20260423T064251Z
UID:10003291-1778326200-1778326200@www.lacountyfair.com
SUMMARY:Master Food Preservers of SB - Let off a little pressure! Pressure canning chicken
DESCRIPTION:
URL:https://www.lacountyfair.com/event/master-food-preservers-of-sb-let-off-a-little-pressure-pressure-canning-chicken/
LOCATION:Expo Hall 5 Home Arts & Culinary
CATEGORIES:Demonstration
END:VEVENT
BEGIN:VEVENT
DTSTART;TZID=America/Los_Angeles:20260509T120000
DTEND;TZID=America/Los_Angeles:20260509T120000
DTSTAMP:20260423T151625
CREATED:20260423T064237Z
LAST-MODIFIED:20260423T064237Z
UID:10003288-1778328000-1778328000@www.lacountyfair.com
SUMMARY:Live Jelly Roll Quilt Race
DESCRIPTION:
URL:https://www.lacountyfair.com/event/live-jelly-roll-quilt-race-2/
LOCATION:Expo Hall 5 Home Arts & Culinary
CATEGORIES:Demonstration
END:VEVENT
BEGIN:VEVENT
DTSTART;TZID=America/Los_Angeles:20260509T120000
DTEND;TZID=America/Los_Angeles:20260509T123000
DTSTAMP:20260423T151625
CREATED:20260423T055725Z
LAST-MODIFIED:20260423T055725Z
UID:10003250-1778328000-1778329800@www.lacountyfair.com
SUMMARY:Blacksmith Show
DESCRIPTION:
URL:https://www.lacountyfair.com/event/blacksmith-show-88/
LOCATION:Heritage Square
CATEGORIES:Demonstration,Variety
END:VEVENT
BEGIN:VEVENT
DTSTART;TZID=America/Los_Angeles:20260509T120000
DTEND;TZID=America/Los_Angeles:20260509T200000
DTSTAMP:20260423T151625
CREATED:20260423T064450Z
LAST-MODIFIED:20260423T064450Z
UID:10003295-1778328000-1778356800@www.lacountyfair.com
SUMMARY:Master Gardeners' Information Booth
DESCRIPTION:
URL:https://www.lacountyfair.com/event/master-gardeners-information-booth-19/
LOCATION:Master Gardeners’ Stage
CATEGORIES:Demonstration,Education
END:VEVENT
BEGIN:VEVENT
DTSTART;TZID=America/Los_Angeles:20260509T130000
DTEND;TZID=America/Los_Angeles:20260509T140000
DTSTAMP:20260423T151625
CREATED:20260423T060124Z
LAST-MODIFIED:20260423T060124Z
UID:10003258-1778331600-1778335200@www.lacountyfair.com
SUMMARY:Bread\, Butter & Candle Making Demonstrations
DESCRIPTION:
URL:https://www.lacountyfair.com/event/bread-butter-candle-making-demonstrations-61/
LOCATION:Cattle Barn
CATEGORIES:Demonstration,Educational
END:VEVENT
BEGIN:VEVENT
DTSTART;TZID=America/Los_Angeles:20260509T133000
DTEND;TZID=America/Los_Angeles:20260509T140000
DTSTAMP:20260423T151625
CREATED:20260423T055451Z
LAST-MODIFIED:20260423T055451Z
UID:10003231-1778333400-1778335200@www.lacountyfair.com
SUMMARY:Cow Milking Demonstrations
DESCRIPTION:
URL:https://www.lacountyfair.com/event/cow-milking-demonstrations-9/
LOCATION:Dairy Parlor
CATEGORIES:Animal,Demonstration
END:VEVENT
BEGIN:VEVENT
DTSTART;TZID=America/Los_Angeles:20260509T133000
DTEND;TZID=America/Los_Angeles:20260509T140000
DTSTAMP:20260423T151625
CREATED:20260423T064228Z
LAST-MODIFIED:20260423T064228Z
UID:10003281-1778333400-1778335200@www.lacountyfair.com
SUMMARY:Glass Blowing Demonstration
DESCRIPTION:
URL:https://www.lacountyfair.com/event/glass-blowing-demonstration-66/
LOCATION:Heritage Square
CATEGORIES:Demonstration,Variety
END:VEVENT
BEGIN:VEVENT
DTSTART;TZID=America/Los_Angeles:20260509T140000
DTEND;TZID=America/Los_Angeles:20260509T140000
DTSTAMP:20260423T151625
CREATED:20260423T055509Z
LAST-MODIFIED:20260423T055509Z
UID:10003239-1778335200-1778335200@www.lacountyfair.com
SUMMARY:Adult Culinary Professional Contest
DESCRIPTION:
URL:https://www.lacountyfair.com/event/adult-culinary-professional-contest/
LOCATION:Expo Hall 5 Home Arts & Culinary
CATEGORIES:Demonstration
END:VEVENT
BEGIN:VEVENT
DTSTART;TZID=America/Los_Angeles:20260509T140000
DTEND;TZID=America/Los_Angeles:20260509T140000
DTSTAMP:20260423T151625
CREATED:20260423T064238Z
LAST-MODIFIED:20260423T064238Z
UID:10003289-1778335200-1778335200@www.lacountyfair.com
SUMMARY:Live Jelly Roll Quilt Race
DESCRIPTION:
URL:https://www.lacountyfair.com/event/live-jelly-roll-quilt-race-3/
LOCATION:Expo Hall 5 Home Arts & Culinary
CATEGORIES:Demonstration
END:VEVENT
BEGIN:VEVENT
DTSTART;TZID=America/Los_Angeles:20260509T140000
DTEND;TZID=America/Los_Angeles:20260509T143000
DTSTAMP:20260423T151625
CREATED:20260423T055921Z
LAST-MODIFIED:20260423T055921Z
UID:10003251-1778335200-1778337000@www.lacountyfair.com
SUMMARY:Blacksmith Show
DESCRIPTION:
URL:https://www.lacountyfair.com/event/blacksmith-show-89/
LOCATION:Heritage Square
CATEGORIES:Demonstration,Variety
END:VEVENT
BEGIN:VEVENT
DTSTART;TZID=America/Los_Angeles:20260509T140000
DTEND;TZID=America/Los_Angeles:20260509T143000
DTSTAMP:20260423T151625
CREATED:20260423T065052Z
LAST-MODIFIED:20260423T065052Z
UID:10003312-1778335200-1778337000@www.lacountyfair.com
SUMMARY:Steam Engine Demo
DESCRIPTION:
URL:https://www.lacountyfair.com/event/steam-engine-demo/
LOCATION:RailGiants Historic Trains
CATEGORIES:Demonstration,Education
END:VEVENT
BEGIN:VEVENT
DTSTART;TZID=America/Los_Angeles:20260509T150000
DTEND;TZID=America/Los_Angeles:20260509T153000
DTSTAMP:20260423T151625
CREATED:20260423T064235Z
LAST-MODIFIED:20260423T064235Z
UID:10003286-1778338800-1778340600@www.lacountyfair.com
SUMMARY:Hot Rivet Demo
DESCRIPTION:
URL:https://www.lacountyfair.com/event/hot-rivet-demo/
LOCATION:RailGiants Historic Trains
CATEGORIES:Demonstration,Education
END:VEVENT
END:VCALENDAR