BEGIN:VCALENDAR
VERSION:2.0
PRODID:-//2026 LA County Fair - ECPv6.15.17.1//NONSGML v1.0//EN
CALSCALE:GREGORIAN
METHOD:PUBLISH
X-WR-CALNAME:2026 LA County Fair
X-ORIGINAL-URL:https://www.lacountyfair.com
X-WR-CALDESC:Events for 2026 LA County Fair
REFRESH-INTERVAL;VALUE=DURATION:PT1H
X-Robots-Tag:noindex
X-PUBLISHED-TTL:PT1H
BEGIN:VTIMEZONE
TZID:America/Los_Angeles
BEGIN:DAYLIGHT
TZOFFSETFROM:-0800
TZOFFSETTO:-0700
TZNAME:PDT
DTSTART:20250309T100000
END:DAYLIGHT
BEGIN:STANDARD
TZOFFSETFROM:-0700
TZOFFSETTO:-0800
TZNAME:PST
DTSTART:20251102T090000
END:STANDARD
BEGIN:DAYLIGHT
TZOFFSETFROM:-0800
TZOFFSETTO:-0700
TZNAME:PDT
DTSTART:20260308T100000
END:DAYLIGHT
BEGIN:STANDARD
TZOFFSETFROM:-0700
TZOFFSETTO:-0800
TZNAME:PST
DTSTART:20261101T090000
END:STANDARD
BEGIN:DAYLIGHT
TZOFFSETFROM:-0800
TZOFFSETTO:-0700
TZNAME:PDT
DTSTART:20270314T100000
END:DAYLIGHT
BEGIN:STANDARD
TZOFFSETFROM:-0700
TZOFFSETTO:-0800
TZNAME:PST
DTSTART:20271107T090000
END:STANDARD
END:VTIMEZONE
BEGIN:VEVENT
DTSTART;TZID=America/Los_Angeles:20260507T173000
DTEND;TZID=America/Los_Angeles:20260507T180000
DTSTAMP:20260423T114134
CREATED:20260423T051351Z
LAST-MODIFIED:20260423T051351Z
UID:10003003-1778175000-1778176800@www.lacountyfair.com
SUMMARY:Cow Milking Demonstrations
DESCRIPTION:
URL:https://www.lacountyfair.com/event/cow-milking-demonstrations-3/
LOCATION:Dairy Parlor
CATEGORIES:Animal,Demonstration
END:VEVENT
BEGIN:VEVENT
DTSTART;TZID=America/Los_Angeles:20260507T173000
DTEND;TZID=America/Los_Angeles:20260507T180000
DTSTAMP:20260423T114134
CREATED:20260423T051606Z
LAST-MODIFIED:20260423T051606Z
UID:10003048-1778175000-1778176800@www.lacountyfair.com
SUMMARY:Glass Blowing Demonstration
DESCRIPTION:
URL:https://www.lacountyfair.com/event/glass-blowing-demonstration-62/
LOCATION:Heritage Square
CATEGORIES:Demonstration,Variety
END:VEVENT
BEGIN:VEVENT
DTSTART;TZID=America/Los_Angeles:20260507T180000
DTEND;TZID=America/Los_Angeles:20260507T183000
DTSTAMP:20260423T114134
CREATED:20260423T051449Z
LAST-MODIFIED:20260423T051449Z
UID:10003021-1778176800-1778178600@www.lacountyfair.com
SUMMARY:Blacksmith Show
DESCRIPTION:
URL:https://www.lacountyfair.com/event/blacksmith-show-81/
LOCATION:Heritage Square
CATEGORIES:Demonstration,Variety
END:VEVENT
BEGIN:VEVENT
DTSTART;TZID=America/Los_Angeles:20260507T190000
DTEND;TZID=America/Los_Angeles:20260507T193000
DTSTAMP:20260423T114134
CREATED:20260423T051352Z
LAST-MODIFIED:20260423T051352Z
UID:10003004-1778180400-1778182200@www.lacountyfair.com
SUMMARY:Cow Milking Demonstrations
DESCRIPTION:
URL:https://www.lacountyfair.com/event/cow-milking-demonstrations-4/
LOCATION:Dairy Parlor
CATEGORIES:Animal,Demonstration
END:VEVENT
BEGIN:VEVENT
DTSTART;TZID=America/Los_Angeles:20260507T190000
DTEND;TZID=America/Los_Angeles:20260507T200000
DTSTAMP:20260423T114134
CREATED:20260423T051506Z
LAST-MODIFIED:20260423T051506Z
UID:10003028-1778180400-1778184000@www.lacountyfair.com
SUMMARY:Bread\, Butter & Candle Making Demonstrations
DESCRIPTION:
URL:https://www.lacountyfair.com/event/bread-butter-candle-making-demonstrations-57/
LOCATION:Cattle Barn
CATEGORIES:Demonstration,Educational
END:VEVENT
BEGIN:VEVENT
DTSTART;TZID=America/Los_Angeles:20260507T200000
DTEND;TZID=America/Los_Angeles:20260507T203000
DTSTAMP:20260423T114134
CREATED:20260423T051450Z
LAST-MODIFIED:20260423T051450Z
UID:10003022-1778184000-1778185800@www.lacountyfair.com
SUMMARY:Blacksmith Show
DESCRIPTION:
URL:https://www.lacountyfair.com/event/blacksmith-show-82/
LOCATION:Heritage Square
CATEGORIES:Demonstration,Variety
END:VEVENT
BEGIN:VEVENT
DTSTART;VALUE=DATE:20260508
DTEND;VALUE=DATE:20260509
DTSTAMP:20260423T114134
CREATED:20260423T055229Z
LAST-MODIFIED:20260423T055229Z
UID:10003182-1778198400-1778284799@www.lacountyfair.com
SUMMARY:Sewing\, Quilting\, Knitting\, Crocheting\, Weaving\, Needlepoint\, Glass\, China Painting\, Scrapbooking
DESCRIPTION:
URL:https://www.lacountyfair.com/event/sewing-quilting-knitting-crocheting-weaving-needlepoint-glass-china-painting-scrapbooking-2/
LOCATION:Expo Hall 5 Home Arts & Culinary
CATEGORIES:Demonstration
END:VEVENT
BEGIN:VEVENT
DTSTART;TZID=America/Los_Angeles:20260508T110000
DTEND;TZID=America/Los_Angeles:20260508T160000
DTSTAMP:20260423T114134
CREATED:20260423T053554Z
LAST-MODIFIED:20260423T053554Z
UID:10003174-1778238000-1778256000@www.lacountyfair.com
SUMMARY:Outdoor Learning Lab - WeCompost2 Worm Farming Demonstrations
DESCRIPTION:
URL:https://www.lacountyfair.com/event/outdoor-learning-lab-wecompost2-worm-farming-demonstrations-2/
LOCATION:The Outdoor Learning Lab – The Farm
CATEGORIES:Demonstration,Education
END:VEVENT
BEGIN:VEVENT
DTSTART;TZID=America/Los_Angeles:20260508T110000
DTEND;TZID=America/Los_Angeles:20260508T210000
DTSTAMP:20260423T114134
CREATED:20260423T055228Z
LAST-MODIFIED:20260423T055228Z
UID:10003181-1778238000-1778274000@www.lacountyfair.com
SUMMARY:ReDiscover Center
DESCRIPTION:
URL:https://www.lacountyfair.com/event/rediscover-center-2/
LOCATION:Millard Sheets Art Center
CATEGORIES:Demonstration,Variety
END:VEVENT
BEGIN:VEVENT
DTSTART;TZID=America/Los_Angeles:20260508T110000
DTEND;TZID=America/Los_Angeles:20260508T220000
DTSTAMP:20260423T114134
CREATED:20260423T053151Z
LAST-MODIFIED:20260423T053151Z
UID:10003091-1778238000-1778277600@www.lacountyfair.com
SUMMARY:The Gardens
DESCRIPTION:
URL:https://www.lacountyfair.com/event/the-gardens-18/
LOCATION:The Farm & Gardens
CATEGORIES:Attraction,Demonstration,Food,Music
END:VEVENT
BEGIN:VEVENT
DTSTART;TZID=America/Los_Angeles:20260508T110000
DTEND;TZID=America/Los_Angeles:20260508T220000
DTSTAMP:20260423T114134
CREATED:20260423T053254Z
LAST-MODIFIED:20260423T053254Z
UID:10003114-1778238000-1778277600@www.lacountyfair.com
SUMMARY:Heritage Square Crafters & Hands-On Activities
DESCRIPTION:
URL:https://www.lacountyfair.com/event/heritage-square-crafters-hands-on-activities-18/
LOCATION:Heritage Square
CATEGORIES:Attraction,Demonstration,Education,Food
END:VEVENT
BEGIN:VEVENT
DTSTART;TZID=America/Los_Angeles:20260508T110000
DTEND;TZID=America/Los_Angeles:20260508T220000
DTSTAMP:20260423T114134
CREATED:20260423T053307Z
LAST-MODIFIED:20260423T053307Z
UID:10003117-1778238000-1778277600@www.lacountyfair.com
SUMMARY:A Farm in the City
DESCRIPTION:
URL:https://www.lacountyfair.com/event/a-farm-in-the-city-18/
LOCATION:Huntley College of Agriculture Cal Poly Pomona
CATEGORIES:Demonstration,Exhibit
END:VEVENT
BEGIN:VEVENT
DTSTART;TZID=America/Los_Angeles:20260508T110000
DTEND;TZID=America/Los_Angeles:20260508T220000
DTSTAMP:20260423T114134
CREATED:20260423T053337Z
LAST-MODIFIED:20260423T053337Z
UID:10003127-1778238000-1778277600@www.lacountyfair.com
SUMMARY:Big Free Little Libraries
DESCRIPTION:
URL:https://www.lacountyfair.com/event/big-free-little-libraries/
LOCATION:Expo Hall 6
CATEGORIES:Demonstration,Educational,Variety
END:VEVENT
BEGIN:VEVENT
DTSTART;TZID=America/Los_Angeles:20260508T113000
DTEND;TZID=America/Los_Angeles:20260508T113000
DTSTAMP:20260423T114134
CREATED:20260423T053521Z
LAST-MODIFIED:20260423T053521Z
UID:10003161-1778239800-1778239800@www.lacountyfair.com
SUMMARY:Master Food Preservers of SB - Carrots are not just for bunnies\, pickling carrots
DESCRIPTION:
URL:https://www.lacountyfair.com/event/master-food-preservers-of-sb-carrots-are-not-just-for-bunnies-pickling-carrots/
LOCATION:Expo Hall 5 Home Arts & Culinary
CATEGORIES:Demonstration
END:VEVENT
BEGIN:VEVENT
DTSTART;TZID=America/Los_Angeles:20260508T120000
DTEND;TZID=America/Los_Angeles:20260508T123000
DTSTAMP:20260423T114134
CREATED:20260423T053338Z
LAST-MODIFIED:20260423T053338Z
UID:10003128-1778241600-1778243400@www.lacountyfair.com
SUMMARY:Blacksmith Show
DESCRIPTION:
URL:https://www.lacountyfair.com/event/blacksmith-show-83/
LOCATION:Heritage Square
CATEGORIES:Demonstration,Variety
END:VEVENT
BEGIN:VEVENT
DTSTART;TZID=America/Los_Angeles:20260508T130000
DTEND;TZID=America/Los_Angeles:20260508T140000
DTSTAMP:20260423T114134
CREATED:20260423T053406Z
LAST-MODIFIED:20260423T053406Z
UID:10003136-1778245200-1778248800@www.lacountyfair.com
SUMMARY:Bread\, Butter & Candle Making Demonstrations
DESCRIPTION:
URL:https://www.lacountyfair.com/event/bread-butter-candle-making-demonstrations-58/
LOCATION:Cattle Barn
CATEGORIES:Demonstration,Educational
END:VEVENT
BEGIN:VEVENT
DTSTART;TZID=America/Los_Angeles:20260508T130000
DTEND;TZID=America/Los_Angeles:20260508T140000
DTSTAMP:20260423T114134
CREATED:20260423T053524Z
LAST-MODIFIED:20260423T053524Z
UID:10003164-1778245200-1778248800@www.lacountyfair.com
SUMMARY:Master Gardeners' Garden Talk: Waterwise Gardening--Chester Chau
DESCRIPTION:
URL:https://www.lacountyfair.com/event/master-gardeners-garden-talk-waterwise-gardening-chester-chau/
LOCATION:Master Gardeners’ Stage
CATEGORIES:Demonstration,Education
END:VEVENT
BEGIN:VEVENT
DTSTART;TZID=America/Los_Angeles:20260508T133000
DTEND;TZID=America/Los_Angeles:20260508T140000
DTSTAMP:20260423T114134
CREATED:20260423T053240Z
LAST-MODIFIED:20260423T053240Z
UID:10003110-1778247000-1778248800@www.lacountyfair.com
SUMMARY:Cow Milking Demonstrations
DESCRIPTION:
URL:https://www.lacountyfair.com/event/cow-milking-demonstrations-5/
LOCATION:Dairy Parlor
CATEGORIES:Animal,Demonstration
END:VEVENT
BEGIN:VEVENT
DTSTART;TZID=America/Los_Angeles:20260508T133000
DTEND;TZID=America/Los_Angeles:20260508T140000
DTSTAMP:20260423T114134
CREATED:20260423T053507Z
LAST-MODIFIED:20260423T053507Z
UID:10003157-1778247000-1778248800@www.lacountyfair.com
SUMMARY:Glass Blowing Demonstration
DESCRIPTION:
URL:https://www.lacountyfair.com/event/glass-blowing-demonstration-63/
LOCATION:Heritage Square
CATEGORIES:Demonstration,Variety
END:VEVENT
BEGIN:VEVENT
DTSTART;TZID=America/Los_Angeles:20260508T140000
DTEND;TZID=America/Los_Angeles:20260508T143000
DTSTAMP:20260423T114134
CREATED:20260423T053339Z
LAST-MODIFIED:20260423T053339Z
UID:10003129-1778248800-1778250600@www.lacountyfair.com
SUMMARY:Blacksmith Show
DESCRIPTION:
URL:https://www.lacountyfair.com/event/blacksmith-show-84/
LOCATION:Heritage Square
CATEGORIES:Demonstration,Variety
END:VEVENT
BEGIN:VEVENT
DTSTART;TZID=America/Los_Angeles:20260508T150000
DTEND;TZID=America/Los_Angeles:20260508T160000
DTSTAMP:20260423T114134
CREATED:20260423T053523Z
LAST-MODIFIED:20260423T053523Z
UID:10003163-1778252400-1778256000@www.lacountyfair.com
SUMMARY:Master Gardeners' Garden Talk: Planting from Seeds--Mary MacVean
DESCRIPTION:
URL:https://www.lacountyfair.com/event/master-gardeners-garden-talk-planting-from-seeds-mary-macvean/
LOCATION:Master Gardeners’ Stage
CATEGORIES:Demonstration,Education
END:VEVENT
BEGIN:VEVENT
DTSTART;TZID=America/Los_Angeles:20260508T153000
DTEND;TZID=America/Los_Angeles:20260508T160000
DTSTAMP:20260423T114134
CREATED:20260423T053251Z
LAST-MODIFIED:20260423T053251Z
UID:10003111-1778254200-1778256000@www.lacountyfair.com
SUMMARY:Cow Milking Demonstrations
DESCRIPTION:
URL:https://www.lacountyfair.com/event/cow-milking-demonstrations-6/
LOCATION:Dairy Parlor
CATEGORIES:Animal,Demonstration
END:VEVENT
BEGIN:VEVENT
DTSTART;TZID=America/Los_Angeles:20260508T153000
DTEND;TZID=America/Los_Angeles:20260508T160000
DTSTAMP:20260423T114134
CREATED:20260423T053508Z
LAST-MODIFIED:20260423T053508Z
UID:10003158-1778254200-1778256000@www.lacountyfair.com
SUMMARY:Glass Blowing Demonstration
DESCRIPTION:
URL:https://www.lacountyfair.com/event/glass-blowing-demonstration-64/
LOCATION:Heritage Square
CATEGORIES:Demonstration,Variety
END:VEVENT
BEGIN:VEVENT
DTSTART;TZID=America/Los_Angeles:20260508T160000
DTEND;TZID=America/Los_Angeles:20260508T160000
DTSTAMP:20260423T114134
CREATED:20260423T053410Z
LAST-MODIFIED:20260423T053410Z
UID:10003140-1778256000-1778256000@www.lacountyfair.com
SUMMARY:Chef Leslie - Guacamole with Fresh Vegetable Salsa
DESCRIPTION:
URL:https://www.lacountyfair.com/event/chef-leslie-guacamole-with-fresh-vegetable-salsa/
LOCATION:Expo Hall 5 Home Arts & Culinary
CATEGORIES:Demonstration
END:VEVENT
BEGIN:VEVENT
DTSTART;TZID=America/Los_Angeles:20260508T160000
DTEND;TZID=America/Los_Angeles:20260508T163000
DTSTAMP:20260423T114134
CREATED:20260423T053340Z
LAST-MODIFIED:20260423T053340Z
UID:10003130-1778256000-1778257800@www.lacountyfair.com
SUMMARY:Blacksmith Show
DESCRIPTION:
URL:https://www.lacountyfair.com/event/blacksmith-show-85/
LOCATION:Heritage Square
CATEGORIES:Demonstration,Variety
END:VEVENT
BEGIN:VEVENT
DTSTART;TZID=America/Los_Angeles:20260508T160000
DTEND;TZID=America/Los_Angeles:20260508T170000
DTSTAMP:20260423T114134
CREATED:20260423T053407Z
LAST-MODIFIED:20260423T053407Z
UID:10003137-1778256000-1778259600@www.lacountyfair.com
SUMMARY:Bread\, Butter & Candle Making Demonstrations
DESCRIPTION:
URL:https://www.lacountyfair.com/event/bread-butter-candle-making-demonstrations-59/
LOCATION:Cattle Barn
CATEGORIES:Demonstration,Educational
END:VEVENT
BEGIN:VEVENT
DTSTART;TZID=America/Los_Angeles:20260508T160000
DTEND;TZID=America/Los_Angeles:20260508T170000
DTSTAMP:20260423T114134
CREATED:20260423T053522Z
LAST-MODIFIED:20260423T053522Z
UID:10003162-1778256000-1778259600@www.lacountyfair.com
SUMMARY:Master Gardeners' Garden Talk: Growing Tasty Tomatoes at Home--Elizabeth Camp
DESCRIPTION:
URL:https://www.lacountyfair.com/event/master-gardeners-garden-talk-growing-tasty-tomatoes-at-home-elizabeth-camp/
LOCATION:Master Gardeners’ Stage
CATEGORIES:Demonstration,Education
END:VEVENT
BEGIN:VEVENT
DTSTART;TZID=America/Los_Angeles:20260508T173000
DTEND;TZID=America/Los_Angeles:20260508T173000
DTSTAMP:20260423T114134
CREATED:20260423T053421Z
LAST-MODIFIED:20260423T053421Z
UID:10003141-1778261400-1778261400@www.lacountyfair.com
SUMMARY:Chef Leslie - Raspberry Cheesecake Macarons
DESCRIPTION:
URL:https://www.lacountyfair.com/event/chef-leslie-raspberry-cheesecake-macarons/
LOCATION:Expo Hall 5 Home Arts & Culinary
CATEGORIES:Demonstration
END:VEVENT
BEGIN:VEVENT
DTSTART;TZID=America/Los_Angeles:20260508T173000
DTEND;TZID=America/Los_Angeles:20260508T180000
DTSTAMP:20260423T114134
CREATED:20260423T053252Z
LAST-MODIFIED:20260423T053252Z
UID:10003112-1778261400-1778263200@www.lacountyfair.com
SUMMARY:Cow Milking Demonstrations
DESCRIPTION:
URL:https://www.lacountyfair.com/event/cow-milking-demonstrations-7/
LOCATION:Dairy Parlor
CATEGORIES:Animal,Demonstration
END:VEVENT
BEGIN:VEVENT
DTSTART;TZID=America/Los_Angeles:20260508T173000
DTEND;TZID=America/Los_Angeles:20260508T180000
DTSTAMP:20260423T114134
CREATED:20260423T053509Z
LAST-MODIFIED:20260423T053509Z
UID:10003159-1778261400-1778263200@www.lacountyfair.com
SUMMARY:Glass Blowing Demonstration
DESCRIPTION:
URL:https://www.lacountyfair.com/event/glass-blowing-demonstration-65/
LOCATION:Heritage Square
CATEGORIES:Demonstration,Variety
END:VEVENT
END:VCALENDAR