BEGIN:VCALENDAR
VERSION:2.0
PRODID:-//2026 LA County Fair - ECPv6.15.17.1//NONSGML v1.0//EN
CALSCALE:GREGORIAN
METHOD:PUBLISH
X-WR-CALNAME:2026 LA County Fair
X-ORIGINAL-URL:https://www.lacountyfair.com
X-WR-CALDESC:Events for 2026 LA County Fair
REFRESH-INTERVAL;VALUE=DURATION:PT1H
X-Robots-Tag:noindex
X-PUBLISHED-TTL:PT1H
BEGIN:VTIMEZONE
TZID:America/Los_Angeles
BEGIN:DAYLIGHT
TZOFFSETFROM:-0800
TZOFFSETTO:-0700
TZNAME:PDT
DTSTART:20250309T100000
END:DAYLIGHT
BEGIN:STANDARD
TZOFFSETFROM:-0700
TZOFFSETTO:-0800
TZNAME:PST
DTSTART:20251102T090000
END:STANDARD
BEGIN:DAYLIGHT
TZOFFSETFROM:-0800
TZOFFSETTO:-0700
TZNAME:PDT
DTSTART:20260308T100000
END:DAYLIGHT
BEGIN:STANDARD
TZOFFSETFROM:-0700
TZOFFSETTO:-0800
TZNAME:PST
DTSTART:20261101T090000
END:STANDARD
BEGIN:DAYLIGHT
TZOFFSETFROM:-0800
TZOFFSETTO:-0700
TZNAME:PDT
DTSTART:20270314T100000
END:DAYLIGHT
BEGIN:STANDARD
TZOFFSETFROM:-0700
TZOFFSETTO:-0800
TZNAME:PST
DTSTART:20271107T090000
END:STANDARD
END:VTIMEZONE
BEGIN:VEVENT
DTSTART;TZID=America/Los_Angeles:20260514T133000
DTEND;TZID=America/Los_Angeles:20260514T140000
DTSTAMP:20260423T194625
CREATED:20260423T122250Z
LAST-MODIFIED:20260423T122250Z
UID:10003478-1778765400-1778767200@www.lacountyfair.com
SUMMARY:Cow Milking Demonstrations
DESCRIPTION:
URL:https://www.lacountyfair.com/event/cow-milking-demonstrations-17/
LOCATION:Dairy Parlor
CATEGORIES:Animal,Demonstration
END:VEVENT
BEGIN:VEVENT
DTSTART;TZID=America/Los_Angeles:20260514T140000
DTEND;TZID=America/Los_Angeles:20260514T143000
DTSTAMP:20260423T194625
CREATED:20260423T131527Z
LAST-MODIFIED:20260423T145857Z
UID:10003491-1778767200-1778769000@www.lacountyfair.com
SUMMARY:Barnyard Racing Pig Races
DESCRIPTION:
URL:https://www.lacountyfair.com/event/barnyard-racing-pig-races-107/
LOCATION:The Fields
CATEGORIES:Animal,Variety
END:VEVENT
BEGIN:VEVENT
DTSTART;TZID=America/Los_Angeles:20260514T140000
DTEND;TZID=America/Los_Angeles:20260514T143000
DTSTAMP:20260423T194625
CREATED:20260423T131559Z
LAST-MODIFIED:20260423T145928Z
UID:10003502-1778767200-1778769000@www.lacountyfair.com
SUMMARY:Bottle Babies Feeding
DESCRIPTION:
URL:https://www.lacountyfair.com/event/bottle-babies-feeding-59/
LOCATION:The Big Red Barn
CATEGORIES:Animal,Variety
END:VEVENT
BEGIN:VEVENT
DTSTART;TZID=America/Los_Angeles:20260514T140000
DTEND;TZID=America/Los_Angeles:20260514T143000
DTSTAMP:20260423T194625
CREATED:20260423T150211Z
LAST-MODIFIED:20260423T150211Z
UID:10003555-1778767200-1778769000@www.lacountyfair.com
SUMMARY:Cutest Dog Show on Earth
DESCRIPTION:
URL:https://www.lacountyfair.com/event/cutest-dog-show-on-earth-17/
LOCATION:Lagoon
CATEGORIES:Animal,Show,Variety
END:VEVENT
BEGIN:VEVENT
DTSTART;TZID=America/Los_Angeles:20260514T153000
DTEND;TZID=America/Los_Angeles:20260514T160000
DTSTAMP:20260423T194625
CREATED:20260423T131502Z
LAST-MODIFIED:20260423T145833Z
UID:10003479-1778772600-1778774400@www.lacountyfair.com
SUMMARY:Cow Milking Demonstrations
DESCRIPTION:
URL:https://www.lacountyfair.com/event/cow-milking-demonstrations-18/
LOCATION:Dairy Parlor
CATEGORIES:Animal,Demonstration
END:VEVENT
BEGIN:VEVENT
DTSTART;TZID=America/Los_Angeles:20260514T153000
DTEND;TZID=America/Los_Angeles:20260514T160000
DTSTAMP:20260423T194625
CREATED:20260423T132242Z
LAST-MODIFIED:20260423T150057Z
UID:10003531-1778772600-1778774400@www.lacountyfair.com
SUMMARY:Meet the Animals
DESCRIPTION:
URL:https://www.lacountyfair.com/event/meet-the-animals-60/
LOCATION:The Big Red Barn
CATEGORIES:Animal,Variety
END:VEVENT
BEGIN:VEVENT
DTSTART;TZID=America/Los_Angeles:20260514T160000
DTEND;TZID=America/Los_Angeles:20260514T163000
DTSTAMP:20260423T194625
CREATED:20260423T131528Z
LAST-MODIFIED:20260423T145858Z
UID:10003492-1778774400-1778776200@www.lacountyfair.com
SUMMARY:Barnyard Racing Pig Races
DESCRIPTION:
URL:https://www.lacountyfair.com/event/barnyard-racing-pig-races-108/
LOCATION:The Fields
CATEGORIES:Animal,Variety
END:VEVENT
BEGIN:VEVENT
DTSTART;TZID=America/Los_Angeles:20260514T160000
DTEND;TZID=America/Los_Angeles:20260514T163000
DTSTAMP:20260423T194625
CREATED:20260423T131600Z
LAST-MODIFIED:20260423T145929Z
UID:10003503-1778774400-1778776200@www.lacountyfair.com
SUMMARY:Bottle Babies Feeding
DESCRIPTION:
URL:https://www.lacountyfair.com/event/bottle-babies-feeding-60/
LOCATION:The Big Red Barn
CATEGORIES:Animal,Variety
END:VEVENT
BEGIN:VEVENT
DTSTART;TZID=America/Los_Angeles:20260514T160000
DTEND;TZID=America/Los_Angeles:20260514T163000
DTSTAMP:20260423T194625
CREATED:20260423T150212Z
LAST-MODIFIED:20260423T150212Z
UID:10003556-1778774400-1778776200@www.lacountyfair.com
SUMMARY:Cutest Dog Show on Earth
DESCRIPTION:
URL:https://www.lacountyfair.com/event/cutest-dog-show-on-earth-18/
LOCATION:Lagoon
CATEGORIES:Animal,Show,Variety
END:VEVENT
BEGIN:VEVENT
DTSTART;TZID=America/Los_Angeles:20260514T173000
DTEND;TZID=America/Los_Angeles:20260514T180000
DTSTAMP:20260423T194625
CREATED:20260423T131503Z
LAST-MODIFIED:20260423T145834Z
UID:10003480-1778779800-1778781600@www.lacountyfair.com
SUMMARY:Cow Milking Demonstrations
DESCRIPTION:
URL:https://www.lacountyfair.com/event/cow-milking-demonstrations-19/
LOCATION:Dairy Parlor
CATEGORIES:Animal,Demonstration
END:VEVENT
BEGIN:VEVENT
DTSTART;TZID=America/Los_Angeles:20260514T180000
DTEND;TZID=America/Los_Angeles:20260514T183000
DTSTAMP:20260423T194625
CREATED:20260423T131529Z
LAST-MODIFIED:20260423T145859Z
UID:10003493-1778781600-1778783400@www.lacountyfair.com
SUMMARY:Barnyard Racing Pig Races
DESCRIPTION:
URL:https://www.lacountyfair.com/event/barnyard-racing-pig-races-109/
LOCATION:The Fields
CATEGORIES:Animal,Variety
END:VEVENT
BEGIN:VEVENT
DTSTART;TZID=America/Los_Angeles:20260514T180000
DTEND;TZID=America/Los_Angeles:20260514T183000
DTSTAMP:20260423T194625
CREATED:20260423T150214Z
LAST-MODIFIED:20260423T150214Z
UID:10003557-1778781600-1778783400@www.lacountyfair.com
SUMMARY:Cutest Dog Show on Earth
DESCRIPTION:
URL:https://www.lacountyfair.com/event/cutest-dog-show-on-earth-19/
LOCATION:Lagoon
CATEGORIES:Animal,Show,Variety
END:VEVENT
BEGIN:VEVENT
DTSTART;TZID=America/Los_Angeles:20260514T183000
DTEND;TZID=America/Los_Angeles:20260514T190000
DTSTAMP:20260423T194625
CREATED:20260423T132243Z
LAST-MODIFIED:20260423T150058Z
UID:10003532-1778783400-1778785200@www.lacountyfair.com
SUMMARY:Meet the Animals
DESCRIPTION:
URL:https://www.lacountyfair.com/event/meet-the-animals-61/
LOCATION:The Big Red Barn
CATEGORIES:Animal,Variety
END:VEVENT
BEGIN:VEVENT
DTSTART;TZID=America/Los_Angeles:20260514T190000
DTEND;TZID=America/Los_Angeles:20260514T193000
DTSTAMP:20260423T194625
CREATED:20260423T131504Z
LAST-MODIFIED:20260423T145835Z
UID:10003481-1778785200-1778787000@www.lacountyfair.com
SUMMARY:Cow Milking Demonstrations
DESCRIPTION:
URL:https://www.lacountyfair.com/event/cow-milking-demonstrations-20/
LOCATION:Dairy Parlor
CATEGORIES:Animal,Demonstration
END:VEVENT
BEGIN:VEVENT
DTSTART;TZID=America/Los_Angeles:20260514T193000
DTEND;TZID=America/Los_Angeles:20260514T200000
DTSTAMP:20260423T194625
CREATED:20260423T131610Z
LAST-MODIFIED:20260423T145940Z
UID:10003504-1778787000-1778788800@www.lacountyfair.com
SUMMARY:Bottle Babies Feeding
DESCRIPTION:
URL:https://www.lacountyfair.com/event/bottle-babies-feeding-61/
LOCATION:The Big Red Barn
CATEGORIES:Animal,Variety
END:VEVENT
BEGIN:VEVENT
DTSTART;TZID=America/Los_Angeles:20260514T200000
DTEND;TZID=America/Los_Angeles:20260514T203000
DTSTAMP:20260423T194625
CREATED:20260423T131540Z
LAST-MODIFIED:20260423T145910Z
UID:10003494-1778788800-1778790600@www.lacountyfair.com
SUMMARY:Barnyard Racing Pig Races
DESCRIPTION:
URL:https://www.lacountyfair.com/event/barnyard-racing-pig-races-110/
LOCATION:The Fields
CATEGORIES:Animal,Variety
END:VEVENT
BEGIN:VEVENT
DTSTART;TZID=America/Los_Angeles:20260514T200000
DTEND;TZID=America/Los_Angeles:20260514T203000
DTSTAMP:20260423T194625
CREATED:20260423T150215Z
LAST-MODIFIED:20260423T150215Z
UID:10003558-1778788800-1778790600@www.lacountyfair.com
SUMMARY:Cutest Dog Show on Earth
DESCRIPTION:
URL:https://www.lacountyfair.com/event/cutest-dog-show-on-earth-20/
LOCATION:Lagoon
CATEGORIES:Animal,Show,Variety
END:VEVENT
BEGIN:VEVENT
DTSTART;TZID=America/Los_Angeles:20260514T220000
DTEND;TZID=America/Los_Angeles:20260514T223000
DTSTAMP:20260423T194625
CREATED:20260423T131541Z
LAST-MODIFIED:20260423T145911Z
UID:10003495-1778796000-1778797800@www.lacountyfair.com
SUMMARY:Barnyard Racing Pig Races
DESCRIPTION:
URL:https://www.lacountyfair.com/event/barnyard-racing-pig-races-111/
LOCATION:The Fields
CATEGORIES:Animal,Variety
END:VEVENT
BEGIN:VEVENT
DTSTART;TZID=America/Los_Angeles:20260515T110000
DTEND;TZID=America/Los_Angeles:20260515T220000
DTSTAMP:20260423T194625
CREATED:20260424T005244Z
LAST-MODIFIED:20260424T005244Z
UID:10003614-1778842800-1778882400@www.lacountyfair.com
SUMMARY:Cal Poly Pomona Petting Farm
DESCRIPTION:
URL:https://www.lacountyfair.com/event/cal-poly-pomona-petting-farm-6/
LOCATION:The Big Red Barn
CATEGORIES:Animal
END:VEVENT
BEGIN:VEVENT
DTSTART;TZID=America/Los_Angeles:20260515T120000
DTEND;TZID=America/Los_Angeles:20260515T123000
DTSTAMP:20260423T194625
CREATED:20260424T005146Z
LAST-MODIFIED:20260424T005146Z
UID:10003596-1778846400-1778848200@www.lacountyfair.com
SUMMARY:Barnyard Racing Pig Races
DESCRIPTION:
URL:https://www.lacountyfair.com/event/barnyard-racing-pig-races-112/
LOCATION:The Fields
CATEGORIES:Animal,Variety
END:VEVENT
BEGIN:VEVENT
DTSTART;TZID=America/Los_Angeles:20260515T130000
DTEND;TZID=America/Los_Angeles:20260515T133000
DTSTAMP:20260423T194625
CREATED:20260424T005347Z
LAST-MODIFIED:20260424T005347Z
UID:10003637-1778850000-1778851800@www.lacountyfair.com
SUMMARY:Meet the Animals
DESCRIPTION:
URL:https://www.lacountyfair.com/event/meet-the-animals-62/
LOCATION:The Big Red Barn
CATEGORIES:Animal,Variety
END:VEVENT
BEGIN:VEVENT
DTSTART;TZID=America/Los_Angeles:20260515T133000
DTEND;TZID=America/Los_Angeles:20260515T140000
DTSTAMP:20260423T194625
CREATED:20260424T005115Z
LAST-MODIFIED:20260424T005115Z
UID:10003585-1778851800-1778853600@www.lacountyfair.com
SUMMARY:Cow Milking Demonstrations
DESCRIPTION:
URL:https://www.lacountyfair.com/event/cow-milking-demonstrations-21/
LOCATION:Dairy Parlor
CATEGORIES:Animal,Demonstration
END:VEVENT
BEGIN:VEVENT
DTSTART;TZID=America/Los_Angeles:20260515T140000
DTEND;TZID=America/Los_Angeles:20260515T143000
DTSTAMP:20260423T194625
CREATED:20260424T005147Z
LAST-MODIFIED:20260424T005147Z
UID:10003597-1778853600-1778855400@www.lacountyfair.com
SUMMARY:Barnyard Racing Pig Races
DESCRIPTION:
URL:https://www.lacountyfair.com/event/barnyard-racing-pig-races-113/
LOCATION:The Fields
CATEGORIES:Animal,Variety
END:VEVENT
BEGIN:VEVENT
DTSTART;TZID=America/Los_Angeles:20260515T140000
DTEND;TZID=America/Los_Angeles:20260515T143000
DTSTAMP:20260423T194625
CREATED:20260424T005218Z
LAST-MODIFIED:20260424T005218Z
UID:10003608-1778853600-1778855400@www.lacountyfair.com
SUMMARY:Bottle Babies Feeding
DESCRIPTION:
URL:https://www.lacountyfair.com/event/bottle-babies-feeding-62/
LOCATION:The Big Red Barn
CATEGORIES:Animal,Variety
END:VEVENT
BEGIN:VEVENT
DTSTART;TZID=America/Los_Angeles:20260515T140000
DTEND;TZID=America/Los_Angeles:20260515T143000
DTSTAMP:20260423T194625
CREATED:20260424T005543Z
LAST-MODIFIED:20260424T005543Z
UID:10003663-1778853600-1778855400@www.lacountyfair.com
SUMMARY:Cutest Dog Show on Earth
DESCRIPTION:
URL:https://www.lacountyfair.com/event/cutest-dog-show-on-earth-21/
LOCATION:Lagoon
CATEGORIES:Animal,Show,Variety
END:VEVENT
BEGIN:VEVENT
DTSTART;TZID=America/Los_Angeles:20260515T153000
DTEND;TZID=America/Los_Angeles:20260515T160000
DTSTAMP:20260423T194625
CREATED:20260424T005116Z
LAST-MODIFIED:20260424T005116Z
UID:10003586-1778859000-1778860800@www.lacountyfair.com
SUMMARY:Cow Milking Demonstrations
DESCRIPTION:
URL:https://www.lacountyfair.com/event/cow-milking-demonstrations-22/
LOCATION:Dairy Parlor
CATEGORIES:Animal,Demonstration
END:VEVENT
BEGIN:VEVENT
DTSTART;TZID=America/Los_Angeles:20260515T153000
DTEND;TZID=America/Los_Angeles:20260515T160000
DTSTAMP:20260423T194625
CREATED:20260424T005348Z
LAST-MODIFIED:20260424T005348Z
UID:10003638-1778859000-1778860800@www.lacountyfair.com
SUMMARY:Meet the Animals
DESCRIPTION:
URL:https://www.lacountyfair.com/event/meet-the-animals-63/
LOCATION:The Big Red Barn
CATEGORIES:Animal,Variety
END:VEVENT
BEGIN:VEVENT
DTSTART;TZID=America/Los_Angeles:20260515T160000
DTEND;TZID=America/Los_Angeles:20260515T163000
DTSTAMP:20260423T194625
CREATED:20260424T005149Z
LAST-MODIFIED:20260424T005149Z
UID:10003598-1778860800-1778862600@www.lacountyfair.com
SUMMARY:Barnyard Racing Pig Races
DESCRIPTION:
URL:https://www.lacountyfair.com/event/barnyard-racing-pig-races-114/
LOCATION:The Fields
CATEGORIES:Animal,Variety
END:VEVENT
BEGIN:VEVENT
DTSTART;TZID=America/Los_Angeles:20260515T160000
DTEND;TZID=America/Los_Angeles:20260515T163000
DTSTAMP:20260423T194625
CREATED:20260424T005229Z
LAST-MODIFIED:20260424T005229Z
UID:10003609-1778860800-1778862600@www.lacountyfair.com
SUMMARY:Bottle Babies Feeding
DESCRIPTION:
URL:https://www.lacountyfair.com/event/bottle-babies-feeding-63/
LOCATION:The Big Red Barn
CATEGORIES:Animal,Variety
END:VEVENT
BEGIN:VEVENT
DTSTART;TZID=America/Los_Angeles:20260515T160000
DTEND;TZID=America/Los_Angeles:20260515T163000
DTSTAMP:20260423T194625
CREATED:20260424T005553Z
LAST-MODIFIED:20260424T005553Z
UID:10003664-1778860800-1778862600@www.lacountyfair.com
SUMMARY:Cutest Dog Show on Earth
DESCRIPTION:
URL:https://www.lacountyfair.com/event/cutest-dog-show-on-earth-22/
LOCATION:Lagoon
CATEGORIES:Animal,Show,Variety
END:VEVENT
END:VCALENDAR