BEGIN:VCALENDAR
VERSION:2.0
PRODID:-//2026 LA County Fair - ECPv6.15.17.1//NONSGML v1.0//EN
CALSCALE:GREGORIAN
METHOD:PUBLISH
X-ORIGINAL-URL:https://www.lacountyfair.com
X-WR-CALDESC:Events for 2026 LA County Fair
REFRESH-INTERVAL;VALUE=DURATION:PT1H
X-Robots-Tag:noindex
X-PUBLISHED-TTL:PT1H
BEGIN:VTIMEZONE
TZID:America/Los_Angeles
BEGIN:DAYLIGHT
TZOFFSETFROM:-0800
TZOFFSETTO:-0700
TZNAME:PDT
DTSTART:20250309T100000
END:DAYLIGHT
BEGIN:STANDARD
TZOFFSETFROM:-0700
TZOFFSETTO:-0800
TZNAME:PST
DTSTART:20251102T090000
END:STANDARD
BEGIN:DAYLIGHT
TZOFFSETFROM:-0800
TZOFFSETTO:-0700
TZNAME:PDT
DTSTART:20260308T100000
END:DAYLIGHT
BEGIN:STANDARD
TZOFFSETFROM:-0700
TZOFFSETTO:-0800
TZNAME:PST
DTSTART:20261101T090000
END:STANDARD
BEGIN:DAYLIGHT
TZOFFSETFROM:-0800
TZOFFSETTO:-0700
TZNAME:PDT
DTSTART:20270314T100000
END:DAYLIGHT
BEGIN:STANDARD
TZOFFSETFROM:-0700
TZOFFSETTO:-0800
TZNAME:PST
DTSTART:20271107T090000
END:STANDARD
END:VTIMEZONE
BEGIN:VEVENT
DTSTART;TZID=America/Los_Angeles:20260508T183000
DTEND;TZID=America/Los_Angeles:20260508T190000
DTSTAMP:20260423T123227
CREATED:20260423T053539Z
LAST-MODIFIED:20260423T053539Z
UID:10003169-1778265000-1778266800@www.lacountyfair.com
SUMMARY:Meet the Animals
DESCRIPTION:
URL:https://www.lacountyfair.com/event/meet-the-animals-52/
LOCATION:The Big Red Barn
CATEGORIES:Animal,Variety
END:VEVENT
BEGIN:VEVENT
DTSTART;TZID=America/Los_Angeles:20260508T190000
DTEND;TZID=America/Los_Angeles:20260508T193000
DTSTAMP:20260423T123227
CREATED:20260423T053253Z
LAST-MODIFIED:20260423T053253Z
UID:10003113-1778266800-1778268600@www.lacountyfair.com
SUMMARY:Cow Milking Demonstrations
DESCRIPTION:
URL:https://www.lacountyfair.com/event/cow-milking-demonstrations-8/
LOCATION:Dairy Parlor
CATEGORIES:Animal,Demonstration
END:VEVENT
BEGIN:VEVENT
DTSTART;TZID=America/Los_Angeles:20260508T193000
DTEND;TZID=America/Los_Angeles:20260508T193000
DTSTAMP:20260423T123227
CREATED:20260423T053355Z
LAST-MODIFIED:20260423T053355Z
UID:10003135-1778268600-1778268600@www.lacountyfair.com
SUMMARY:Bottle Babies Feeding
DESCRIPTION:
URL:https://www.lacountyfair.com/event/bottle-babies-feeding-52/
LOCATION:The Big Red Barn
CATEGORIES:Animal,Variety
END:VEVENT
BEGIN:VEVENT
DTSTART;TZID=America/Los_Angeles:20260508T200000
DTEND;TZID=America/Los_Angeles:20260508T203000
DTSTAMP:20260423T123227
CREATED:20260423T053325Z
LAST-MODIFIED:20260423T053325Z
UID:10003125-1778270400-1778272200@www.lacountyfair.com
SUMMARY:Barnyard Racing Pig Races
DESCRIPTION:
URL:https://www.lacountyfair.com/event/barnyard-racing-pig-races-95/
LOCATION:The Fields
CATEGORIES:Animal,Variety
END:VEVENT
BEGIN:VEVENT
DTSTART;TZID=America/Los_Angeles:20260508T200000
DTEND;TZID=America/Los_Angeles:20260508T203000
DTSTAMP:20260423T123227
CREATED:20260423T055307Z
LAST-MODIFIED:20260423T055307Z
UID:10003197-1778270400-1778272200@www.lacountyfair.com
SUMMARY:Cutest Dog Show on Earth
DESCRIPTION:
URL:https://www.lacountyfair.com/event/cutest-dog-show-on-earth-8/
LOCATION:Lagoon
CATEGORIES:Animal,Show,Variety
END:VEVENT
BEGIN:VEVENT
DTSTART;TZID=America/Los_Angeles:20260508T220000
DTEND;TZID=America/Los_Angeles:20260508T223000
DTSTAMP:20260423T123227
CREATED:20260423T053336Z
LAST-MODIFIED:20260423T053336Z
UID:10003126-1778277600-1778279400@www.lacountyfair.com
SUMMARY:Barnyard Racing Pig Races
DESCRIPTION:
URL:https://www.lacountyfair.com/event/barnyard-racing-pig-races-96/
LOCATION:The Fields
CATEGORIES:Animal,Variety
END:VEVENT
BEGIN:VEVENT
DTSTART;TZID=America/Los_Angeles:20260509T110000
DTEND;TZID=America/Los_Angeles:20260509T220000
DTSTAMP:20260423T123227
CREATED:20260423T060323Z
LAST-MODIFIED:20260423T060323Z
UID:10003262-1778324400-1778364000@www.lacountyfair.com
SUMMARY:Cal Poly Pomona Petting Farm
DESCRIPTION:
URL:https://www.lacountyfair.com/event/cal-poly-pomona-petting-farm-3/
LOCATION:The Big Red Barn
CATEGORIES:Animal
END:VEVENT
BEGIN:VEVENT
DTSTART;TZID=America/Los_Angeles:20260509T120000
DTEND;TZID=America/Los_Angeles:20260509T123000
DTSTAMP:20260423T123227
CREATED:20260423T055524Z
LAST-MODIFIED:20260423T055524Z
UID:10003244-1778328000-1778329800@www.lacountyfair.com
SUMMARY:Barnyard Racing Pig Races
DESCRIPTION:
URL:https://www.lacountyfair.com/event/barnyard-racing-pig-races-97/
LOCATION:The Fields
CATEGORIES:Animal,Variety
END:VEVENT
BEGIN:VEVENT
DTSTART;TZID=America/Los_Angeles:20260509T130000
DTEND;TZID=America/Los_Angeles:20260509T130000
DTSTAMP:20260423T123227
CREATED:20260423T064451Z
LAST-MODIFIED:20260423T064451Z
UID:10003296-1778331600-1778331600@www.lacountyfair.com
SUMMARY:Meet the Animals
DESCRIPTION:
URL:https://www.lacountyfair.com/event/meet-the-animals-53/
LOCATION:The Big Red Barn
CATEGORIES:Animal,Variety
END:VEVENT
BEGIN:VEVENT
DTSTART;TZID=America/Los_Angeles:20260509T133000
DTEND;TZID=America/Los_Angeles:20260509T140000
DTSTAMP:20260423T123227
CREATED:20260423T055451Z
LAST-MODIFIED:20260423T055451Z
UID:10003231-1778333400-1778335200@www.lacountyfair.com
SUMMARY:Cow Milking Demonstrations
DESCRIPTION:
URL:https://www.lacountyfair.com/event/cow-milking-demonstrations-9/
LOCATION:Dairy Parlor
CATEGORIES:Animal,Demonstration
END:VEVENT
BEGIN:VEVENT
DTSTART;TZID=America/Los_Angeles:20260509T140000
DTEND;TZID=America/Los_Angeles:20260509T140000
DTSTAMP:20260423T123227
CREATED:20260423T055926Z
LAST-MODIFIED:20260423T055926Z
UID:10003255-1778335200-1778335200@www.lacountyfair.com
SUMMARY:Bottle Babies Feeding
DESCRIPTION:
URL:https://www.lacountyfair.com/event/bottle-babies-feeding-53/
LOCATION:The Big Red Barn
CATEGORIES:Animal,Variety
END:VEVENT
BEGIN:VEVENT
DTSTART;TZID=America/Los_Angeles:20260509T140000
DTEND;TZID=America/Los_Angeles:20260509T143000
DTSTAMP:20260423T123227
CREATED:20260423T055525Z
LAST-MODIFIED:20260423T055525Z
UID:10003245-1778335200-1778337000@www.lacountyfair.com
SUMMARY:Barnyard Racing Pig Races
DESCRIPTION:
URL:https://www.lacountyfair.com/event/barnyard-racing-pig-races-98/
LOCATION:The Fields
CATEGORIES:Animal,Variety
END:VEVENT
BEGIN:VEVENT
DTSTART;TZID=America/Los_Angeles:20260509T140000
DTEND;TZID=America/Los_Angeles:20260509T143000
DTSTAMP:20260423T123227
CREATED:20260423T065454Z
LAST-MODIFIED:20260423T065454Z
UID:10003323-1778335200-1778337000@www.lacountyfair.com
SUMMARY:Cutest Dog Show on Earth
DESCRIPTION:
URL:https://www.lacountyfair.com/event/cutest-dog-show-on-earth-9/
LOCATION:Lagoon
CATEGORIES:Animal,Show,Variety
END:VEVENT
BEGIN:VEVENT
DTSTART;TZID=America/Los_Angeles:20260509T153000
DTEND;TZID=America/Los_Angeles:20260509T153000
DTSTAMP:20260423T123227
CREATED:20260423T064452Z
LAST-MODIFIED:20260423T064452Z
UID:10003297-1778340600-1778340600@www.lacountyfair.com
SUMMARY:Meet the Animals
DESCRIPTION:
URL:https://www.lacountyfair.com/event/meet-the-animals-54/
LOCATION:The Big Red Barn
CATEGORIES:Animal,Variety
END:VEVENT
BEGIN:VEVENT
DTSTART;TZID=America/Los_Angeles:20260509T153000
DTEND;TZID=America/Los_Angeles:20260509T160000
DTSTAMP:20260423T123227
CREATED:20260423T055453Z
LAST-MODIFIED:20260423T055453Z
UID:10003232-1778340600-1778342400@www.lacountyfair.com
SUMMARY:Cow Milking Demonstrations
DESCRIPTION:
URL:https://www.lacountyfair.com/event/cow-milking-demonstrations-10/
LOCATION:Dairy Parlor
CATEGORIES:Animal,Demonstration
END:VEVENT
BEGIN:VEVENT
DTSTART;TZID=America/Los_Angeles:20260509T160000
DTEND;TZID=America/Los_Angeles:20260509T160000
DTSTAMP:20260423T123227
CREATED:20260423T060121Z
LAST-MODIFIED:20260423T060121Z
UID:10003256-1778342400-1778342400@www.lacountyfair.com
SUMMARY:Bottle Babies Feeding
DESCRIPTION:
URL:https://www.lacountyfair.com/event/bottle-babies-feeding-54/
LOCATION:The Big Red Barn
CATEGORIES:Animal,Variety
END:VEVENT
BEGIN:VEVENT
DTSTART;TZID=America/Los_Angeles:20260509T160000
DTEND;TZID=America/Los_Angeles:20260509T163000
DTSTAMP:20260423T123227
CREATED:20260423T055721Z
LAST-MODIFIED:20260423T055721Z
UID:10003246-1778342400-1778344200@www.lacountyfair.com
SUMMARY:Barnyard Racing Pig Races
DESCRIPTION:
URL:https://www.lacountyfair.com/event/barnyard-racing-pig-races-99/
LOCATION:The Fields
CATEGORIES:Animal,Variety
END:VEVENT
BEGIN:VEVENT
DTSTART;TZID=America/Los_Angeles:20260509T160000
DTEND;TZID=America/Los_Angeles:20260509T163000
DTSTAMP:20260423T123227
CREATED:20260423T065455Z
LAST-MODIFIED:20260423T065455Z
UID:10003324-1778342400-1778344200@www.lacountyfair.com
SUMMARY:Cutest Dog Show on Earth
DESCRIPTION:
URL:https://www.lacountyfair.com/event/cutest-dog-show-on-earth-10/
LOCATION:Lagoon
CATEGORIES:Animal,Show,Variety
END:VEVENT
BEGIN:VEVENT
DTSTART;TZID=America/Los_Angeles:20260509T173000
DTEND;TZID=America/Los_Angeles:20260509T180000
DTSTAMP:20260423T123227
CREATED:20260423T055454Z
LAST-MODIFIED:20260423T055454Z
UID:10003233-1778347800-1778349600@www.lacountyfair.com
SUMMARY:Cow Milking Demonstrations
DESCRIPTION:
URL:https://www.lacountyfair.com/event/cow-milking-demonstrations-11/
LOCATION:Dairy Parlor
CATEGORIES:Animal,Demonstration
END:VEVENT
BEGIN:VEVENT
DTSTART;TZID=America/Los_Angeles:20260509T180000
DTEND;TZID=America/Los_Angeles:20260509T183000
DTSTAMP:20260423T123227
CREATED:20260423T055722Z
LAST-MODIFIED:20260423T055722Z
UID:10003247-1778349600-1778351400@www.lacountyfair.com
SUMMARY:Barnyard Racing Pig Races
DESCRIPTION:
URL:https://www.lacountyfair.com/event/barnyard-racing-pig-races-100/
LOCATION:The Fields
CATEGORIES:Animal,Variety
END:VEVENT
BEGIN:VEVENT
DTSTART;TZID=America/Los_Angeles:20260509T180000
DTEND;TZID=America/Los_Angeles:20260509T183000
DTSTAMP:20260423T123227
CREATED:20260423T065651Z
LAST-MODIFIED:20260423T065651Z
UID:10003325-1778349600-1778351400@www.lacountyfair.com
SUMMARY:Cutest Dog Show on Earth
DESCRIPTION:
URL:https://www.lacountyfair.com/event/cutest-dog-show-on-earth-11/
LOCATION:Lagoon
CATEGORIES:Animal,Show,Variety
END:VEVENT
BEGIN:VEVENT
DTSTART;TZID=America/Los_Angeles:20260509T183000
DTEND;TZID=America/Los_Angeles:20260509T183000
DTSTAMP:20260423T123227
CREATED:20260423T064453Z
LAST-MODIFIED:20260423T064453Z
UID:10003298-1778351400-1778351400@www.lacountyfair.com
SUMMARY:Meet the Animals
DESCRIPTION:
URL:https://www.lacountyfair.com/event/meet-the-animals-55/
LOCATION:The Big Red Barn
CATEGORIES:Animal,Variety
END:VEVENT
BEGIN:VEVENT
DTSTART;TZID=America/Los_Angeles:20260509T190000
DTEND;TZID=America/Los_Angeles:20260509T193000
DTSTAMP:20260423T123227
CREATED:20260423T055455Z
LAST-MODIFIED:20260423T055455Z
UID:10003234-1778353200-1778355000@www.lacountyfair.com
SUMMARY:Cow Milking Demonstrations
DESCRIPTION:
URL:https://www.lacountyfair.com/event/cow-milking-demonstrations-12/
LOCATION:Dairy Parlor
CATEGORIES:Animal,Demonstration
END:VEVENT
BEGIN:VEVENT
DTSTART;TZID=America/Los_Angeles:20260509T193000
DTEND;TZID=America/Los_Angeles:20260509T193000
DTSTAMP:20260423T123227
CREATED:20260423T060123Z
LAST-MODIFIED:20260423T060123Z
UID:10003257-1778355000-1778355000@www.lacountyfair.com
SUMMARY:Bottle Babies Feeding
DESCRIPTION:
URL:https://www.lacountyfair.com/event/bottle-babies-feeding-55/
LOCATION:The Big Red Barn
CATEGORIES:Animal,Variety
END:VEVENT
BEGIN:VEVENT
DTSTART;TZID=America/Los_Angeles:20260509T200000
DTEND;TZID=America/Los_Angeles:20260509T203000
DTSTAMP:20260423T123227
CREATED:20260423T065652Z
LAST-MODIFIED:20260423T065652Z
UID:10003326-1778356800-1778358600@www.lacountyfair.com
SUMMARY:Cutest Dog Show on Earth
DESCRIPTION:
URL:https://www.lacountyfair.com/event/cutest-dog-show-on-earth-12/
LOCATION:Lagoon
CATEGORIES:Animal,Show,Variety
END:VEVENT
BEGIN:VEVENT
DTSTART;TZID=America/Los_Angeles:20260509T220000
DTEND;TZID=America/Los_Angeles:20260509T220000
DTSTAMP:20260423T123227
CREATED:20260423T055723Z
LAST-MODIFIED:20260423T055723Z
UID:10003248-1778364000-1778364000@www.lacountyfair.com
SUMMARY:Barnyard Racing Pig Races
DESCRIPTION:
URL:https://www.lacountyfair.com/event/barnyard-racing-pig-races-101/
LOCATION:The Fields
CATEGORIES:Animal,Variety
END:VEVENT
BEGIN:VEVENT
DTSTART;TZID=America/Los_Angeles:20260510T110000
DTEND;TZID=America/Los_Angeles:20260510T220000
DTSTAMP:20260423T123227
CREATED:20260423T121820Z
LAST-MODIFIED:20260423T121820Z
UID:10003389-1778410800-1778450400@www.lacountyfair.com
SUMMARY:Cal Poly Pomona Petting Farm
DESCRIPTION:
URL:https://www.lacountyfair.com/event/cal-poly-pomona-petting-farm-4/
LOCATION:The Big Red Barn
CATEGORIES:Animal
END:VEVENT
BEGIN:VEVENT
DTSTART;TZID=America/Los_Angeles:20260510T120000
DTEND;TZID=America/Los_Angeles:20260510T123000
DTSTAMP:20260423T123227
CREATED:20260423T071452Z
LAST-MODIFIED:20260423T071452Z
UID:10003372-1778414400-1778416200@www.lacountyfair.com
SUMMARY:Barnyard Racing Pig Races
DESCRIPTION:
URL:https://www.lacountyfair.com/event/barnyard-racing-pig-races-102/
LOCATION:The Fields
CATEGORIES:Animal,Variety
END:VEVENT
BEGIN:VEVENT
DTSTART;TZID=America/Los_Angeles:20260510T130000
DTEND;TZID=America/Los_Angeles:20260510T133000
DTSTAMP:20260423T123227
CREATED:20260423T121950Z
LAST-MODIFIED:20260423T121950Z
UID:10003418-1778418000-1778419800@www.lacountyfair.com
SUMMARY:Meet the Animals
DESCRIPTION:
URL:https://www.lacountyfair.com/event/meet-the-animals-56/
LOCATION:The Big Red Barn
CATEGORIES:Animal,Variety
END:VEVENT
BEGIN:VEVENT
DTSTART;TZID=America/Los_Angeles:20260510T133000
DTEND;TZID=America/Los_Angeles:20260510T140000
DTSTAMP:20260423T123227
CREATED:20260423T071050Z
LAST-MODIFIED:20260423T071050Z
UID:10003360-1778419800-1778421600@www.lacountyfair.com
SUMMARY:Cow Milking Demonstrations
DESCRIPTION:
URL:https://www.lacountyfair.com/event/cow-milking-demonstrations-13/
LOCATION:Dairy Parlor
CATEGORIES:Animal,Demonstration
END:VEVENT
END:VCALENDAR