BEGIN:VCALENDAR
VERSION:2.0
PRODID:-//2026 LA County Fair - ECPv6.15.17.1//NONSGML v1.0//EN
CALSCALE:GREGORIAN
METHOD:PUBLISH
X-ORIGINAL-URL:https://www.lacountyfair.com
X-WR-CALDESC:Events for 2026 LA County Fair
REFRESH-INTERVAL;VALUE=DURATION:PT1H
X-Robots-Tag:noindex
X-PUBLISHED-TTL:PT1H
BEGIN:VTIMEZONE
TZID:America/Los_Angeles
BEGIN:DAYLIGHT
TZOFFSETFROM:-0800
TZOFFSETTO:-0700
TZNAME:PDT
DTSTART:20250309T100000
END:DAYLIGHT
BEGIN:STANDARD
TZOFFSETFROM:-0700
TZOFFSETTO:-0800
TZNAME:PST
DTSTART:20251102T090000
END:STANDARD
BEGIN:DAYLIGHT
TZOFFSETFROM:-0800
TZOFFSETTO:-0700
TZNAME:PDT
DTSTART:20260308T100000
END:DAYLIGHT
BEGIN:STANDARD
TZOFFSETFROM:-0700
TZOFFSETTO:-0800
TZNAME:PST
DTSTART:20261101T090000
END:STANDARD
BEGIN:DAYLIGHT
TZOFFSETFROM:-0800
TZOFFSETTO:-0700
TZNAME:PDT
DTSTART:20270314T100000
END:DAYLIGHT
BEGIN:STANDARD
TZOFFSETFROM:-0700
TZOFFSETTO:-0800
TZNAME:PST
DTSTART:20271107T090000
END:STANDARD
END:VTIMEZONE
BEGIN:VEVENT
DTSTART;TZID=America/Los_Angeles:20260530T160000
DTEND;TZID=America/Los_Angeles:20260530T163000
DTSTAMP:20260425T054955
CREATED:20260424T105913Z
LAST-MODIFIED:20260424T105913Z
UID:10004726-1780156800-1780158600@www.lacountyfair.com
SUMMARY:Bottle Babies Feeding
DESCRIPTION:
URL:https://www.lacountyfair.com/event/bottle-babies-feeding-93/
LOCATION:The Big Red Barn
CATEGORIES:Animal,Variety
END:VEVENT
BEGIN:VEVENT
DTSTART;TZID=America/Los_Angeles:20260530T160000
DTEND;TZID=America/Los_Angeles:20260530T163000
DTSTAMP:20260425T054955
CREATED:20260424T110331Z
LAST-MODIFIED:20260424T110331Z
UID:10004801-1780156800-1780158600@www.lacountyfair.com
SUMMARY:Cutest Dog Show on Earth
DESCRIPTION:
URL:https://www.lacountyfair.com/event/cutest-dog-show-on-earth-62/
LOCATION:Lagoon
CATEGORIES:Animal,Show,Variety
END:VEVENT
BEGIN:VEVENT
DTSTART;TZID=America/Los_Angeles:20260530T173000
DTEND;TZID=America/Los_Angeles:20260530T180000
DTSTAMP:20260425T054955
CREATED:20260424T105800Z
LAST-MODIFIED:20260424T105800Z
UID:10004703-1780162200-1780164000@www.lacountyfair.com
SUMMARY:Cow Milking Demonstrations
DESCRIPTION:
URL:https://www.lacountyfair.com/event/cow-milking-demonstrations-63/
LOCATION:Dairy Parlor
CATEGORIES:Animal,Demonstration
END:VEVENT
BEGIN:VEVENT
DTSTART;TZID=America/Los_Angeles:20260530T180000
DTEND;TZID=America/Los_Angeles:20260530T183000
DTSTAMP:20260425T054955
CREATED:20260424T105844Z
LAST-MODIFIED:20260424T105844Z
UID:10004717-1780164000-1780165800@www.lacountyfair.com
SUMMARY:Barnyard Racing Pig Races
DESCRIPTION:
URL:https://www.lacountyfair.com/event/barnyard-racing-pig-races-167/
LOCATION:The Fields
CATEGORIES:Animal,Variety
END:VEVENT
BEGIN:VEVENT
DTSTART;TZID=America/Los_Angeles:20260530T180000
DTEND;TZID=America/Los_Angeles:20260530T183000
DTSTAMP:20260425T054955
CREATED:20260424T110332Z
LAST-MODIFIED:20260424T110332Z
UID:10004802-1780164000-1780165800@www.lacountyfair.com
SUMMARY:Cutest Dog Show on Earth
DESCRIPTION:
URL:https://www.lacountyfair.com/event/cutest-dog-show-on-earth-63/
LOCATION:Lagoon
CATEGORIES:Animal,Show,Variety
END:VEVENT
BEGIN:VEVENT
DTSTART;TZID=America/Los_Angeles:20260530T183000
DTEND;TZID=America/Los_Angeles:20260530T190000
DTSTAMP:20260425T054955
CREATED:20260424T110101Z
LAST-MODIFIED:20260424T110101Z
UID:10004764-1780165800-1780167600@www.lacountyfair.com
SUMMARY:Meet the Animals
DESCRIPTION:
URL:https://www.lacountyfair.com/event/meet-the-animals-94/
LOCATION:The Big Red Barn
CATEGORIES:Animal,Variety
END:VEVENT
BEGIN:VEVENT
DTSTART;TZID=America/Los_Angeles:20260530T190000
DTEND;TZID=America/Los_Angeles:20260530T193000
DTSTAMP:20260425T054955
CREATED:20260424T105801Z
LAST-MODIFIED:20260424T105801Z
UID:10004704-1780167600-1780169400@www.lacountyfair.com
SUMMARY:Cow Milking Demonstrations
DESCRIPTION:
URL:https://www.lacountyfair.com/event/cow-milking-demonstrations-64/
LOCATION:Dairy Parlor
CATEGORIES:Animal,Demonstration
END:VEVENT
BEGIN:VEVENT
DTSTART;TZID=America/Los_Angeles:20260530T193000
DTEND;TZID=America/Los_Angeles:20260530T200000
DTSTAMP:20260425T054955
CREATED:20260424T105914Z
LAST-MODIFIED:20260424T105914Z
UID:10004727-1780169400-1780171200@www.lacountyfair.com
SUMMARY:Bottle Babies Feeding
DESCRIPTION:
URL:https://www.lacountyfair.com/event/bottle-babies-feeding-94/
LOCATION:The Big Red Barn
CATEGORIES:Animal,Variety
END:VEVENT
BEGIN:VEVENT
DTSTART;TZID=America/Los_Angeles:20260530T200000
DTEND;TZID=America/Los_Angeles:20260530T203000
DTSTAMP:20260425T054955
CREATED:20260424T110333Z
LAST-MODIFIED:20260424T110333Z
UID:10004803-1780171200-1780173000@www.lacountyfair.com
SUMMARY:Cutest Dog Show on Earth
DESCRIPTION:
URL:https://www.lacountyfair.com/event/cutest-dog-show-on-earth-64/
LOCATION:Lagoon
CATEGORIES:Animal,Show,Variety
END:VEVENT
BEGIN:VEVENT
DTSTART;TZID=America/Los_Angeles:20260530T220000
DTEND;TZID=America/Los_Angeles:20260530T223000
DTSTAMP:20260425T054955
CREATED:20260424T105845Z
LAST-MODIFIED:20260424T105845Z
UID:10004718-1780178400-1780180200@www.lacountyfair.com
SUMMARY:Barnyard Racing Pig Races
DESCRIPTION:
URL:https://www.lacountyfair.com/event/barnyard-racing-pig-races-168/
LOCATION:The Fields
CATEGORIES:Animal,Variety
END:VEVENT
BEGIN:VEVENT
DTSTART;TZID=America/Los_Angeles:20260531T110000
DTEND;TZID=America/Los_Angeles:20260531T220000
DTSTAMP:20260425T054955
CREATED:20260424T110549Z
LAST-MODIFIED:20260424T110549Z
UID:10004849-1780225200-1780264800@www.lacountyfair.com
SUMMARY:Cal Poly Pomona Petting Farm
DESCRIPTION:
URL:https://www.lacountyfair.com/event/cal-poly-pomona-petting-farm-17/
LOCATION:The Big Red Barn
CATEGORIES:Animal
END:VEVENT
BEGIN:VEVENT
DTSTART;TZID=America/Los_Angeles:20260531T120000
DTEND;TZID=America/Los_Angeles:20260531T123000
DTSTAMP:20260425T054955
CREATED:20260424T110500Z
LAST-MODIFIED:20260424T110500Z
UID:10004830-1780228800-1780230600@www.lacountyfair.com
SUMMARY:Barnyard Racing Pig Races
DESCRIPTION:
URL:https://www.lacountyfair.com/event/barnyard-racing-pig-races-169/
LOCATION:The Fields
CATEGORIES:Animal,Variety
END:VEVENT
BEGIN:VEVENT
DTSTART;TZID=America/Los_Angeles:20260531T130000
DTEND;TZID=America/Los_Angeles:20260531T130000
DTSTAMP:20260425T054955
CREATED:20260424T110548Z
LAST-MODIFIED:20260424T110548Z
UID:10004848-1780232400-1780232400@www.lacountyfair.com
SUMMARY:Breeding Sheep Show
DESCRIPTION:
URL:https://www.lacountyfair.com/event/breeding-sheep-show-4/
LOCATION:Competition Barn
CATEGORIES:Animal,Competition
END:VEVENT
BEGIN:VEVENT
DTSTART;TZID=America/Los_Angeles:20260531T130000
DTEND;TZID=America/Los_Angeles:20260531T133000
DTSTAMP:20260425T054955
CREATED:20260424T110835Z
LAST-MODIFIED:20260424T110835Z
UID:10004875-1780232400-1780234200@www.lacountyfair.com
SUMMARY:Meet the Animals
DESCRIPTION:
URL:https://www.lacountyfair.com/event/meet-the-animals-95/
LOCATION:The Big Red Barn
CATEGORIES:Animal,Variety
END:VEVENT
BEGIN:VEVENT
DTSTART;TZID=America/Los_Angeles:20260531T133000
DTEND;TZID=America/Los_Angeles:20260531T140000
DTSTAMP:20260425T054955
CREATED:20260424T110932Z
LAST-MODIFIED:20260424T110932Z
UID:10004899-1780234200-1780236000@www.lacountyfair.com
SUMMARY:Cow Milking Demonstrations
DESCRIPTION:
URL:https://www.lacountyfair.com/event/cow-milking-demonstrations-65/
LOCATION:Dairy Parlor
CATEGORIES:Animal,Demonstration
END:VEVENT
BEGIN:VEVENT
DTSTART;TZID=America/Los_Angeles:20260531T140000
DTEND;TZID=America/Los_Angeles:20260531T143000
DTSTAMP:20260425T054955
CREATED:20260424T110502Z
LAST-MODIFIED:20260424T110502Z
UID:10004831-1780236000-1780237800@www.lacountyfair.com
SUMMARY:Barnyard Racing Pig Races
DESCRIPTION:
URL:https://www.lacountyfair.com/event/barnyard-racing-pig-races-170/
LOCATION:The Fields
CATEGORIES:Animal,Variety
END:VEVENT
BEGIN:VEVENT
DTSTART;TZID=America/Los_Angeles:20260531T140000
DTEND;TZID=America/Los_Angeles:20260531T143000
DTSTAMP:20260425T054955
CREATED:20260424T110531Z
LAST-MODIFIED:20260424T110531Z
UID:10004841-1780236000-1780237800@www.lacountyfair.com
SUMMARY:Bottle Babies Feeding
DESCRIPTION:
URL:https://www.lacountyfair.com/event/bottle-babies-feeding-95/
LOCATION:The Big Red Barn
CATEGORIES:Animal,Variety
END:VEVENT
BEGIN:VEVENT
DTSTART;TZID=America/Los_Angeles:20260531T140000
DTEND;TZID=America/Los_Angeles:20260531T143000
DTSTAMP:20260425T054955
CREATED:20260424T111042Z
LAST-MODIFIED:20260424T111042Z
UID:10004920-1780236000-1780237800@www.lacountyfair.com
SUMMARY:Cutest Dog Show on Earth
DESCRIPTION:
URL:https://www.lacountyfair.com/event/cutest-dog-show-on-earth-65/
LOCATION:Lagoon
CATEGORIES:Animal,Show,Variety
END:VEVENT
BEGIN:VEVENT
DTSTART;TZID=America/Los_Angeles:20260531T153000
DTEND;TZID=America/Los_Angeles:20260531T160000
DTSTAMP:20260425T054955
CREATED:20260424T110836Z
LAST-MODIFIED:20260424T110836Z
UID:10004876-1780241400-1780243200@www.lacountyfair.com
SUMMARY:Meet the Animals
DESCRIPTION:
URL:https://www.lacountyfair.com/event/meet-the-animals-96/
LOCATION:The Big Red Barn
CATEGORIES:Animal,Variety
END:VEVENT
BEGIN:VEVENT
DTSTART;TZID=America/Los_Angeles:20260531T153000
DTEND;TZID=America/Los_Angeles:20260531T160000
DTSTAMP:20260425T054955
CREATED:20260424T110942Z
LAST-MODIFIED:20260424T110942Z
UID:10004900-1780241400-1780243200@www.lacountyfair.com
SUMMARY:Cow Milking Demonstrations
DESCRIPTION:
URL:https://www.lacountyfair.com/event/cow-milking-demonstrations-66/
LOCATION:Dairy Parlor
CATEGORIES:Animal,Demonstration
END:VEVENT
BEGIN:VEVENT
DTSTART;TZID=America/Los_Angeles:20260531T160000
DTEND;TZID=America/Los_Angeles:20260531T163000
DTSTAMP:20260425T054955
CREATED:20260424T110503Z
LAST-MODIFIED:20260424T110503Z
UID:10004832-1780243200-1780245000@www.lacountyfair.com
SUMMARY:Barnyard Racing Pig Races
DESCRIPTION:
URL:https://www.lacountyfair.com/event/barnyard-racing-pig-races-171/
LOCATION:The Fields
CATEGORIES:Animal,Variety
END:VEVENT
BEGIN:VEVENT
DTSTART;TZID=America/Los_Angeles:20260531T160000
DTEND;TZID=America/Los_Angeles:20260531T163000
DTSTAMP:20260425T054955
CREATED:20260424T110532Z
LAST-MODIFIED:20260424T110532Z
UID:10004842-1780243200-1780245000@www.lacountyfair.com
SUMMARY:Bottle Babies Feeding
DESCRIPTION:
URL:https://www.lacountyfair.com/event/bottle-babies-feeding-96/
LOCATION:The Big Red Barn
CATEGORIES:Animal,Variety
END:VEVENT
BEGIN:VEVENT
DTSTART;TZID=America/Los_Angeles:20260531T160000
DTEND;TZID=America/Los_Angeles:20260531T163000
DTSTAMP:20260425T054955
CREATED:20260424T111044Z
LAST-MODIFIED:20260424T111044Z
UID:10004921-1780243200-1780245000@www.lacountyfair.com
SUMMARY:Cutest Dog Show on Earth
DESCRIPTION:
URL:https://www.lacountyfair.com/event/cutest-dog-show-on-earth-66/
LOCATION:Lagoon
CATEGORIES:Animal,Show,Variety
END:VEVENT
BEGIN:VEVENT
DTSTART;TZID=America/Los_Angeles:20260531T173000
DTEND;TZID=America/Los_Angeles:20260531T180000
DTSTAMP:20260425T054955
CREATED:20260424T110944Z
LAST-MODIFIED:20260424T110944Z
UID:10004901-1780248600-1780250400@www.lacountyfair.com
SUMMARY:Cow Milking Demonstrations
DESCRIPTION:
URL:https://www.lacountyfair.com/event/cow-milking-demonstrations-67/
LOCATION:Dairy Parlor
CATEGORIES:Animal,Demonstration
END:VEVENT
BEGIN:VEVENT
DTSTART;TZID=America/Los_Angeles:20260531T180000
DTEND;TZID=America/Los_Angeles:20260531T183000
DTSTAMP:20260425T054955
CREATED:20260424T110504Z
LAST-MODIFIED:20260424T110504Z
UID:10004833-1780250400-1780252200@www.lacountyfair.com
SUMMARY:Barnyard Racing Pig Races
DESCRIPTION:
URL:https://www.lacountyfair.com/event/barnyard-racing-pig-races-172/
LOCATION:The Fields
CATEGORIES:Animal,Variety
END:VEVENT
BEGIN:VEVENT
DTSTART;TZID=America/Los_Angeles:20260531T180000
DTEND;TZID=America/Los_Angeles:20260531T183000
DTSTAMP:20260425T054955
CREATED:20260424T111045Z
LAST-MODIFIED:20260424T111045Z
UID:10004922-1780250400-1780252200@www.lacountyfair.com
SUMMARY:Cutest Dog Show on Earth
DESCRIPTION:
URL:https://www.lacountyfair.com/event/cutest-dog-show-on-earth-67/
LOCATION:Lagoon
CATEGORIES:Animal,Show,Variety
END:VEVENT
BEGIN:VEVENT
DTSTART;TZID=America/Los_Angeles:20260531T183000
DTEND;TZID=America/Los_Angeles:20260531T190000
DTSTAMP:20260425T054955
CREATED:20260424T110838Z
LAST-MODIFIED:20260424T110838Z
UID:10004877-1780252200-1780254000@www.lacountyfair.com
SUMMARY:Meet the Animals
DESCRIPTION:
URL:https://www.lacountyfair.com/event/meet-the-animals-97/
LOCATION:The Big Red Barn
CATEGORIES:Animal,Variety
END:VEVENT
BEGIN:VEVENT
DTSTART;TZID=America/Los_Angeles:20260531T190000
DTEND;TZID=America/Los_Angeles:20260531T193000
DTSTAMP:20260425T054955
CREATED:20260424T110945Z
LAST-MODIFIED:20260424T110945Z
UID:10004902-1780254000-1780255800@www.lacountyfair.com
SUMMARY:Cow Milking Demonstrations
DESCRIPTION:
URL:https://www.lacountyfair.com/event/cow-milking-demonstrations-68/
LOCATION:Dairy Parlor
CATEGORIES:Animal,Demonstration
END:VEVENT
BEGIN:VEVENT
DTSTART;TZID=America/Los_Angeles:20260531T193000
DTEND;TZID=America/Los_Angeles:20260531T200000
DTSTAMP:20260425T054955
CREATED:20260424T110533Z
LAST-MODIFIED:20260424T110533Z
UID:10004843-1780255800-1780257600@www.lacountyfair.com
SUMMARY:Bottle Babies Feeding
DESCRIPTION:
URL:https://www.lacountyfair.com/event/bottle-babies-feeding-97/
LOCATION:The Big Red Barn
CATEGORIES:Animal,Variety
END:VEVENT
BEGIN:VEVENT
DTSTART;TZID=America/Los_Angeles:20260531T200000
DTEND;TZID=America/Los_Angeles:20260531T203000
DTSTAMP:20260425T054955
CREATED:20260424T111046Z
LAST-MODIFIED:20260424T111046Z
UID:10004923-1780257600-1780259400@www.lacountyfair.com
SUMMARY:Cutest Dog Show on Earth
DESCRIPTION:
URL:https://www.lacountyfair.com/event/cutest-dog-show-on-earth-68/
LOCATION:Lagoon
CATEGORIES:Animal,Show,Variety
END:VEVENT
END:VCALENDAR