BEGIN:VCALENDAR
VERSION:2.0
PRODID:-//2026 LA County Fair - ECPv6.15.17.1//NONSGML v1.0//EN
CALSCALE:GREGORIAN
METHOD:PUBLISH
X-WR-CALNAME:2026 LA County Fair
X-ORIGINAL-URL:https://www.lacountyfair.com
X-WR-CALDESC:Events for 2026 LA County Fair
REFRESH-INTERVAL;VALUE=DURATION:PT1H
X-Robots-Tag:noindex
X-PUBLISHED-TTL:PT1H
BEGIN:VTIMEZONE
TZID:America/Los_Angeles
BEGIN:DAYLIGHT
TZOFFSETFROM:-0800
TZOFFSETTO:-0700
TZNAME:PDT
DTSTART:20250309T100000
END:DAYLIGHT
BEGIN:STANDARD
TZOFFSETFROM:-0700
TZOFFSETTO:-0800
TZNAME:PST
DTSTART:20251102T090000
END:STANDARD
BEGIN:DAYLIGHT
TZOFFSETFROM:-0800
TZOFFSETTO:-0700
TZNAME:PDT
DTSTART:20260308T100000
END:DAYLIGHT
BEGIN:STANDARD
TZOFFSETFROM:-0700
TZOFFSETTO:-0800
TZNAME:PST
DTSTART:20261101T090000
END:STANDARD
BEGIN:DAYLIGHT
TZOFFSETFROM:-0800
TZOFFSETTO:-0700
TZNAME:PDT
DTSTART:20270314T100000
END:DAYLIGHT
BEGIN:STANDARD
TZOFFSETFROM:-0700
TZOFFSETTO:-0800
TZNAME:PST
DTSTART:20271107T090000
END:STANDARD
END:VTIMEZONE
BEGIN:VEVENT
DTSTART;TZID=America/Los_Angeles:20260525T190000
DTEND;TZID=America/Los_Angeles:20260525T193000
DTSTAMP:20260424T212013
CREATED:20260424T035258Z
LAST-MODIFIED:20260424T035258Z
UID:10004383-1779735600-1779737400@www.lacountyfair.com
SUMMARY:Cow Milking Demonstrations
DESCRIPTION:
URL:https://www.lacountyfair.com/event/cow-milking-demonstrations-52/
LOCATION:Dairy Parlor
CATEGORIES:Animal,Demonstration
END:VEVENT
BEGIN:VEVENT
DTSTART;TZID=America/Los_Angeles:20260525T193000
DTEND;TZID=America/Los_Angeles:20260525T200000
DTSTAMP:20260424T212013
CREATED:20260424T040301Z
LAST-MODIFIED:20260424T040301Z
UID:10004406-1779737400-1779739200@www.lacountyfair.com
SUMMARY:Bottle Babies Feeding
DESCRIPTION:
URL:https://www.lacountyfair.com/event/bottle-babies-feeding-85/
LOCATION:The Big Red Barn
CATEGORIES:Animal,Variety
END:VEVENT
BEGIN:VEVENT
DTSTART;TZID=America/Los_Angeles:20260525T200000
DTEND;TZID=America/Los_Angeles:20260525T203000
DTSTAMP:20260424T212013
CREATED:20260424T035859Z
LAST-MODIFIED:20260424T035859Z
UID:10004396-1779739200-1779741000@www.lacountyfair.com
SUMMARY:Barnyard Racing Pig Races
DESCRIPTION:
URL:https://www.lacountyfair.com/event/barnyard-racing-pig-races-150/
LOCATION:The Fields
CATEGORIES:Animal,Variety
END:VEVENT
BEGIN:VEVENT
DTSTART;TZID=America/Los_Angeles:20260525T200000
DTEND;TZID=America/Los_Angeles:20260525T203000
DTSTAMP:20260424T212013
CREATED:20260424T043333Z
LAST-MODIFIED:20260424T043333Z
UID:10004462-1779739200-1779741000@www.lacountyfair.com
SUMMARY:Cutest Dog Show on Earth
DESCRIPTION:
URL:https://www.lacountyfair.com/event/cutest-dog-show-on-earth-52/
LOCATION:Lagoon
CATEGORIES:Animal,Show,Variety
END:VEVENT
BEGIN:VEVENT
DTSTART;TZID=America/Los_Angeles:20260525T220000
DTEND;TZID=America/Los_Angeles:20260525T223000
DTSTAMP:20260424T212013
CREATED:20260424T035900Z
LAST-MODIFIED:20260424T035900Z
UID:10004397-1779746400-1779748200@www.lacountyfair.com
SUMMARY:Barnyard Racing Pig Races
DESCRIPTION:
URL:https://www.lacountyfair.com/event/barnyard-racing-pig-races-151/
LOCATION:The Fields
CATEGORIES:Animal,Variety
END:VEVENT
BEGIN:VEVENT
DTSTART;TZID=America/Los_Angeles:20260528T110000
DTEND;TZID=America/Los_Angeles:20260528T220000
DTSTAMP:20260424T212013
CREATED:20260424T045802Z
LAST-MODIFIED:20260424T045802Z
UID:10004516-1779966000-1780005600@www.lacountyfair.com
SUMMARY:Cal Poly Pomona Petting Farm
DESCRIPTION:
URL:https://www.lacountyfair.com/event/cal-poly-pomona-petting-farm-14/
LOCATION:The Big Red Barn
CATEGORIES:Animal
END:VEVENT
BEGIN:VEVENT
DTSTART;TZID=America/Los_Angeles:20260528T120000
DTEND;TZID=America/Los_Angeles:20260528T123000
DTSTAMP:20260424T212013
CREATED:20260424T045704Z
LAST-MODIFIED:20260424T045704Z
UID:10004498-1779969600-1779971400@www.lacountyfair.com
SUMMARY:Barnyard Racing Pig Races
DESCRIPTION:
URL:https://www.lacountyfair.com/event/barnyard-racing-pig-races-152/
LOCATION:The Fields
CATEGORIES:Animal,Variety
END:VEVENT
BEGIN:VEVENT
DTSTART;TZID=America/Los_Angeles:20260528T130000
DTEND;TZID=America/Los_Angeles:20260528T133000
DTSTAMP:20260424T212013
CREATED:20260424T045904Z
LAST-MODIFIED:20260424T045904Z
UID:10004538-1779973200-1779975000@www.lacountyfair.com
SUMMARY:Meet the Animals
DESCRIPTION:
URL:https://www.lacountyfair.com/event/meet-the-animals-86/
LOCATION:The Big Red Barn
CATEGORIES:Animal,Variety
END:VEVENT
BEGIN:VEVENT
DTSTART;TZID=America/Los_Angeles:20260528T133000
DTEND;TZID=America/Los_Angeles:20260528T140000
DTSTAMP:20260424T212013
CREATED:20260424T045632Z
LAST-MODIFIED:20260424T045632Z
UID:10004487-1779975000-1779976800@www.lacountyfair.com
SUMMARY:Cow Milking Demonstrations
DESCRIPTION:
URL:https://www.lacountyfair.com/event/cow-milking-demonstrations-53/
LOCATION:Dairy Parlor
CATEGORIES:Animal,Demonstration
END:VEVENT
BEGIN:VEVENT
DTSTART;TZID=America/Los_Angeles:20260528T140000
DTEND;TZID=America/Los_Angeles:20260528T143000
DTSTAMP:20260424T212013
CREATED:20260424T045705Z
LAST-MODIFIED:20260424T045705Z
UID:10004499-1779976800-1779978600@www.lacountyfair.com
SUMMARY:Barnyard Racing Pig Races
DESCRIPTION:
URL:https://www.lacountyfair.com/event/barnyard-racing-pig-races-153/
LOCATION:The Fields
CATEGORIES:Animal,Variety
END:VEVENT
BEGIN:VEVENT
DTSTART;TZID=America/Los_Angeles:20260528T140000
DTEND;TZID=America/Los_Angeles:20260528T143000
DTSTAMP:20260424T212013
CREATED:20260424T045746Z
LAST-MODIFIED:20260424T045746Z
UID:10004510-1779976800-1779978600@www.lacountyfair.com
SUMMARY:Bottle Babies Feeding
DESCRIPTION:
URL:https://www.lacountyfair.com/event/bottle-babies-feeding-86/
LOCATION:The Big Red Barn
CATEGORIES:Animal,Variety
END:VEVENT
BEGIN:VEVENT
DTSTART;TZID=America/Los_Angeles:20260528T140000
DTEND;TZID=America/Los_Angeles:20260528T143000
DTSTAMP:20260424T212013
CREATED:20260424T050031Z
LAST-MODIFIED:20260424T050031Z
UID:10004565-1779976800-1779978600@www.lacountyfair.com
SUMMARY:Cutest Dog Show on Earth
DESCRIPTION:
URL:https://www.lacountyfair.com/event/cutest-dog-show-on-earth-53/
LOCATION:Lagoon
CATEGORIES:Animal,Show,Variety
END:VEVENT
BEGIN:VEVENT
DTSTART;TZID=America/Los_Angeles:20260528T153000
DTEND;TZID=America/Los_Angeles:20260528T160000
DTSTAMP:20260424T212013
CREATED:20260424T045633Z
LAST-MODIFIED:20260424T045633Z
UID:10004488-1779982200-1779984000@www.lacountyfair.com
SUMMARY:Cow Milking Demonstrations
DESCRIPTION:
URL:https://www.lacountyfair.com/event/cow-milking-demonstrations-54/
LOCATION:Dairy Parlor
CATEGORIES:Animal,Demonstration
END:VEVENT
BEGIN:VEVENT
DTSTART;TZID=America/Los_Angeles:20260528T153000
DTEND;TZID=America/Los_Angeles:20260528T160000
DTSTAMP:20260424T212013
CREATED:20260424T045905Z
LAST-MODIFIED:20260424T045905Z
UID:10004539-1779982200-1779984000@www.lacountyfair.com
SUMMARY:Meet the Animals
DESCRIPTION:
URL:https://www.lacountyfair.com/event/meet-the-animals-87/
LOCATION:The Big Red Barn
CATEGORIES:Animal,Variety
END:VEVENT
BEGIN:VEVENT
DTSTART;TZID=America/Los_Angeles:20260528T160000
DTEND;TZID=America/Los_Angeles:20260528T163000
DTSTAMP:20260424T212013
CREATED:20260424T045716Z
LAST-MODIFIED:20260424T045716Z
UID:10004500-1779984000-1779985800@www.lacountyfair.com
SUMMARY:Barnyard Racing Pig Races
DESCRIPTION:
URL:https://www.lacountyfair.com/event/barnyard-racing-pig-races-154/
LOCATION:The Fields
CATEGORIES:Animal,Variety
END:VEVENT
BEGIN:VEVENT
DTSTART;TZID=America/Los_Angeles:20260528T160000
DTEND;TZID=America/Los_Angeles:20260528T163000
DTSTAMP:20260424T212013
CREATED:20260424T045747Z
LAST-MODIFIED:20260424T045747Z
UID:10004511-1779984000-1779985800@www.lacountyfair.com
SUMMARY:Bottle Babies Feeding
DESCRIPTION:
URL:https://www.lacountyfair.com/event/bottle-babies-feeding-87/
LOCATION:The Big Red Barn
CATEGORIES:Animal,Variety
END:VEVENT
BEGIN:VEVENT
DTSTART;TZID=America/Los_Angeles:20260528T160000
DTEND;TZID=America/Los_Angeles:20260528T163000
DTSTAMP:20260424T212013
CREATED:20260424T050032Z
LAST-MODIFIED:20260424T050032Z
UID:10004566-1779984000-1779985800@www.lacountyfair.com
SUMMARY:Cutest Dog Show on Earth
DESCRIPTION:
URL:https://www.lacountyfair.com/event/cutest-dog-show-on-earth-54/
LOCATION:Lagoon
CATEGORIES:Animal,Show,Variety
END:VEVENT
BEGIN:VEVENT
DTSTART;TZID=America/Los_Angeles:20260528T173000
DTEND;TZID=America/Los_Angeles:20260528T180000
DTSTAMP:20260424T212013
CREATED:20260424T045634Z
LAST-MODIFIED:20260424T045634Z
UID:10004489-1779989400-1779991200@www.lacountyfair.com
SUMMARY:Cow Milking Demonstrations
DESCRIPTION:
URL:https://www.lacountyfair.com/event/cow-milking-demonstrations-55/
LOCATION:Dairy Parlor
CATEGORIES:Animal,Demonstration
END:VEVENT
BEGIN:VEVENT
DTSTART;TZID=America/Los_Angeles:20260528T180000
DTEND;TZID=America/Los_Angeles:20260528T183000
DTSTAMP:20260424T212013
CREATED:20260424T045717Z
LAST-MODIFIED:20260424T045717Z
UID:10004501-1779991200-1779993000@www.lacountyfair.com
SUMMARY:Barnyard Racing Pig Races
DESCRIPTION:
URL:https://www.lacountyfair.com/event/barnyard-racing-pig-races-155/
LOCATION:The Fields
CATEGORIES:Animal,Variety
END:VEVENT
BEGIN:VEVENT
DTSTART;TZID=America/Los_Angeles:20260528T180000
DTEND;TZID=America/Los_Angeles:20260528T183000
DTSTAMP:20260424T212013
CREATED:20260424T050033Z
LAST-MODIFIED:20260424T050033Z
UID:10004567-1779991200-1779993000@www.lacountyfair.com
SUMMARY:Cutest Dog Show on Earth
DESCRIPTION:
URL:https://www.lacountyfair.com/event/cutest-dog-show-on-earth-55/
LOCATION:Lagoon
CATEGORIES:Animal,Show,Variety
END:VEVENT
BEGIN:VEVENT
DTSTART;TZID=America/Los_Angeles:20260528T183000
DTEND;TZID=America/Los_Angeles:20260528T190000
DTSTAMP:20260424T212013
CREATED:20260424T045916Z
LAST-MODIFIED:20260424T045916Z
UID:10004540-1779993000-1779994800@www.lacountyfair.com
SUMMARY:Meet the Animals
DESCRIPTION:
URL:https://www.lacountyfair.com/event/meet-the-animals-88/
LOCATION:The Big Red Barn
CATEGORIES:Animal,Variety
END:VEVENT
BEGIN:VEVENT
DTSTART;TZID=America/Los_Angeles:20260528T190000
DTEND;TZID=America/Los_Angeles:20260528T193000
DTSTAMP:20260424T212013
CREATED:20260424T045646Z
LAST-MODIFIED:20260424T045646Z
UID:10004490-1779994800-1779996600@www.lacountyfair.com
SUMMARY:Cow Milking Demonstrations
DESCRIPTION:
URL:https://www.lacountyfair.com/event/cow-milking-demonstrations-56/
LOCATION:Dairy Parlor
CATEGORIES:Animal,Demonstration
END:VEVENT
BEGIN:VEVENT
DTSTART;TZID=America/Los_Angeles:20260528T193000
DTEND;TZID=America/Los_Angeles:20260528T200000
DTSTAMP:20260424T212013
CREATED:20260424T045748Z
LAST-MODIFIED:20260424T045748Z
UID:10004512-1779996600-1779998400@www.lacountyfair.com
SUMMARY:Bottle Babies Feeding
DESCRIPTION:
URL:https://www.lacountyfair.com/event/bottle-babies-feeding-88/
LOCATION:The Big Red Barn
CATEGORIES:Animal,Variety
END:VEVENT
BEGIN:VEVENT
DTSTART;TZID=America/Los_Angeles:20260528T200000
DTEND;TZID=America/Los_Angeles:20260528T203000
DTSTAMP:20260424T212013
CREATED:20260424T045718Z
LAST-MODIFIED:20260424T045718Z
UID:10004502-1779998400-1780000200@www.lacountyfair.com
SUMMARY:Barnyard Racing Pig Races
DESCRIPTION:
URL:https://www.lacountyfair.com/event/barnyard-racing-pig-races-156/
LOCATION:The Fields
CATEGORIES:Animal,Variety
END:VEVENT
BEGIN:VEVENT
DTSTART;TZID=America/Los_Angeles:20260528T200000
DTEND;TZID=America/Los_Angeles:20260528T203000
DTSTAMP:20260424T212013
CREATED:20260424T050034Z
LAST-MODIFIED:20260424T050034Z
UID:10004568-1779998400-1780000200@www.lacountyfair.com
SUMMARY:Cutest Dog Show on Earth
DESCRIPTION:
URL:https://www.lacountyfair.com/event/cutest-dog-show-on-earth-56/
LOCATION:Lagoon
CATEGORIES:Animal,Show,Variety
END:VEVENT
BEGIN:VEVENT
DTSTART;TZID=America/Los_Angeles:20260528T220000
DTEND;TZID=America/Los_Angeles:20260528T223000
DTSTAMP:20260424T212013
CREATED:20260424T045719Z
LAST-MODIFIED:20260424T045719Z
UID:10004503-1780005600-1780007400@www.lacountyfair.com
SUMMARY:Barnyard Racing Pig Races
DESCRIPTION:
URL:https://www.lacountyfair.com/event/barnyard-racing-pig-races-157/
LOCATION:The Fields
CATEGORIES:Animal,Variety
END:VEVENT
BEGIN:VEVENT
DTSTART;TZID=America/Los_Angeles:20260529T110000
DTEND;TZID=America/Los_Angeles:20260529T220000
DTSTAMP:20260424T212013
CREATED:20260424T104855Z
LAST-MODIFIED:20260424T104855Z
UID:10004625-1780052400-1780092000@www.lacountyfair.com
SUMMARY:Cal Poly Pomona Petting Farm
DESCRIPTION:
URL:https://www.lacountyfair.com/event/cal-poly-pomona-petting-farm-15/
LOCATION:The Big Red Barn
CATEGORIES:Animal
END:VEVENT
BEGIN:VEVENT
DTSTART;TZID=America/Los_Angeles:20260529T120000
DTEND;TZID=America/Los_Angeles:20260529T123000
DTSTAMP:20260424T212013
CREATED:20260424T104757Z
LAST-MODIFIED:20260424T104757Z
UID:10004607-1780056000-1780057800@www.lacountyfair.com
SUMMARY:Barnyard Racing Pig Races
DESCRIPTION:
URL:https://www.lacountyfair.com/event/barnyard-racing-pig-races-158/
LOCATION:The Fields
CATEGORIES:Animal,Variety
END:VEVENT
BEGIN:VEVENT
DTSTART;TZID=America/Los_Angeles:20260529T130000
DTEND;TZID=America/Los_Angeles:20260529T133000
DTSTAMP:20260424T212013
CREATED:20260424T104958Z
LAST-MODIFIED:20260424T104958Z
UID:10004648-1780059600-1780061400@www.lacountyfair.com
SUMMARY:Meet the Animals
DESCRIPTION:
URL:https://www.lacountyfair.com/event/meet-the-animals-89/
LOCATION:The Big Red Barn
CATEGORIES:Animal,Variety
END:VEVENT
BEGIN:VEVENT
DTSTART;TZID=America/Los_Angeles:20260529T133000
DTEND;TZID=America/Los_Angeles:20260529T140000
DTSTAMP:20260424T212013
CREATED:20260424T104725Z
LAST-MODIFIED:20260424T104725Z
UID:10004595-1780061400-1780063200@www.lacountyfair.com
SUMMARY:Cow Milking Demonstrations
DESCRIPTION:
URL:https://www.lacountyfair.com/event/cow-milking-demonstrations-57/
LOCATION:Dairy Parlor
CATEGORIES:Animal,Demonstration
END:VEVENT
END:VCALENDAR