BEGIN:VCALENDAR
VERSION:2.0
PRODID:-//2026 LA County Fair - ECPv6.15.17.1//NONSGML v1.0//EN
CALSCALE:GREGORIAN
METHOD:PUBLISH
X-WR-CALNAME:2026 LA County Fair
X-ORIGINAL-URL:https://www.lacountyfair.com
X-WR-CALDESC:Events for 2026 LA County Fair
REFRESH-INTERVAL;VALUE=DURATION:PT1H
X-Robots-Tag:noindex
X-PUBLISHED-TTL:PT1H
BEGIN:VTIMEZONE
TZID:America/Los_Angeles
BEGIN:DAYLIGHT
TZOFFSETFROM:-0800
TZOFFSETTO:-0700
TZNAME:PDT
DTSTART:20250309T100000
END:DAYLIGHT
BEGIN:STANDARD
TZOFFSETFROM:-0700
TZOFFSETTO:-0800
TZNAME:PST
DTSTART:20251102T090000
END:STANDARD
BEGIN:DAYLIGHT
TZOFFSETFROM:-0800
TZOFFSETTO:-0700
TZNAME:PDT
DTSTART:20260308T100000
END:DAYLIGHT
BEGIN:STANDARD
TZOFFSETFROM:-0700
TZOFFSETTO:-0800
TZNAME:PST
DTSTART:20261101T090000
END:STANDARD
BEGIN:DAYLIGHT
TZOFFSETFROM:-0800
TZOFFSETTO:-0700
TZNAME:PDT
DTSTART:20270314T100000
END:DAYLIGHT
BEGIN:STANDARD
TZOFFSETFROM:-0700
TZOFFSETTO:-0800
TZNAME:PST
DTSTART:20271107T090000
END:STANDARD
END:VTIMEZONE
BEGIN:VEVENT
DTSTART;TZID=America/Los_Angeles:20260524T120000
DTEND;TZID=America/Los_Angeles:20260524T123000
DTSTAMP:20260424T160841
CREATED:20260424T034327Z
LAST-MODIFIED:20260424T034327Z
UID:10004281-1779624000-1779625800@www.lacountyfair.com
SUMMARY:Barnyard Racing Pig Races
DESCRIPTION:
URL:https://www.lacountyfair.com/event/barnyard-racing-pig-races-142/
LOCATION:The Fields
CATEGORIES:Animal,Variety
END:VEVENT
BEGIN:VEVENT
DTSTART;TZID=America/Los_Angeles:20260524T130000
DTEND;TZID=America/Los_Angeles:20260524T130000
DTSTAMP:20260424T160841
CREATED:20260424T034457Z
LAST-MODIFIED:20260424T034457Z
UID:10004311-1779627600-1779627600@www.lacountyfair.com
SUMMARY:Double Dairy Goat Show
DESCRIPTION:
URL:https://www.lacountyfair.com/event/double-dairy-goat-show-3/
LOCATION:Competition Barn
CATEGORIES:Animal,Competition
END:VEVENT
BEGIN:VEVENT
DTSTART;TZID=America/Los_Angeles:20260524T130000
DTEND;TZID=America/Los_Angeles:20260524T133000
DTSTAMP:20260424T160841
CREATED:20260424T034531Z
LAST-MODIFIED:20260424T034531Z
UID:10004324-1779627600-1779629400@www.lacountyfair.com
SUMMARY:Meet the Animals
DESCRIPTION:
URL:https://www.lacountyfair.com/event/meet-the-animals-80/
LOCATION:The Big Red Barn
CATEGORIES:Animal,Variety
END:VEVENT
BEGIN:VEVENT
DTSTART;TZID=America/Los_Angeles:20260524T133000
DTEND;TZID=America/Los_Angeles:20260524T140000
DTSTAMP:20260424T160841
CREATED:20260424T033834Z
LAST-MODIFIED:20260424T033834Z
UID:10004267-1779629400-1779631200@www.lacountyfair.com
SUMMARY:Cow Milking Demonstrations
DESCRIPTION:
URL:https://www.lacountyfair.com/event/cow-milking-demonstrations-45/
LOCATION:Dairy Parlor
CATEGORIES:Animal,Demonstration
END:VEVENT
BEGIN:VEVENT
DTSTART;TZID=America/Los_Angeles:20260524T140000
DTEND;TZID=America/Los_Angeles:20260524T143000
DTSTAMP:20260424T160841
CREATED:20260424T034328Z
LAST-MODIFIED:20260424T034328Z
UID:10004282-1779631200-1779633000@www.lacountyfair.com
SUMMARY:Barnyard Racing Pig Races
DESCRIPTION:
URL:https://www.lacountyfair.com/event/barnyard-racing-pig-races-143/
LOCATION:The Fields
CATEGORIES:Animal,Variety
END:VEVENT
BEGIN:VEVENT
DTSTART;TZID=America/Los_Angeles:20260524T140000
DTEND;TZID=America/Los_Angeles:20260524T143000
DTSTAMP:20260424T160841
CREATED:20260424T034357Z
LAST-MODIFIED:20260424T034357Z
UID:10004291-1779631200-1779633000@www.lacountyfair.com
SUMMARY:Bottle Babies Feeding
DESCRIPTION:
URL:https://www.lacountyfair.com/event/bottle-babies-feeding-80/
LOCATION:The Big Red Barn
CATEGORIES:Animal,Variety
END:VEVENT
BEGIN:VEVENT
DTSTART;TZID=America/Los_Angeles:20260524T140000
DTEND;TZID=America/Los_Angeles:20260524T143000
DTSTAMP:20260424T160841
CREATED:20260424T034656Z
LAST-MODIFIED:20260424T034656Z
UID:10004350-1779631200-1779633000@www.lacountyfair.com
SUMMARY:Cutest Dog Show on Earth
DESCRIPTION:
URL:https://www.lacountyfair.com/event/cutest-dog-show-on-earth-45/
LOCATION:Lagoon
CATEGORIES:Animal,Show,Variety
END:VEVENT
BEGIN:VEVENT
DTSTART;TZID=America/Los_Angeles:20260524T153000
DTEND;TZID=America/Los_Angeles:20260524T160000
DTSTAMP:20260424T160841
CREATED:20260424T033835Z
LAST-MODIFIED:20260424T033835Z
UID:10004268-1779636600-1779638400@www.lacountyfair.com
SUMMARY:Cow Milking Demonstrations
DESCRIPTION:
URL:https://www.lacountyfair.com/event/cow-milking-demonstrations-46/
LOCATION:Dairy Parlor
CATEGORIES:Animal,Demonstration
END:VEVENT
BEGIN:VEVENT
DTSTART;TZID=America/Los_Angeles:20260524T153000
DTEND;TZID=America/Los_Angeles:20260524T160000
DTSTAMP:20260424T160841
CREATED:20260424T034541Z
LAST-MODIFIED:20260424T034541Z
UID:10004325-1779636600-1779638400@www.lacountyfair.com
SUMMARY:Meet the Animals
DESCRIPTION:
URL:https://www.lacountyfair.com/event/meet-the-animals-81/
LOCATION:The Big Red Barn
CATEGORIES:Animal,Variety
END:VEVENT
BEGIN:VEVENT
DTSTART;TZID=America/Los_Angeles:20260524T160000
DTEND;TZID=America/Los_Angeles:20260524T163000
DTSTAMP:20260424T160841
CREATED:20260424T034329Z
LAST-MODIFIED:20260424T034329Z
UID:10004283-1779638400-1779640200@www.lacountyfair.com
SUMMARY:Barnyard Racing Pig Races
DESCRIPTION:
URL:https://www.lacountyfair.com/event/barnyard-racing-pig-races-144/
LOCATION:The Fields
CATEGORIES:Animal,Variety
END:VEVENT
BEGIN:VEVENT
DTSTART;TZID=America/Los_Angeles:20260524T160000
DTEND;TZID=America/Los_Angeles:20260524T163000
DTSTAMP:20260424T160841
CREATED:20260424T034358Z
LAST-MODIFIED:20260424T034358Z
UID:10004292-1779638400-1779640200@www.lacountyfair.com
SUMMARY:Bottle Babies Feeding
DESCRIPTION:
URL:https://www.lacountyfair.com/event/bottle-babies-feeding-81/
LOCATION:The Big Red Barn
CATEGORIES:Animal,Variety
END:VEVENT
BEGIN:VEVENT
DTSTART;TZID=America/Los_Angeles:20260524T160000
DTEND;TZID=America/Los_Angeles:20260524T163000
DTSTAMP:20260424T160841
CREATED:20260424T034657Z
LAST-MODIFIED:20260424T034657Z
UID:10004351-1779638400-1779640200@www.lacountyfair.com
SUMMARY:Cutest Dog Show on Earth
DESCRIPTION:
URL:https://www.lacountyfair.com/event/cutest-dog-show-on-earth-46/
LOCATION:Lagoon
CATEGORIES:Animal,Show,Variety
END:VEVENT
BEGIN:VEVENT
DTSTART;TZID=America/Los_Angeles:20260524T173000
DTEND;TZID=America/Los_Angeles:20260524T180000
DTSTAMP:20260424T160841
CREATED:20260424T033836Z
LAST-MODIFIED:20260424T033836Z
UID:10004269-1779643800-1779645600@www.lacountyfair.com
SUMMARY:Cow Milking Demonstrations
DESCRIPTION:
URL:https://www.lacountyfair.com/event/cow-milking-demonstrations-47/
LOCATION:Dairy Parlor
CATEGORIES:Animal,Demonstration
END:VEVENT
BEGIN:VEVENT
DTSTART;TZID=America/Los_Angeles:20260524T180000
DTEND;TZID=America/Los_Angeles:20260524T183000
DTSTAMP:20260424T160841
CREATED:20260424T034330Z
LAST-MODIFIED:20260424T034330Z
UID:10004284-1779645600-1779647400@www.lacountyfair.com
SUMMARY:Barnyard Racing Pig Races
DESCRIPTION:
URL:https://www.lacountyfair.com/event/barnyard-racing-pig-races-145/
LOCATION:The Fields
CATEGORIES:Animal,Variety
END:VEVENT
BEGIN:VEVENT
DTSTART;TZID=America/Los_Angeles:20260524T180000
DTEND;TZID=America/Los_Angeles:20260524T183000
DTSTAMP:20260424T160841
CREATED:20260424T034658Z
LAST-MODIFIED:20260424T034658Z
UID:10004352-1779645600-1779647400@www.lacountyfair.com
SUMMARY:Cutest Dog Show on Earth
DESCRIPTION:
URL:https://www.lacountyfair.com/event/cutest-dog-show-on-earth-47/
LOCATION:Lagoon
CATEGORIES:Animal,Show,Variety
END:VEVENT
BEGIN:VEVENT
DTSTART;TZID=America/Los_Angeles:20260524T183000
DTEND;TZID=America/Los_Angeles:20260524T190000
DTSTAMP:20260424T160841
CREATED:20260424T034542Z
LAST-MODIFIED:20260424T034542Z
UID:10004326-1779647400-1779649200@www.lacountyfair.com
SUMMARY:Meet the Animals
DESCRIPTION:
URL:https://www.lacountyfair.com/event/meet-the-animals-82/
LOCATION:The Big Red Barn
CATEGORIES:Animal,Variety
END:VEVENT
BEGIN:VEVENT
DTSTART;TZID=America/Los_Angeles:20260524T190000
DTEND;TZID=America/Los_Angeles:20260524T193000
DTSTAMP:20260424T160841
CREATED:20260424T033847Z
LAST-MODIFIED:20260424T033847Z
UID:10004270-1779649200-1779651000@www.lacountyfair.com
SUMMARY:Cow Milking Demonstrations
DESCRIPTION:
URL:https://www.lacountyfair.com/event/cow-milking-demonstrations-48/
LOCATION:Dairy Parlor
CATEGORIES:Animal,Demonstration
END:VEVENT
BEGIN:VEVENT
DTSTART;TZID=America/Los_Angeles:20260524T193000
DTEND;TZID=America/Los_Angeles:20260524T200000
DTSTAMP:20260424T160841
CREATED:20260424T034359Z
LAST-MODIFIED:20260424T034359Z
UID:10004293-1779651000-1779652800@www.lacountyfair.com
SUMMARY:Bottle Babies Feeding
DESCRIPTION:
URL:https://www.lacountyfair.com/event/bottle-babies-feeding-82/
LOCATION:The Big Red Barn
CATEGORIES:Animal,Variety
END:VEVENT
BEGIN:VEVENT
DTSTART;TZID=America/Los_Angeles:20260524T200000
DTEND;TZID=America/Los_Angeles:20260524T203000
DTSTAMP:20260424T160841
CREATED:20260424T034659Z
LAST-MODIFIED:20260424T034659Z
UID:10004353-1779652800-1779654600@www.lacountyfair.com
SUMMARY:Cutest Dog Show on Earth
DESCRIPTION:
URL:https://www.lacountyfair.com/event/cutest-dog-show-on-earth-48/
LOCATION:Lagoon
CATEGORIES:Animal,Show,Variety
END:VEVENT
BEGIN:VEVENT
DTSTART;TZID=America/Los_Angeles:20260525T110000
DTEND;TZID=America/Los_Angeles:20260525T220000
DTSTAMP:20260424T160841
CREATED:20260424T040501Z
LAST-MODIFIED:20260424T040501Z
UID:10004410-1779706800-1779746400@www.lacountyfair.com
SUMMARY:Cal Poly Pomona Petting Farm
DESCRIPTION:
URL:https://www.lacountyfair.com/event/cal-poly-pomona-petting-farm-13/
LOCATION:The Big Red Barn
CATEGORIES:Animal
END:VEVENT
BEGIN:VEVENT
DTSTART;TZID=America/Los_Angeles:20260525T120000
DTEND;TZID=America/Los_Angeles:20260525T123000
DTSTAMP:20260424T160841
CREATED:20260424T035659Z
LAST-MODIFIED:20260424T035659Z
UID:10004392-1779710400-1779712200@www.lacountyfair.com
SUMMARY:Barnyard Racing Pig Races
DESCRIPTION:
URL:https://www.lacountyfair.com/event/barnyard-racing-pig-races-146/
LOCATION:The Fields
CATEGORIES:Animal,Variety
END:VEVENT
BEGIN:VEVENT
DTSTART;TZID=America/Los_Angeles:20260525T130000
DTEND;TZID=America/Los_Angeles:20260525T130000
DTSTAMP:20260424T160841
CREATED:20260424T040555Z
LAST-MODIFIED:20260424T040555Z
UID:10004422-1779714000-1779714000@www.lacountyfair.com
SUMMARY:Double Dairy Goat Show
DESCRIPTION:
URL:https://www.lacountyfair.com/event/double-dairy-goat-show-4/
LOCATION:Competition Barn
CATEGORIES:Animal,Competition
END:VEVENT
BEGIN:VEVENT
DTSTART;TZID=America/Los_Angeles:20260525T130000
DTEND;TZID=America/Los_Angeles:20260525T133000
DTSTAMP:20260424T160841
CREATED:20260424T040956Z
LAST-MODIFIED:20260424T040956Z
UID:10004433-1779714000-1779715800@www.lacountyfair.com
SUMMARY:Meet the Animals
DESCRIPTION:
URL:https://www.lacountyfair.com/event/meet-the-animals-83/
LOCATION:The Big Red Barn
CATEGORIES:Animal,Variety
END:VEVENT
BEGIN:VEVENT
DTSTART;TZID=America/Los_Angeles:20260525T133000
DTEND;TZID=America/Los_Angeles:20260525T140000
DTSTAMP:20260424T160841
CREATED:20260424T035255Z
LAST-MODIFIED:20260424T035255Z
UID:10004380-1779715800-1779717600@www.lacountyfair.com
SUMMARY:Cow Milking Demonstrations
DESCRIPTION:
URL:https://www.lacountyfair.com/event/cow-milking-demonstrations-49/
LOCATION:Dairy Parlor
CATEGORIES:Animal,Demonstration
END:VEVENT
BEGIN:VEVENT
DTSTART;TZID=America/Los_Angeles:20260525T140000
DTEND;TZID=America/Los_Angeles:20260525T143000
DTSTAMP:20260424T160841
CREATED:20260424T035700Z
LAST-MODIFIED:20260424T035700Z
UID:10004393-1779717600-1779719400@www.lacountyfair.com
SUMMARY:Barnyard Racing Pig Races
DESCRIPTION:
URL:https://www.lacountyfair.com/event/barnyard-racing-pig-races-147/
LOCATION:The Fields
CATEGORIES:Animal,Variety
END:VEVENT
BEGIN:VEVENT
DTSTART;TZID=America/Los_Angeles:20260525T140000
DTEND;TZID=America/Los_Angeles:20260525T143000
DTSTAMP:20260424T160841
CREATED:20260424T040103Z
LAST-MODIFIED:20260424T040103Z
UID:10004404-1779717600-1779719400@www.lacountyfair.com
SUMMARY:Bottle Babies Feeding
DESCRIPTION:
URL:https://www.lacountyfair.com/event/bottle-babies-feeding-83/
LOCATION:The Big Red Barn
CATEGORIES:Animal,Variety
END:VEVENT
BEGIN:VEVENT
DTSTART;TZID=America/Los_Angeles:20260525T140000
DTEND;TZID=America/Los_Angeles:20260525T143000
DTSTAMP:20260424T160841
CREATED:20260424T043135Z
LAST-MODIFIED:20260424T043135Z
UID:10004459-1779717600-1779719400@www.lacountyfair.com
SUMMARY:Cutest Dog Show on Earth
DESCRIPTION:
URL:https://www.lacountyfair.com/event/cutest-dog-show-on-earth-49/
LOCATION:Lagoon
CATEGORIES:Animal,Show,Variety
END:VEVENT
BEGIN:VEVENT
DTSTART;TZID=America/Los_Angeles:20260525T153000
DTEND;TZID=America/Los_Angeles:20260525T160000
DTSTAMP:20260424T160841
CREATED:20260424T035256Z
LAST-MODIFIED:20260424T035256Z
UID:10004381-1779723000-1779724800@www.lacountyfair.com
SUMMARY:Cow Milking Demonstrations
DESCRIPTION:
URL:https://www.lacountyfair.com/event/cow-milking-demonstrations-50/
LOCATION:Dairy Parlor
CATEGORIES:Animal,Demonstration
END:VEVENT
BEGIN:VEVENT
DTSTART;TZID=America/Los_Angeles:20260525T153000
DTEND;TZID=America/Los_Angeles:20260525T160000
DTSTAMP:20260424T160841
CREATED:20260424T040957Z
LAST-MODIFIED:20260424T040957Z
UID:10004434-1779723000-1779724800@www.lacountyfair.com
SUMMARY:Meet the Animals
DESCRIPTION:
URL:https://www.lacountyfair.com/event/meet-the-animals-84/
LOCATION:The Big Red Barn
CATEGORIES:Animal,Variety
END:VEVENT
BEGIN:VEVENT
DTSTART;TZID=America/Los_Angeles:20260525T160000
DTEND;TZID=America/Los_Angeles:20260525T163000
DTSTAMP:20260424T160841
CREATED:20260424T035701Z
LAST-MODIFIED:20260424T035701Z
UID:10004394-1779724800-1779726600@www.lacountyfair.com
SUMMARY:Barnyard Racing Pig Races
DESCRIPTION:
URL:https://www.lacountyfair.com/event/barnyard-racing-pig-races-148/
LOCATION:The Fields
CATEGORIES:Animal,Variety
END:VEVENT
END:VCALENDAR