BEGIN:VCALENDAR
VERSION:2.0
PRODID:-//2026 LA County Fair - ECPv6.15.17.1//NONSGML v1.0//EN
CALSCALE:GREGORIAN
METHOD:PUBLISH
X-WR-CALNAME:2026 LA County Fair
X-ORIGINAL-URL:https://www.lacountyfair.com
X-WR-CALDESC:Events for 2026 LA County Fair
REFRESH-INTERVAL;VALUE=DURATION:PT1H
X-Robots-Tag:noindex
X-PUBLISHED-TTL:PT1H
BEGIN:VTIMEZONE
TZID:America/Los_Angeles
BEGIN:DAYLIGHT
TZOFFSETFROM:-0800
TZOFFSETTO:-0700
TZNAME:PDT
DTSTART:20250309T100000
END:DAYLIGHT
BEGIN:STANDARD
TZOFFSETFROM:-0700
TZOFFSETTO:-0800
TZNAME:PST
DTSTART:20251102T090000
END:STANDARD
BEGIN:DAYLIGHT
TZOFFSETFROM:-0800
TZOFFSETTO:-0700
TZNAME:PDT
DTSTART:20260308T100000
END:DAYLIGHT
BEGIN:STANDARD
TZOFFSETFROM:-0700
TZOFFSETTO:-0800
TZNAME:PST
DTSTART:20261101T090000
END:STANDARD
BEGIN:DAYLIGHT
TZOFFSETFROM:-0800
TZOFFSETTO:-0700
TZNAME:PDT
DTSTART:20270314T100000
END:DAYLIGHT
BEGIN:STANDARD
TZOFFSETFROM:-0700
TZOFFSETTO:-0800
TZNAME:PST
DTSTART:20271107T090000
END:STANDARD
END:VTIMEZONE
BEGIN:VEVENT
DTSTART;TZID=America/Los_Angeles:20260521T133000
DTEND;TZID=America/Los_Angeles:20260521T140000
DTSTAMP:20260424T072932
CREATED:20260424T013511Z
LAST-MODIFIED:20260424T013511Z
UID:10003931-1779370200-1779372000@www.lacountyfair.com
SUMMARY:Cow Milking Demonstrations
DESCRIPTION:
URL:https://www.lacountyfair.com/event/cow-milking-demonstrations-33/
LOCATION:Dairy Parlor
CATEGORIES:Animal,Demonstration
END:VEVENT
BEGIN:VEVENT
DTSTART;TZID=America/Los_Angeles:20260521T140000
DTEND;TZID=America/Los_Angeles:20260521T143000
DTSTAMP:20260424T072932
CREATED:20260424T013543Z
LAST-MODIFIED:20260424T013543Z
UID:10003943-1779372000-1779373800@www.lacountyfair.com
SUMMARY:Barnyard Racing Pig Races
DESCRIPTION:
URL:https://www.lacountyfair.com/event/barnyard-racing-pig-races-127/
LOCATION:The Fields
CATEGORIES:Animal,Variety
END:VEVENT
BEGIN:VEVENT
DTSTART;TZID=America/Los_Angeles:20260521T140000
DTEND;TZID=America/Los_Angeles:20260521T143000
DTSTAMP:20260424T072932
CREATED:20260424T013615Z
LAST-MODIFIED:20260424T013615Z
UID:10003954-1779372000-1779373800@www.lacountyfair.com
SUMMARY:Bottle Babies Feeding
DESCRIPTION:
URL:https://www.lacountyfair.com/event/bottle-babies-feeding-71/
LOCATION:The Big Red Barn
CATEGORIES:Animal,Variety
END:VEVENT
BEGIN:VEVENT
DTSTART;TZID=America/Los_Angeles:20260521T140000
DTEND;TZID=America/Los_Angeles:20260521T143000
DTSTAMP:20260424T072932
CREATED:20260424T014945Z
LAST-MODIFIED:20260424T014945Z
UID:10004009-1779372000-1779373800@www.lacountyfair.com
SUMMARY:Cutest Dog Show on Earth
DESCRIPTION:
URL:https://www.lacountyfair.com/event/cutest-dog-show-on-earth-33/
LOCATION:Lagoon
CATEGORIES:Animal,Show,Variety
END:VEVENT
BEGIN:VEVENT
DTSTART;TZID=America/Los_Angeles:20260521T153000
DTEND;TZID=America/Los_Angeles:20260521T160000
DTSTAMP:20260424T072932
CREATED:20260424T013512Z
LAST-MODIFIED:20260424T013512Z
UID:10003932-1779377400-1779379200@www.lacountyfair.com
SUMMARY:Cow Milking Demonstrations
DESCRIPTION:
URL:https://www.lacountyfair.com/event/cow-milking-demonstrations-34/
LOCATION:Dairy Parlor
CATEGORIES:Animal,Demonstration
END:VEVENT
BEGIN:VEVENT
DTSTART;TZID=America/Los_Angeles:20260521T153000
DTEND;TZID=America/Los_Angeles:20260521T160000
DTSTAMP:20260424T072932
CREATED:20260424T014828Z
LAST-MODIFIED:20260424T014828Z
UID:10003983-1779377400-1779379200@www.lacountyfair.com
SUMMARY:Meet the Animals
DESCRIPTION:
URL:https://www.lacountyfair.com/event/meet-the-animals-72/
LOCATION:The Big Red Barn
CATEGORIES:Animal,Variety
END:VEVENT
BEGIN:VEVENT
DTSTART;TZID=America/Los_Angeles:20260521T160000
DTEND;TZID=America/Los_Angeles:20260521T163000
DTSTAMP:20260424T072932
CREATED:20260424T013545Z
LAST-MODIFIED:20260424T013545Z
UID:10003944-1779379200-1779381000@www.lacountyfair.com
SUMMARY:Barnyard Racing Pig Races
DESCRIPTION:
URL:https://www.lacountyfair.com/event/barnyard-racing-pig-races-128/
LOCATION:The Fields
CATEGORIES:Animal,Variety
END:VEVENT
BEGIN:VEVENT
DTSTART;TZID=America/Los_Angeles:20260521T160000
DTEND;TZID=America/Los_Angeles:20260521T163000
DTSTAMP:20260424T072932
CREATED:20260424T013625Z
LAST-MODIFIED:20260424T013625Z
UID:10003955-1779379200-1779381000@www.lacountyfair.com
SUMMARY:Bottle Babies Feeding
DESCRIPTION:
URL:https://www.lacountyfair.com/event/bottle-babies-feeding-72/
LOCATION:The Big Red Barn
CATEGORIES:Animal,Variety
END:VEVENT
BEGIN:VEVENT
DTSTART;TZID=America/Los_Angeles:20260521T160000
DTEND;TZID=America/Los_Angeles:20260521T163000
DTSTAMP:20260424T072932
CREATED:20260424T014956Z
LAST-MODIFIED:20260424T014956Z
UID:10004010-1779379200-1779381000@www.lacountyfair.com
SUMMARY:Cutest Dog Show on Earth
DESCRIPTION:
URL:https://www.lacountyfair.com/event/cutest-dog-show-on-earth-34/
LOCATION:Lagoon
CATEGORIES:Animal,Show,Variety
END:VEVENT
BEGIN:VEVENT
DTSTART;TZID=America/Los_Angeles:20260521T173000
DTEND;TZID=America/Los_Angeles:20260521T180000
DTSTAMP:20260424T072932
CREATED:20260424T013513Z
LAST-MODIFIED:20260424T013513Z
UID:10003933-1779384600-1779386400@www.lacountyfair.com
SUMMARY:Cow Milking Demonstrations
DESCRIPTION:
URL:https://www.lacountyfair.com/event/cow-milking-demonstrations-35/
LOCATION:Dairy Parlor
CATEGORIES:Animal,Demonstration
END:VEVENT
BEGIN:VEVENT
DTSTART;TZID=America/Los_Angeles:20260521T180000
DTEND;TZID=America/Los_Angeles:20260521T183000
DTSTAMP:20260424T072932
CREATED:20260424T013555Z
LAST-MODIFIED:20260424T013555Z
UID:10003945-1779386400-1779388200@www.lacountyfair.com
SUMMARY:Barnyard Racing Pig Races
DESCRIPTION:
URL:https://www.lacountyfair.com/event/barnyard-racing-pig-races-129/
LOCATION:The Fields
CATEGORIES:Animal,Variety
END:VEVENT
BEGIN:VEVENT
DTSTART;TZID=America/Los_Angeles:20260521T180000
DTEND;TZID=America/Los_Angeles:20260521T183000
DTSTAMP:20260424T072932
CREATED:20260424T014957Z
LAST-MODIFIED:20260424T014957Z
UID:10004011-1779386400-1779388200@www.lacountyfair.com
SUMMARY:Cutest Dog Show on Earth
DESCRIPTION:
URL:https://www.lacountyfair.com/event/cutest-dog-show-on-earth-35/
LOCATION:Lagoon
CATEGORIES:Animal,Show,Variety
END:VEVENT
BEGIN:VEVENT
DTSTART;TZID=America/Los_Angeles:20260521T183000
DTEND;TZID=America/Los_Angeles:20260521T190000
DTSTAMP:20260424T072932
CREATED:20260424T014829Z
LAST-MODIFIED:20260424T014829Z
UID:10003984-1779388200-1779390000@www.lacountyfair.com
SUMMARY:Meet the Animals
DESCRIPTION:
URL:https://www.lacountyfair.com/event/meet-the-animals-73/
LOCATION:The Big Red Barn
CATEGORIES:Animal,Variety
END:VEVENT
BEGIN:VEVENT
DTSTART;TZID=America/Los_Angeles:20260521T190000
DTEND;TZID=America/Los_Angeles:20260521T193000
DTSTAMP:20260424T072932
CREATED:20260424T013514Z
LAST-MODIFIED:20260424T013514Z
UID:10003934-1779390000-1779391800@www.lacountyfair.com
SUMMARY:Cow Milking Demonstrations
DESCRIPTION:
URL:https://www.lacountyfair.com/event/cow-milking-demonstrations-36/
LOCATION:Dairy Parlor
CATEGORIES:Animal,Demonstration
END:VEVENT
BEGIN:VEVENT
DTSTART;TZID=America/Los_Angeles:20260521T193000
DTEND;TZID=America/Los_Angeles:20260521T200000
DTSTAMP:20260424T072932
CREATED:20260424T013626Z
LAST-MODIFIED:20260424T013626Z
UID:10003956-1779391800-1779393600@www.lacountyfair.com
SUMMARY:Bottle Babies Feeding
DESCRIPTION:
URL:https://www.lacountyfair.com/event/bottle-babies-feeding-73/
LOCATION:The Big Red Barn
CATEGORIES:Animal,Variety
END:VEVENT
BEGIN:VEVENT
DTSTART;TZID=America/Los_Angeles:20260521T200000
DTEND;TZID=America/Los_Angeles:20260521T203000
DTSTAMP:20260424T072932
CREATED:20260424T013556Z
LAST-MODIFIED:20260424T013556Z
UID:10003946-1779393600-1779395400@www.lacountyfair.com
SUMMARY:Barnyard Racing Pig Races
DESCRIPTION:
URL:https://www.lacountyfair.com/event/barnyard-racing-pig-races-130/
LOCATION:The Fields
CATEGORIES:Animal,Variety
END:VEVENT
BEGIN:VEVENT
DTSTART;TZID=America/Los_Angeles:20260521T200000
DTEND;TZID=America/Los_Angeles:20260521T203000
DTSTAMP:20260424T072932
CREATED:20260424T014958Z
LAST-MODIFIED:20260424T014958Z
UID:10004012-1779393600-1779395400@www.lacountyfair.com
SUMMARY:Cutest Dog Show on Earth
DESCRIPTION:
URL:https://www.lacountyfair.com/event/cutest-dog-show-on-earth-36/
LOCATION:Lagoon
CATEGORIES:Animal,Show,Variety
END:VEVENT
BEGIN:VEVENT
DTSTART;TZID=America/Los_Angeles:20260521T220000
DTEND;TZID=America/Los_Angeles:20260521T223000
DTSTAMP:20260424T072932
CREATED:20260424T013557Z
LAST-MODIFIED:20260424T013557Z
UID:10003947-1779400800-1779402600@www.lacountyfair.com
SUMMARY:Barnyard Racing Pig Races
DESCRIPTION:
URL:https://www.lacountyfair.com/event/barnyard-racing-pig-races-131/
LOCATION:The Fields
CATEGORIES:Animal,Variety
END:VEVENT
BEGIN:VEVENT
DTSTART;TZID=America/Los_Angeles:20260522T110000
DTEND;TZID=America/Los_Angeles:20260522T220000
DTSTAMP:20260424T072932
CREATED:20260424T015945Z
LAST-MODIFIED:20260424T015945Z
UID:10004069-1779447600-1779487200@www.lacountyfair.com
SUMMARY:Cal Poly Pomona Petting Farm
DESCRIPTION:
URL:https://www.lacountyfair.com/event/cal-poly-pomona-petting-farm-10/
LOCATION:The Big Red Barn
CATEGORIES:Animal
END:VEVENT
BEGIN:VEVENT
DTSTART;TZID=America/Los_Angeles:20260522T120000
DTEND;TZID=America/Los_Angeles:20260522T123000
DTSTAMP:20260424T072932
CREATED:20260424T015527Z
LAST-MODIFIED:20260424T015527Z
UID:10004051-1779451200-1779453000@www.lacountyfair.com
SUMMARY:Barnyard Racing Pig Races
DESCRIPTION:
URL:https://www.lacountyfair.com/event/barnyard-racing-pig-races-132/
LOCATION:The Fields
CATEGORIES:Animal,Variety
END:VEVENT
BEGIN:VEVENT
DTSTART;TZID=America/Los_Angeles:20260522T130000
DTEND;TZID=America/Los_Angeles:20260522T133000
DTSTAMP:20260424T072932
CREATED:20260424T021253Z
LAST-MODIFIED:20260424T021253Z
UID:10004090-1779454800-1779456600@www.lacountyfair.com
SUMMARY:Meet the Animals
DESCRIPTION:
URL:https://www.lacountyfair.com/event/meet-the-animals-74/
LOCATION:The Big Red Barn
CATEGORIES:Animal,Variety
END:VEVENT
BEGIN:VEVENT
DTSTART;TZID=America/Los_Angeles:20260522T133000
DTEND;TZID=America/Los_Angeles:20260522T140000
DTSTAMP:20260424T072932
CREATED:20260424T015116Z
LAST-MODIFIED:20260424T015116Z
UID:10004039-1779456600-1779458400@www.lacountyfair.com
SUMMARY:Cow Milking Demonstrations
DESCRIPTION:
URL:https://www.lacountyfair.com/event/cow-milking-demonstrations-37/
LOCATION:Dairy Parlor
CATEGORIES:Animal,Demonstration
END:VEVENT
BEGIN:VEVENT
DTSTART;TZID=America/Los_Angeles:20260522T140000
DTEND;TZID=America/Los_Angeles:20260522T143000
DTSTAMP:20260424T072932
CREATED:20260424T015528Z
LAST-MODIFIED:20260424T015528Z
UID:10004052-1779458400-1779460200@www.lacountyfair.com
SUMMARY:Barnyard Racing Pig Races
DESCRIPTION:
URL:https://www.lacountyfair.com/event/barnyard-racing-pig-races-133/
LOCATION:The Fields
CATEGORIES:Animal,Variety
END:VEVENT
BEGIN:VEVENT
DTSTART;TZID=America/Los_Angeles:20260522T140000
DTEND;TZID=America/Los_Angeles:20260522T143000
DTSTAMP:20260424T072932
CREATED:20260424T015929Z
LAST-MODIFIED:20260424T015929Z
UID:10004063-1779458400-1779460200@www.lacountyfair.com
SUMMARY:Bottle Babies Feeding
DESCRIPTION:
URL:https://www.lacountyfair.com/event/bottle-babies-feeding-74/
LOCATION:The Big Red Barn
CATEGORIES:Animal,Variety
END:VEVENT
BEGIN:VEVENT
DTSTART;TZID=America/Los_Angeles:20260522T140000
DTEND;TZID=America/Los_Angeles:20260522T143000
DTSTAMP:20260424T072932
CREATED:20260424T021413Z
LAST-MODIFIED:20260424T021413Z
UID:10004118-1779458400-1779460200@www.lacountyfair.com
SUMMARY:Cutest Dog Show on Earth
DESCRIPTION:
URL:https://www.lacountyfair.com/event/cutest-dog-show-on-earth-37/
LOCATION:Lagoon
CATEGORIES:Animal,Show,Variety
END:VEVENT
BEGIN:VEVENT
DTSTART;TZID=America/Los_Angeles:20260522T153000
DTEND;TZID=America/Los_Angeles:20260522T160000
DTSTAMP:20260424T072932
CREATED:20260424T015125Z
LAST-MODIFIED:20260424T015125Z
UID:10004040-1779463800-1779465600@www.lacountyfair.com
SUMMARY:Cow Milking Demonstrations
DESCRIPTION:
URL:https://www.lacountyfair.com/event/cow-milking-demonstrations-38/
LOCATION:Dairy Parlor
CATEGORIES:Animal,Demonstration
END:VEVENT
BEGIN:VEVENT
DTSTART;TZID=America/Los_Angeles:20260522T153000
DTEND;TZID=America/Los_Angeles:20260522T160000
DTSTAMP:20260424T072932
CREATED:20260424T021254Z
LAST-MODIFIED:20260424T021254Z
UID:10004091-1779463800-1779465600@www.lacountyfair.com
SUMMARY:Meet the Animals
DESCRIPTION:
URL:https://www.lacountyfair.com/event/meet-the-animals-75/
LOCATION:The Big Red Barn
CATEGORIES:Animal,Variety
END:VEVENT
BEGIN:VEVENT
DTSTART;TZID=America/Los_Angeles:20260522T160000
DTEND;TZID=America/Los_Angeles:20260522T163000
DTSTAMP:20260424T072932
CREATED:20260424T015529Z
LAST-MODIFIED:20260424T015529Z
UID:10004053-1779465600-1779467400@www.lacountyfair.com
SUMMARY:Barnyard Racing Pig Races
DESCRIPTION:
URL:https://www.lacountyfair.com/event/barnyard-racing-pig-races-134/
LOCATION:The Fields
CATEGORIES:Animal,Variety
END:VEVENT
BEGIN:VEVENT
DTSTART;TZID=America/Los_Angeles:20260522T160000
DTEND;TZID=America/Los_Angeles:20260522T163000
DTSTAMP:20260424T072932
CREATED:20260424T015930Z
LAST-MODIFIED:20260424T015930Z
UID:10004064-1779465600-1779467400@www.lacountyfair.com
SUMMARY:Bottle Babies Feeding
DESCRIPTION:
URL:https://www.lacountyfair.com/event/bottle-babies-feeding-75/
LOCATION:The Big Red Barn
CATEGORIES:Animal,Variety
END:VEVENT
BEGIN:VEVENT
DTSTART;TZID=America/Los_Angeles:20260522T160000
DTEND;TZID=America/Los_Angeles:20260522T163000
DTSTAMP:20260424T072932
CREATED:20260424T021415Z
LAST-MODIFIED:20260424T021415Z
UID:10004119-1779465600-1779467400@www.lacountyfair.com
SUMMARY:Cutest Dog Show on Earth
DESCRIPTION:
URL:https://www.lacountyfair.com/event/cutest-dog-show-on-earth-38/
LOCATION:Lagoon
CATEGORIES:Animal,Show,Variety
END:VEVENT
END:VCALENDAR