BEGIN:VCALENDAR
VERSION:2.0
PRODID:-//2026 LA County Fair - ECPv6.15.17.1//NONSGML v1.0//EN
CALSCALE:GREGORIAN
METHOD:PUBLISH
X-WR-CALNAME:2026 LA County Fair
X-ORIGINAL-URL:https://www.lacountyfair.com
X-WR-CALDESC:Events for 2026 LA County Fair
REFRESH-INTERVAL;VALUE=DURATION:PT1H
X-Robots-Tag:noindex
X-PUBLISHED-TTL:PT1H
BEGIN:VTIMEZONE
TZID:America/Los_Angeles
BEGIN:DAYLIGHT
TZOFFSETFROM:-0800
TZOFFSETTO:-0700
TZNAME:PDT
DTSTART:20250309T100000
END:DAYLIGHT
BEGIN:STANDARD
TZOFFSETFROM:-0700
TZOFFSETTO:-0800
TZNAME:PST
DTSTART:20251102T090000
END:STANDARD
BEGIN:DAYLIGHT
TZOFFSETFROM:-0800
TZOFFSETTO:-0700
TZNAME:PDT
DTSTART:20260308T100000
END:DAYLIGHT
BEGIN:STANDARD
TZOFFSETFROM:-0700
TZOFFSETTO:-0800
TZNAME:PST
DTSTART:20261101T090000
END:STANDARD
BEGIN:DAYLIGHT
TZOFFSETFROM:-0800
TZOFFSETTO:-0700
TZNAME:PDT
DTSTART:20270314T100000
END:DAYLIGHT
BEGIN:STANDARD
TZOFFSETFROM:-0700
TZOFFSETTO:-0800
TZNAME:PST
DTSTART:20271107T090000
END:STANDARD
END:VTIMEZONE
BEGIN:VEVENT
DTSTART;TZID=America/Los_Angeles:20260515T193000
DTEND;TZID=America/Los_Angeles:20260515T200000
DTSTAMP:20260424T003037
CREATED:20260424T005230Z
LAST-MODIFIED:20260424T005230Z
UID:10003610-1778873400-1778875200@www.lacountyfair.com
SUMMARY:Bottle Babies Feeding
DESCRIPTION:
URL:https://www.lacountyfair.com/event/bottle-babies-feeding-64/
LOCATION:The Big Red Barn
CATEGORIES:Animal,Variety
END:VEVENT
BEGIN:VEVENT
DTSTART;TZID=America/Los_Angeles:20260515T200000
DTEND;TZID=America/Los_Angeles:20260515T203000
DTSTAMP:20260424T003037
CREATED:20260424T005200Z
LAST-MODIFIED:20260424T005200Z
UID:10003600-1778875200-1778877000@www.lacountyfair.com
SUMMARY:Barnyard Racing Pig Races
DESCRIPTION:
URL:https://www.lacountyfair.com/event/barnyard-racing-pig-races-116/
LOCATION:The Fields
CATEGORIES:Animal,Variety
END:VEVENT
BEGIN:VEVENT
DTSTART;TZID=America/Los_Angeles:20260515T200000
DTEND;TZID=America/Los_Angeles:20260515T203000
DTSTAMP:20260424T003037
CREATED:20260424T005555Z
LAST-MODIFIED:20260424T005555Z
UID:10003666-1778875200-1778877000@www.lacountyfair.com
SUMMARY:Cutest Dog Show on Earth
DESCRIPTION:
URL:https://www.lacountyfair.com/event/cutest-dog-show-on-earth-24/
LOCATION:Lagoon
CATEGORIES:Animal,Show,Variety
END:VEVENT
BEGIN:VEVENT
DTSTART;TZID=America/Los_Angeles:20260515T220000
DTEND;TZID=America/Los_Angeles:20260515T223000
DTSTAMP:20260424T003037
CREATED:20260424T005201Z
LAST-MODIFIED:20260424T005201Z
UID:10003601-1778882400-1778884200@www.lacountyfair.com
SUMMARY:Barnyard Racing Pig Races
DESCRIPTION:
URL:https://www.lacountyfair.com/event/barnyard-racing-pig-races-117/
LOCATION:The Fields
CATEGORIES:Animal,Variety
END:VEVENT
BEGIN:VEVENT
DTSTART;TZID=America/Los_Angeles:20260516T110000
DTEND;TZID=America/Los_Angeles:20260516T220000
DTSTAMP:20260424T003037
CREATED:20260424T010126Z
LAST-MODIFIED:20260424T010126Z
UID:10003728-1778929200-1778968800@www.lacountyfair.com
SUMMARY:Cal Poly Pomona Petting Farm
DESCRIPTION:
URL:https://www.lacountyfair.com/event/cal-poly-pomona-petting-farm-7/
LOCATION:The Big Red Barn
CATEGORIES:Animal
END:VEVENT
BEGIN:VEVENT
DTSTART;TZID=America/Los_Angeles:20260516T120000
DTEND;TZID=America/Los_Angeles:20260516T123000
DTSTAMP:20260424T003037
CREATED:20260424T010039Z
LAST-MODIFIED:20260424T010039Z
UID:10003711-1778932800-1778934600@www.lacountyfair.com
SUMMARY:Barnyard Racing Pig Races
DESCRIPTION:
URL:https://www.lacountyfair.com/event/barnyard-racing-pig-races-118/
LOCATION:The Fields
CATEGORIES:Animal,Variety
END:VEVENT
BEGIN:VEVENT
DTSTART;TZID=America/Los_Angeles:20260516T130000
DTEND;TZID=America/Los_Angeles:20260516T130000
DTSTAMP:20260424T003037
CREATED:20260424T010324Z
LAST-MODIFIED:20260424T010324Z
UID:10003766-1778936400-1778936400@www.lacountyfair.com
SUMMARY:Progress and Breeding Boer Goat Show
DESCRIPTION:
URL:https://www.lacountyfair.com/event/progress-and-breeding-boer-goat-show/
LOCATION:Competition Barn
CATEGORIES:Animal,Competition
END:VEVENT
BEGIN:VEVENT
DTSTART;TZID=America/Los_Angeles:20260516T130000
DTEND;TZID=America/Los_Angeles:20260516T133000
DTSTAMP:20260424T003037
CREATED:20260424T010253Z
LAST-MODIFIED:20260424T010253Z
UID:10003755-1778936400-1778938200@www.lacountyfair.com
SUMMARY:Meet the Animals
DESCRIPTION:
URL:https://www.lacountyfair.com/event/meet-the-animals-65/
LOCATION:The Big Red Barn
CATEGORIES:Animal,Variety
END:VEVENT
BEGIN:VEVENT
DTSTART;TZID=America/Los_Angeles:20260516T133000
DTEND;TZID=America/Los_Angeles:20260516T140000
DTSTAMP:20260424T003037
CREATED:20260424T005956Z
LAST-MODIFIED:20260424T005956Z
UID:10003698-1778938200-1778940000@www.lacountyfair.com
SUMMARY:Cow Milking Demonstrations
DESCRIPTION:
URL:https://www.lacountyfair.com/event/cow-milking-demonstrations-25/
LOCATION:Dairy Parlor
CATEGORIES:Animal,Demonstration
END:VEVENT
BEGIN:VEVENT
DTSTART;TZID=America/Los_Angeles:20260516T140000
DTEND;TZID=America/Los_Angeles:20260516T143000
DTSTAMP:20260424T003037
CREATED:20260424T010040Z
LAST-MODIFIED:20260424T010040Z
UID:10003712-1778940000-1778941800@www.lacountyfair.com
SUMMARY:Barnyard Racing Pig Races
DESCRIPTION:
URL:https://www.lacountyfair.com/event/barnyard-racing-pig-races-119/
LOCATION:The Fields
CATEGORIES:Animal,Variety
END:VEVENT
BEGIN:VEVENT
DTSTART;TZID=America/Los_Angeles:20260516T140000
DTEND;TZID=America/Los_Angeles:20260516T143000
DTSTAMP:20260424T003037
CREATED:20260424T010109Z
LAST-MODIFIED:20260424T010109Z
UID:10003721-1778940000-1778941800@www.lacountyfair.com
SUMMARY:Bottle Babies Feeding
DESCRIPTION:
URL:https://www.lacountyfair.com/event/bottle-babies-feeding-65/
LOCATION:The Big Red Barn
CATEGORIES:Animal,Variety
END:VEVENT
BEGIN:VEVENT
DTSTART;TZID=America/Los_Angeles:20260516T140000
DTEND;TZID=America/Los_Angeles:20260516T143000
DTSTAMP:20260424T003037
CREATED:20260424T011742Z
LAST-MODIFIED:20260424T011742Z
UID:10003782-1778940000-1778941800@www.lacountyfair.com
SUMMARY:Cutest Dog Show on Earth
DESCRIPTION:
URL:https://www.lacountyfair.com/event/cutest-dog-show-on-earth-25/
LOCATION:Lagoon
CATEGORIES:Animal,Show,Variety
END:VEVENT
BEGIN:VEVENT
DTSTART;TZID=America/Los_Angeles:20260516T153000
DTEND;TZID=America/Los_Angeles:20260516T160000
DTSTAMP:20260424T003037
CREATED:20260424T010007Z
LAST-MODIFIED:20260424T010007Z
UID:10003699-1778945400-1778947200@www.lacountyfair.com
SUMMARY:Cow Milking Demonstrations
DESCRIPTION:
URL:https://www.lacountyfair.com/event/cow-milking-demonstrations-26/
LOCATION:Dairy Parlor
CATEGORIES:Animal,Demonstration
END:VEVENT
BEGIN:VEVENT
DTSTART;TZID=America/Los_Angeles:20260516T153000
DTEND;TZID=America/Los_Angeles:20260516T160000
DTSTAMP:20260424T003037
CREATED:20260424T010254Z
LAST-MODIFIED:20260424T010254Z
UID:10003756-1778945400-1778947200@www.lacountyfair.com
SUMMARY:Meet the Animals
DESCRIPTION:
URL:https://www.lacountyfair.com/event/meet-the-animals-66/
LOCATION:The Big Red Barn
CATEGORIES:Animal,Variety
END:VEVENT
BEGIN:VEVENT
DTSTART;TZID=America/Los_Angeles:20260516T160000
DTEND;TZID=America/Los_Angeles:20260516T163000
DTSTAMP:20260424T003037
CREATED:20260424T010041Z
LAST-MODIFIED:20260424T010041Z
UID:10003713-1778947200-1778949000@www.lacountyfair.com
SUMMARY:Barnyard Racing Pig Races
DESCRIPTION:
URL:https://www.lacountyfair.com/event/barnyard-racing-pig-races-120/
LOCATION:The Fields
CATEGORIES:Animal,Variety
END:VEVENT
BEGIN:VEVENT
DTSTART;TZID=America/Los_Angeles:20260516T160000
DTEND;TZID=America/Los_Angeles:20260516T163000
DTSTAMP:20260424T003037
CREATED:20260424T010110Z
LAST-MODIFIED:20260424T010110Z
UID:10003722-1778947200-1778949000@www.lacountyfair.com
SUMMARY:Bottle Babies Feeding
DESCRIPTION:
URL:https://www.lacountyfair.com/event/bottle-babies-feeding-66/
LOCATION:The Big Red Barn
CATEGORIES:Animal,Variety
END:VEVENT
BEGIN:VEVENT
DTSTART;TZID=America/Los_Angeles:20260516T160000
DTEND;TZID=America/Los_Angeles:20260516T163000
DTSTAMP:20260424T003037
CREATED:20260424T011743Z
LAST-MODIFIED:20260424T011743Z
UID:10003783-1778947200-1778949000@www.lacountyfair.com
SUMMARY:Cutest Dog Show on Earth
DESCRIPTION:
URL:https://www.lacountyfair.com/event/cutest-dog-show-on-earth-26/
LOCATION:Lagoon
CATEGORIES:Animal,Show,Variety
END:VEVENT
BEGIN:VEVENT
DTSTART;TZID=America/Los_Angeles:20260516T173000
DTEND;TZID=America/Los_Angeles:20260516T180000
DTSTAMP:20260424T003037
CREATED:20260424T010008Z
LAST-MODIFIED:20260424T010008Z
UID:10003700-1778952600-1778954400@www.lacountyfair.com
SUMMARY:Cow Milking Demonstrations
DESCRIPTION:
URL:https://www.lacountyfair.com/event/cow-milking-demonstrations-27/
LOCATION:Dairy Parlor
CATEGORIES:Animal,Demonstration
END:VEVENT
BEGIN:VEVENT
DTSTART;TZID=America/Los_Angeles:20260516T180000
DTEND;TZID=America/Los_Angeles:20260516T183000
DTSTAMP:20260424T003037
CREATED:20260424T010052Z
LAST-MODIFIED:20260424T010052Z
UID:10003714-1778954400-1778956200@www.lacountyfair.com
SUMMARY:Barnyard Racing Pig Races
DESCRIPTION:
URL:https://www.lacountyfair.com/event/barnyard-racing-pig-races-121/
LOCATION:The Fields
CATEGORIES:Animal,Variety
END:VEVENT
BEGIN:VEVENT
DTSTART;TZID=America/Los_Angeles:20260516T180000
DTEND;TZID=America/Los_Angeles:20260516T183000
DTSTAMP:20260424T003037
CREATED:20260424T011744Z
LAST-MODIFIED:20260424T011744Z
UID:10003784-1778954400-1778956200@www.lacountyfair.com
SUMMARY:Cutest Dog Show on Earth
DESCRIPTION:
URL:https://www.lacountyfair.com/event/cutest-dog-show-on-earth-27/
LOCATION:Lagoon
CATEGORIES:Animal,Show,Variety
END:VEVENT
BEGIN:VEVENT
DTSTART;TZID=America/Los_Angeles:20260516T183000
DTEND;TZID=America/Los_Angeles:20260516T190000
DTSTAMP:20260424T003037
CREATED:20260424T010255Z
LAST-MODIFIED:20260424T010255Z
UID:10003757-1778956200-1778958000@www.lacountyfair.com
SUMMARY:Meet the Animals
DESCRIPTION:
URL:https://www.lacountyfair.com/event/meet-the-animals-67/
LOCATION:The Big Red Barn
CATEGORIES:Animal,Variety
END:VEVENT
BEGIN:VEVENT
DTSTART;TZID=America/Los_Angeles:20260516T190000
DTEND;TZID=America/Los_Angeles:20260516T193000
DTSTAMP:20260424T003037
CREATED:20260424T010009Z
LAST-MODIFIED:20260424T010009Z
UID:10003701-1778958000-1778959800@www.lacountyfair.com
SUMMARY:Cow Milking Demonstrations
DESCRIPTION:
URL:https://www.lacountyfair.com/event/cow-milking-demonstrations-28/
LOCATION:Dairy Parlor
CATEGORIES:Animal,Demonstration
END:VEVENT
BEGIN:VEVENT
DTSTART;TZID=America/Los_Angeles:20260516T193000
DTEND;TZID=America/Los_Angeles:20260516T200000
DTSTAMP:20260424T003037
CREATED:20260424T010111Z
LAST-MODIFIED:20260424T010111Z
UID:10003723-1778959800-1778961600@www.lacountyfair.com
SUMMARY:Bottle Babies Feeding
DESCRIPTION:
URL:https://www.lacountyfair.com/event/bottle-babies-feeding-67/
LOCATION:The Big Red Barn
CATEGORIES:Animal,Variety
END:VEVENT
BEGIN:VEVENT
DTSTART;TZID=America/Los_Angeles:20260516T200000
DTEND;TZID=America/Los_Angeles:20260516T203000
DTSTAMP:20260424T003037
CREATED:20260424T011755Z
LAST-MODIFIED:20260424T011755Z
UID:10003785-1778961600-1778963400@www.lacountyfair.com
SUMMARY:Cutest Dog Show on Earth
DESCRIPTION:
URL:https://www.lacountyfair.com/event/cutest-dog-show-on-earth-28/
LOCATION:Lagoon
CATEGORIES:Animal,Show,Variety
END:VEVENT
BEGIN:VEVENT
DTSTART;TZID=America/Los_Angeles:20260517T110000
DTEND;TZID=America/Los_Angeles:20260517T220000
DTSTAMP:20260424T003037
CREATED:20260424T012058Z
LAST-MODIFIED:20260424T012058Z
UID:10003848-1779015600-1779055200@www.lacountyfair.com
SUMMARY:Cal Poly Pomona Petting Farm
DESCRIPTION:
URL:https://www.lacountyfair.com/event/cal-poly-pomona-petting-farm-8/
LOCATION:The Big Red Barn
CATEGORIES:Animal
END:VEVENT
BEGIN:VEVENT
DTSTART;TZID=America/Los_Angeles:20260517T120000
DTEND;TZID=America/Los_Angeles:20260517T123000
DTSTAMP:20260424T003037
CREATED:20260424T012010Z
LAST-MODIFIED:20260424T012010Z
UID:10003830-1779019200-1779021000@www.lacountyfair.com
SUMMARY:Barnyard Racing Pig Races
DESCRIPTION:
URL:https://www.lacountyfair.com/event/barnyard-racing-pig-races-122/
LOCATION:The Fields
CATEGORIES:Animal,Variety
END:VEVENT
BEGIN:VEVENT
DTSTART;TZID=America/Los_Angeles:20260517T130000
DTEND;TZID=America/Los_Angeles:20260517T130000
DTSTAMP:20260424T003037
CREATED:20260424T012548Z
LAST-MODIFIED:20260424T012548Z
UID:10003886-1779022800-1779022800@www.lacountyfair.com
SUMMARY:Progress Lamb Show
DESCRIPTION:
URL:https://www.lacountyfair.com/event/progress-lamb-show-2/
LOCATION:Competition Barn
CATEGORIES:Animal,Competition
END:VEVENT
BEGIN:VEVENT
DTSTART;TZID=America/Los_Angeles:20260517T130000
DTEND;TZID=America/Los_Angeles:20260517T133000
DTSTAMP:20260424T003037
CREATED:20260424T012214Z
LAST-MODIFIED:20260424T012214Z
UID:10003874-1779022800-1779024600@www.lacountyfair.com
SUMMARY:Meet the Animals
DESCRIPTION:
URL:https://www.lacountyfair.com/event/meet-the-animals-68/
LOCATION:The Big Red Barn
CATEGORIES:Animal,Variety
END:VEVENT
BEGIN:VEVENT
DTSTART;TZID=America/Los_Angeles:20260517T133000
DTEND;TZID=America/Los_Angeles:20260517T140000
DTSTAMP:20260424T003037
CREATED:20260424T011929Z
LAST-MODIFIED:20260424T011929Z
UID:10003818-1779024600-1779026400@www.lacountyfair.com
SUMMARY:Cow Milking Demonstrations
DESCRIPTION:
URL:https://www.lacountyfair.com/event/cow-milking-demonstrations-29/
LOCATION:Dairy Parlor
CATEGORIES:Animal,Demonstration
END:VEVENT
BEGIN:VEVENT
DTSTART;TZID=America/Los_Angeles:20260517T140000
DTEND;TZID=America/Los_Angeles:20260517T143000
DTSTAMP:20260424T003037
CREATED:20260424T012011Z
LAST-MODIFIED:20260424T012011Z
UID:10003831-1779026400-1779028200@www.lacountyfair.com
SUMMARY:Barnyard Racing Pig Races
DESCRIPTION:
URL:https://www.lacountyfair.com/event/barnyard-racing-pig-races-123/
LOCATION:The Fields
CATEGORIES:Animal,Variety
END:VEVENT
END:VCALENDAR